BEGIN:VCALENDAR
VERSION:2.0
PRODID:-//เว็บไซต์ศูนย์บริการโลหิตแห่งชาติ - ECPv6.11.2.1//NONSGML v1.0//EN
CALSCALE:GREGORIAN
METHOD:PUBLISH
X-ORIGINAL-URL:https://boo.colorpack.net
X-WR-CALDESC:Events for เว็บไซต์ศูนย์บริการโลหิตแห่งชาติ
REFRESH-INTERVAL;VALUE=DURATION:PT1H
X-Robots-Tag:noindex
X-PUBLISHED-TTL:PT1H
BEGIN:VTIMEZONE
TZID:Asia/Krasnoyarsk
BEGIN:STANDARD
TZOFFSETFROM:+0700
TZOFFSETTO:+0700
TZNAME:+07
DTSTART:20250101T000000
END:STANDARD
END:VTIMEZONE
BEGIN:VTIMEZONE
TZID:Asia/Bangkok
BEGIN:STANDARD
TZOFFSETFROM:+0700
TZOFFSETTO:+0700
TZNAME:+07
DTSTART:20250101T000000
END:STANDARD
END:VTIMEZONE
BEGIN:VEVENT
DTSTART;TZID=Asia/Krasnoyarsk:20251121T130000
DTEND;TZID=Asia/Krasnoyarsk:20251121T150000
DTSTAMP:20260424T000542
CREATED:20251117T023443Z
LAST-MODIFIED:20251118T114106Z
UID:10004338-1763730000-1763737200@boo.colorpack.net
SUMMARY:โรงแรมแมนดาริน โอเรียนเต็ล\, กรุงเทพฯ []
DESCRIPTION:สถานที่เจาะ : Embassy Lane ซอยข้างสถานทูตฝรั่งเศส \nที่อยู่ : 48 ซอยบูรพา ถนนเจริญกรุง 40 แขวงบางรัก เขตบางรัก กรุงเทพฯ 0 2659 9000
URL:https://boo.colorpack.net/event/%e0%b9%82%e0%b8%a3%e0%b8%87%e0%b9%81%e0%b8%a3%e0%b8%a1%e0%b9%81%e0%b8%a1%e0%b8%99%e0%b8%94%e0%b8%b2%e0%b8%a3%e0%b8%b4%e0%b8%99-%e0%b9%82%e0%b8%ad%e0%b9%80%e0%b8%a3%e0%b8%b5%e0%b8%a2%e0%b8%99-4/
LOCATION:โรงแรมแมนดาริน โอเรียนเต็ล\, กรุงเทพฯ\, โรงแรมแมนดาริน โอเรียนเต็ล กรุงเทพ 48 ซอยโอเรียนเต็ล อเวนิว แขวงบางรัก เขตบางรัก กรุงเทพมหานคร 10500
CATEGORIES:ปฏิทินตารางหน่วยเคลื่อนที่
END:VEVENT
BEGIN:VEVENT
DTSTART;TZID=Asia/Bangkok:20250822T130000
DTEND;TZID=Asia/Bangkok:20250822T150000
DTSTAMP:20260424T000542
CREATED:20250817T110141Z
LAST-MODIFIED:20250817T110141Z
UID:10002907-1755867600-1755874800@boo.colorpack.net
SUMMARY:โรงแรมแมนดาริน โอเรียนเต็ล\, กรุงเทพฯ [0K0007]
DESCRIPTION:สถานที่เจาะ : Embassy Lane ซอยข้างสถานทูตฝรั่งเศส \nที่อยู่ : 48 ซอยบูรพา ถนนเจริญกรุง 40 แขวงบางรัก เขตบางรัก กรุงเทพฯ 0 2659 9000
URL:https://boo.colorpack.net/event/%e0%b9%82%e0%b8%a3%e0%b8%87%e0%b9%81%e0%b8%a3%e0%b8%a1%e0%b9%81%e0%b8%a1%e0%b8%99%e0%b8%94%e0%b8%b2%e0%b8%a3%e0%b8%b4%e0%b8%99-%e0%b9%82%e0%b8%ad%e0%b9%80%e0%b8%a3%e0%b8%b5%e0%b8%a2%e0%b8%99-3/
LOCATION:โรงแรมแมนดาริน โอเรียนเต็ล\, กรุงเทพฯ\, โรงแรมแมนดาริน โอเรียนเต็ล กรุงเทพ 48 ซอยโอเรียนเต็ล อเวนิว แขวงบางรัก เขตบางรัก กรุงเทพมหานคร 10500
CATEGORIES:ปฏิทินตารางหน่วยเคลื่อนที่
END:VEVENT
BEGIN:VEVENT
DTSTART;TZID=Asia/Bangkok:20250523T130000
DTEND;TZID=Asia/Bangkok:20250523T150000
DTSTAMP:20260424T000542
CREATED:20250515T095755Z
LAST-MODIFIED:20250515T095755Z
UID:10001856-1748005200-1748012400@boo.colorpack.net
SUMMARY:โรงแรมแมนดาริน โอเรียนเต็ล\, กรุงเทพฯ []
DESCRIPTION:สถานที่เจาะ : Embassy Lane ซอยข้างสถานทูตฝรั่งเศส \nที่อยู่ : 48 ซอยบูรพา ถนนเจริญกรุง 40 แขวงบางรัก เขตบางรัก กรุงเทพฯ 0 2659 9000
URL:https://boo.colorpack.net/event/%e0%b9%82%e0%b8%a3%e0%b8%87%e0%b9%81%e0%b8%a3%e0%b8%a1%e0%b9%81%e0%b8%a1%e0%b8%99%e0%b8%94%e0%b8%b2%e0%b8%a3%e0%b8%b4%e0%b8%99-%e0%b9%82%e0%b8%ad%e0%b9%80%e0%b8%a3%e0%b8%b5%e0%b8%a2%e0%b8%99-2/
LOCATION:โรงแรมแมนดาริน โอเรียนเต็ล\, กรุงเทพฯ\, โรงแรมแมนดาริน โอเรียนเต็ล กรุงเทพ 48 ซอยโอเรียนเต็ล อเวนิว แขวงบางรัก เขตบางรัก กรุงเทพมหานคร 10500
CATEGORIES:ปฏิทินตารางหน่วยเคลื่อนที่
END:VEVENT
BEGIN:VEVENT
DTSTART;TZID=Asia/Bangkok:20250218T130000
DTEND;TZID=Asia/Bangkok:20250218T150000
DTSTAMP:20260424T000542
CREATED:20250216T080919Z
LAST-MODIFIED:20250216T080919Z
UID:10000587-1739883600-1739890800@boo.colorpack.net
SUMMARY:โรงแรมแมนดาริน โอเรียนเต็ล\, กรุงเทพฯ [0K0007]
DESCRIPTION:สถานที่เจาะ : Embassy Lane ซอยข้างสถานทูตฝรั่งเศส \nที่อยู่ : 48 ซอยบูรพา ถนนเจริญกรุง 40 แขวงบางรัก เขตบางรัก กรุงเทพฯ  \nโทร : 0 2659 9000
URL:https://boo.colorpack.net/event/%e0%b9%82%e0%b8%a3%e0%b8%87%e0%b9%81%e0%b8%a3%e0%b8%a1%e0%b9%81%e0%b8%a1%e0%b8%99%e0%b8%94%e0%b8%b2%e0%b8%a3%e0%b8%b4%e0%b8%99-%e0%b9%82%e0%b8%ad%e0%b9%80%e0%b8%a3%e0%b8%b5%e0%b8%a2%e0%b8%99%e0%b9%80/
LOCATION:โรงแรมแมนดาริน โอเรียนเต็ล\, กรุงเทพฯ\, โรงแรมแมนดาริน โอเรียนเต็ล กรุงเทพ 48 ซอยโอเรียนเต็ล อเวนิว แขวงบางรัก เขตบางรัก กรุงเทพมหานคร 10500
CATEGORIES:ปฏิทินตารางหน่วยเคลื่อนที่
END:VEVENT
END:VCALENDAR