BEGIN:VCALENDAR
VERSION:2.0
PRODID:-//เว็บไซต์ศูนย์บริการโลหิตแห่งชาติ - ECPv6.11.2.1//NONSGML v1.0//EN
CALSCALE:GREGORIAN
METHOD:PUBLISH
X-WR-CALNAME:เว็บไซต์ศูนย์บริการโลหิตแห่งชาติ
X-ORIGINAL-URL:https://boo.colorpack.net
X-WR-CALDESC:Events for เว็บไซต์ศูนย์บริการโลหิตแห่งชาติ
REFRESH-INTERVAL;VALUE=DURATION:PT1H
X-Robots-Tag:noindex
X-PUBLISHED-TTL:PT1H
BEGIN:VTIMEZONE
TZID:Asia/Krasnoyarsk
BEGIN:STANDARD
TZOFFSETFROM:+0700
TZOFFSETTO:+0700
TZNAME:+07
DTSTART:20260101T000000
END:STANDARD
END:VTIMEZONE
BEGIN:VTIMEZONE
TZID:Asia/Bangkok
BEGIN:STANDARD
TZOFFSETFROM:+0700
TZOFFSETTO:+0700
TZNAME:+07
DTSTART:20250101T000000
END:STANDARD
END:VTIMEZONE
BEGIN:VEVENT
DTSTART;TZID=Asia/Krasnoyarsk:20260107T090000
DTEND;TZID=Asia/Krasnoyarsk:20260107T150000
DTSTAMP:20260425T174457
CREATED:20260106T123849Z
LAST-MODIFIED:20260106T132518Z
UID:10004992-1767776400-1767798000@boo.colorpack.net
SUMMARY:โรงเรียนเตรียมอุดมศึกษาน้อมเกล้า [0B0314]
DESCRIPTION:สถานที่เจาะ : ห้องประชุมชั้น 3 \nที่อยู่ : 348 ถนนรามคำแหง แขวงสะพานสูง เขตสะพานสูง กรุงเทพฯ 0 2373 1473
URL:https://boo.colorpack.net/event/%e0%b9%82%e0%b8%a3%e0%b8%87%e0%b9%80%e0%b8%a3%e0%b8%b5%e0%b8%a2%e0%b8%99%e0%b9%80%e0%b8%95%e0%b8%a3%e0%b8%b5%e0%b8%a2%e0%b8%a1%e0%b8%ad%e0%b8%b8%e0%b8%94%e0%b8%a1%e0%b8%a8%e0%b8%b6%e0%b8%81%e0%b8%a9-5/
LOCATION:โรงเรียนเตรียมอุดมศึกษาน้อมเกล้า\, โรงเรียนเตรียมอุดมศึกษาน้อมเกล้า 78 ถนนรามคำแหง แขวงราษฎร์พัฒนา เขตสะพานสูง กรุงเทพฯ 10240
CATEGORIES:ปฏิทินตารางหน่วยเคลื่อนที่
END:VEVENT
BEGIN:VEVENT
DTSTART;TZID=Asia/Bangkok:20250702T090000
DTEND;TZID=Asia/Bangkok:20250702T150000
DTSTAMP:20260425T174457
CREATED:20250623T031508Z
LAST-MODIFIED:20250701T104422Z
UID:10002240-1751446800-1751468400@boo.colorpack.net
SUMMARY:โรงเรียนเตรียมอุดมศึกษาน้อมเกล้า []
DESCRIPTION:สถานที่เจาะ : ห้องประชุม ชั้น 3 \nที่อยู่ : 348 ถนนรามคำแหง แขวงสะพานสูง เขตสะพานสูง กรุงเทพฯ 0 2373 1473
URL:https://boo.colorpack.net/event/%e0%b9%82%e0%b8%a3%e0%b8%87%e0%b9%80%e0%b8%a3%e0%b8%b5%e0%b8%a2%e0%b8%99%e0%b9%80%e0%b8%95%e0%b8%a3%e0%b8%b5%e0%b8%a2%e0%b8%a1%e0%b8%ad%e0%b8%b8%e0%b8%94%e0%b8%a1%e0%b8%a8%e0%b8%b6%e0%b8%81%e0%b8%a9-4/
LOCATION:โรงเรียนเตรียมอุดมศึกษาน้อมเกล้า\, โรงเรียนเตรียมอุดมศึกษาน้อมเกล้า 78 ถนนรามคำแหง แขวงราษฎร์พัฒนา เขตสะพานสูง กรุงเทพฯ 10240
CATEGORIES:ปฏิทินตารางหน่วยเคลื่อนที่
END:VEVENT
END:VCALENDAR