BEGIN:VCALENDAR
VERSION:2.0
PRODID:-//เว็บไซต์ศูนย์บริการโลหิตแห่งชาติ - ECPv6.11.2.1//NONSGML v1.0//EN
CALSCALE:GREGORIAN
METHOD:PUBLISH
X-WR-CALNAME:เว็บไซต์ศูนย์บริการโลหิตแห่งชาติ
X-ORIGINAL-URL:https://boo.colorpack.net
X-WR-CALDESC:Events for เว็บไซต์ศูนย์บริการโลหิตแห่งชาติ
REFRESH-INTERVAL;VALUE=DURATION:PT1H
X-Robots-Tag:noindex
X-PUBLISHED-TTL:PT1H
BEGIN:VTIMEZONE
TZID:Asia/Bangkok
BEGIN:STANDARD
TZOFFSETFROM:+0700
TZOFFSETTO:+0700
TZNAME:+07
DTSTART:20250101T000000
END:STANDARD
END:VTIMEZONE
BEGIN:VEVENT
DTSTART;TZID=Asia/Bangkok:20250217T110000
DTEND;TZID=Asia/Bangkok:20250217T150000
DTSTAMP:20260422T021513
CREATED:20250216T080531Z
LAST-MODIFIED:20250216T080531Z
UID:10000559-1739790000-1739804400@boo.colorpack.net
SUMMARY:โรงเรียนสถานศึกษานานาชาติกรุงเทพ [0B0417]
DESCRIPTION:สถานที่เจาะ : ห้อง MPB 3 \nที่อยู่ : 39/7 ซ.นิชดาธานี ถ.สามัคคี ต.บางตลาด อ.ปากเกร็ด นนทบุรี  \nโทร : 0 2963 5800
URL:https://boo.colorpack.net/event/%e0%b9%82%e0%b8%a3%e0%b8%87%e0%b9%80%e0%b8%a3%e0%b8%b5%e0%b8%a2%e0%b8%99%e0%b8%aa%e0%b8%96%e0%b8%b2%e0%b8%99%e0%b8%a8%e0%b8%b6%e0%b8%81%e0%b8%a9%e0%b8%b2%e0%b8%99%e0%b8%b2%e0%b8%99%e0%b8%b2%e0%b8%8a/
LOCATION:โรงเรียนสถานศึกษานานาชาติกรุงเทพ\, โรงเรียนสถานศึกษานานาชาติกรุงเทพ 39/7 ซอยนิชดาธานี อำเภอนนทบุรี นนทบุรี 11120
CATEGORIES:ปฏิทินตารางหน่วยเคลื่อนที่
END:VEVENT
END:VCALENDAR