BEGIN:VCALENDAR
VERSION:2.0
PRODID:-//เว็บไซต์ศูนย์บริการโลหิตแห่งชาติ - ECPv6.11.2.1//NONSGML v1.0//EN
CALSCALE:GREGORIAN
METHOD:PUBLISH
X-ORIGINAL-URL:https://boo.colorpack.net
X-WR-CALDESC:Events for เว็บไซต์ศูนย์บริการโลหิตแห่งชาติ
REFRESH-INTERVAL;VALUE=DURATION:PT1H
X-Robots-Tag:noindex
X-PUBLISHED-TTL:PT1H
BEGIN:VTIMEZONE
TZID:Asia/Krasnoyarsk
BEGIN:STANDARD
TZOFFSETFROM:+0700
TZOFFSETTO:+0700
TZNAME:+07
DTSTART:20260101T000000
END:STANDARD
END:VTIMEZONE
BEGIN:VEVENT
DTSTART;TZID=Asia/Krasnoyarsk:20260112T090000
DTEND;TZID=Asia/Krasnoyarsk:20260112T150000
DTSTAMP:20260421T172230
CREATED:20260106T131650Z
LAST-MODIFIED:20260106T131650Z
UID:10005064-1768208400-1768230000@boo.colorpack.net
SUMMARY:โรงเรียนราชินี [0B0468]
DESCRIPTION:สถานที่เจาะ : หน้าโรงเรียน \nที่อยู่ : 444 ถนนมหาราช แขวงพระบรมมหาราชวัง เขตพระนคร กรุงเทพฯ 0 2221 1501
URL:https://boo.colorpack.net/event/%e0%b9%82%e0%b8%a3%e0%b8%87%e0%b9%80%e0%b8%a3%e0%b8%b5%e0%b8%a2%e0%b8%99%e0%b8%a3%e0%b8%b2%e0%b8%8a%e0%b8%b4%e0%b8%99%e0%b8%b5-0b0468/
LOCATION:โรงเรียนราชินี\, โรงเรียนราชินี 444 ถนนมหาราช แขวงพระบรมมหาราชวัง เขตพระนคร กรุงเทพฯ
CATEGORIES:ปฏิทินตารางหน่วยเคลื่อนที่
END:VEVENT
END:VCALENDAR