BEGIN:VCALENDAR
VERSION:2.0
PRODID:-//เว็บไซต์ศูนย์บริการโลหิตแห่งชาติ - ECPv6.11.2.1//NONSGML v1.0//EN
CALSCALE:GREGORIAN
METHOD:PUBLISH
X-ORIGINAL-URL:https://boo.colorpack.net
X-WR-CALDESC:Events for เว็บไซต์ศูนย์บริการโลหิตแห่งชาติ
REFRESH-INTERVAL;VALUE=DURATION:PT1H
X-Robots-Tag:noindex
X-PUBLISHED-TTL:PT1H
BEGIN:VTIMEZONE
TZID:Asia/Krasnoyarsk
BEGIN:STANDARD
TZOFFSETFROM:+0700
TZOFFSETTO:+0700
TZNAME:+07
DTSTART:20250101T000000
END:STANDARD
END:VTIMEZONE
BEGIN:VEVENT
DTSTART;TZID=Asia/Krasnoyarsk:20251108T120000
DTEND;TZID=Asia/Krasnoyarsk:20251108T120000
DTSTAMP:20260422T092027
CREATED:20251104T074304Z
LAST-MODIFIED:20251104T074304Z
UID:10004035-1762603200-1762603200@boo.colorpack.net
SUMMARY:โรงเรียนซางตาครู้สคอนแวนท์ [โรงเรียนซางตาครู้สคอนแวนท์]
DESCRIPTION:สถานที่เจาะ : 146 ถนนเทศบาลสาย 1 \nที่อยู่ : แขวงวัดกัลยาณ์ เขตธนบุรี กรุงเทพฯ 0 2465 0954
URL:https://boo.colorpack.net/event/%e0%b9%82%e0%b8%a3%e0%b8%87%e0%b9%80%e0%b8%a3%e0%b8%b5%e0%b8%a2%e0%b8%99%e0%b8%8b%e0%b8%b2%e0%b8%87%e0%b8%95%e0%b8%b2%e0%b8%84%e0%b8%a3%e0%b8%b9%e0%b9%89%e0%b8%aa%e0%b8%84%e0%b8%ad%e0%b8%99%e0%b9%81/
LOCATION:โรงเรียนซางตาครู้สคอนแวนท์\, 146 ซอยกุฎีจีน แขวงวัดกัลยา เขตธนบุรี กรุงเทพมหานคร 10600 0.35416666666667
CATEGORIES:ปฏิทินตารางหน่วยเคลื่อนที่
END:VEVENT
END:VCALENDAR