BEGIN:VCALENDAR
VERSION:2.0
PRODID:-//เว็บไซต์ศูนย์บริการโลหิตแห่งชาติ - ECPv6.11.2.1//NONSGML v1.0//EN
CALSCALE:GREGORIAN
METHOD:PUBLISH
X-ORIGINAL-URL:https://boo.colorpack.net
X-WR-CALDESC:Events for เว็บไซต์ศูนย์บริการโลหิตแห่งชาติ
REFRESH-INTERVAL;VALUE=DURATION:PT1H
X-Robots-Tag:noindex
X-PUBLISHED-TTL:PT1H
BEGIN:VTIMEZONE
TZID:Asia/Krasnoyarsk
BEGIN:STANDARD
TZOFFSETFROM:+0700
TZOFFSETTO:+0700
TZNAME:+07
DTSTART:20250101T000000
END:STANDARD
END:VTIMEZONE
BEGIN:VTIMEZONE
TZID:Asia/Bangkok
BEGIN:STANDARD
TZOFFSETFROM:+0700
TZOFFSETTO:+0700
TZNAME:+07
DTSTART:20250101T000000
END:STANDARD
END:VTIMEZONE
BEGIN:VEVENT
DTSTART;TZID=Asia/Krasnoyarsk:20251215T120000
DTEND;TZID=Asia/Krasnoyarsk:20251215T150000
DTSTAMP:20260423T174751
CREATED:20251208T073615Z
LAST-MODIFIED:20251208T073615Z
UID:10004695-1765800000-1765810800@boo.colorpack.net
SUMMARY:โรงพยาบาลเซนต์หลุยส์ []
DESCRIPTION:สถานที่เจาะ : ด้านหน้าอาคารปิยะการุญ \nที่อยู่ : 27 ถนนสาทรใต้ แขวงยานนาวา เขตสาทร กรุงเทพฯ 0 2838 5555
URL:https://boo.colorpack.net/event/%e0%b9%82%e0%b8%a3%e0%b8%87%e0%b8%9e%e0%b8%a2%e0%b8%b2%e0%b8%9a%e0%b8%b2%e0%b8%a5%e0%b9%80%e0%b8%8b%e0%b8%99%e0%b8%95%e0%b9%8c%e0%b8%ab%e0%b8%a5%e0%b8%b8%e0%b8%a2%e0%b8%aa%e0%b9%8c-2/
LOCATION:โรงพยาบาลเซนต์หลุยส์\, โรงพยาบาลเซนต์หลุยส์ 27 ถนนสาทรใต้ แขวงยานนาวา เขตสาทร กรุงเทพฯ 10120
CATEGORIES:ปฏิทินตารางหน่วยเคลื่อนที่
END:VEVENT
BEGIN:VEVENT
DTSTART;TZID=Asia/Bangkok:20250917T120000
DTEND;TZID=Asia/Bangkok:20250917T150000
DTSTAMP:20260423T174751
CREATED:20250908T064759Z
LAST-MODIFIED:20250908T064759Z
UID:10003264-1758110400-1758121200@boo.colorpack.net
SUMMARY:โรงพยาบาลเซนต์หลุยส์ [0D0232]
DESCRIPTION:สถานที่เจาะ : ด้านหน้าอาคารปิยะการุญ \nที่อยู่ : 27 ถนนสาทรใต้ แขวงยานนาวา เขตสาทร กรุงเทพฯ 0 2838 5555
URL:https://boo.colorpack.net/event/%e0%b9%82%e0%b8%a3%e0%b8%87%e0%b8%9e%e0%b8%a2%e0%b8%b2%e0%b8%9a%e0%b8%b2%e0%b8%a5%e0%b9%80%e0%b8%8b%e0%b8%99%e0%b8%95%e0%b9%8c%e0%b8%ab%e0%b8%a5%e0%b8%b8%e0%b8%a2%e0%b8%aa%e0%b9%8c-0d0232-2/
LOCATION:โรงพยาบาลเซนต์หลุยส์\, โรงพยาบาลเซนต์หลุยส์ 27 ถนนสาทรใต้ แขวงยานนาวา เขตสาทร กรุงเทพฯ 10120
CATEGORIES:ปฏิทินตารางหน่วยเคลื่อนที่
END:VEVENT
BEGIN:VEVENT
DTSTART;TZID=Asia/Bangkok:20250618T120000
DTEND;TZID=Asia/Bangkok:20250618T150000
DTSTAMP:20260423T174751
CREATED:20250612T090829Z
LAST-MODIFIED:20250619T031809Z
UID:10002140-1750248000-1750258800@boo.colorpack.net
SUMMARY:โรงพยาบาลเซนต์หลุยส์ []
DESCRIPTION:สถานที่เจาะ : ด้านหน้าอาคารปิยะการุญ \nที่อยู่ : 27 ถนนสาทรใต้ แขวงยานนาวา เขตสาทร กรุงเทพฯ 0 2838 5555
URL:https://boo.colorpack.net/event/%e0%b9%82%e0%b8%a3%e0%b8%87%e0%b8%9e%e0%b8%a2%e0%b8%b2%e0%b8%9a%e0%b8%b2%e0%b8%a5%e0%b9%80%e0%b8%8b%e0%b8%99%e0%b8%95%e0%b9%8c%e0%b8%ab%e0%b8%a5%e0%b8%b8%e0%b8%a2%e0%b8%aa%e0%b9%8c/
LOCATION:โรงพยาบาลเซนต์หลุยส์\, โรงพยาบาลเซนต์หลุยส์ 27 ถนนสาทรใต้ แขวงยานนาวา เขตสาทร กรุงเทพฯ 10120
CATEGORIES:ปฏิทินตารางหน่วยเคลื่อนที่
END:VEVENT
BEGIN:VEVENT
DTSTART;TZID=Asia/Bangkok:20250319T120000
DTEND;TZID=Asia/Bangkok:20250319T150000
DTSTAMP:20260423T174751
CREATED:20250315T041146Z
LAST-MODIFIED:20250315T041146Z
UID:10000953-1742385600-1742396400@boo.colorpack.net
SUMMARY:โรงพยาบาลเซนต์หลุยส์ [0D0232]
DESCRIPTION:สถานที่เจาะ : ด้านหน้าอาคารปิยะการุญ \nที่อยู่ : 27 ถนนสาทรใต้ แขวงยานนาวา เขตสาทร กรุงเทพฯ 0 2838 5555
URL:https://boo.colorpack.net/event/%e0%b9%82%e0%b8%a3%e0%b8%87%e0%b8%9e%e0%b8%a2%e0%b8%b2%e0%b8%9a%e0%b8%b2%e0%b8%a5%e0%b9%80%e0%b8%8b%e0%b8%99%e0%b8%95%e0%b9%8c%e0%b8%ab%e0%b8%a5%e0%b8%b8%e0%b8%a2%e0%b8%aa%e0%b9%8c-0d0232/
LOCATION:โรงพยาบาลเซนต์หลุยส์\, โรงพยาบาลเซนต์หลุยส์ 27 ถนนสาทรใต้ แขวงยานนาวา เขตสาทร กรุงเทพฯ 10120
CATEGORIES:ปฏิทินตารางหน่วยเคลื่อนที่
END:VEVENT
END:VCALENDAR