BEGIN:VCALENDAR
VERSION:2.0
PRODID:-//เว็บไซต์ศูนย์บริการโลหิตแห่งชาติ - ECPv6.11.2.1//NONSGML v1.0//EN
CALSCALE:GREGORIAN
METHOD:PUBLISH
X-ORIGINAL-URL:https://boo.colorpack.net
X-WR-CALDESC:Events for เว็บไซต์ศูนย์บริการโลหิตแห่งชาติ
REFRESH-INTERVAL;VALUE=DURATION:PT1H
X-Robots-Tag:noindex
X-PUBLISHED-TTL:PT1H
BEGIN:VTIMEZONE
TZID:Asia/Krasnoyarsk
BEGIN:STANDARD
TZOFFSETFROM:+0700
TZOFFSETTO:+0700
TZNAME:+07
DTSTART:20250101T000000
END:STANDARD
END:VTIMEZONE
BEGIN:VTIMEZONE
TZID:Asia/Bangkok
BEGIN:STANDARD
TZOFFSETFROM:+0700
TZOFFSETTO:+0700
TZNAME:+07
DTSTART:20250101T000000
END:STANDARD
END:VTIMEZONE
BEGIN:VEVENT
DTSTART;TZID=Asia/Krasnoyarsk:20251111T090000
DTEND;TZID=Asia/Krasnoyarsk:20251111T150000
DTSTAMP:20260422T125644
CREATED:20251111T045959Z
LAST-MODIFIED:20251111T045959Z
UID:10004200-1762851600-1762873200@boo.colorpack.net
SUMMARY:โรงพยาบาลยันฮี []
DESCRIPTION:สถานที่เจาะ : ห้องประชุมชั้น 2 \nที่อยู่ : 454 ปากซอยจรัญสนิทวงศ์ 90 แขวงบางอ้อ เขตบางพลัด กรุงเทพฯ  \nโทร : 0 2879 0300
URL:https://boo.colorpack.net/event/%e0%b9%82%e0%b8%a3%e0%b8%87%e0%b8%9e%e0%b8%a2%e0%b8%b2%e0%b8%9a%e0%b8%b2%e0%b8%a5%e0%b8%a2%e0%b8%b1%e0%b8%99%e0%b8%ae%e0%b8%b5-2/
LOCATION:โรงพยาบาลยันฮี\, โรงพยาบาลยันฮี 454 ถนนจรัญสนิทวงศ์ แขวงบางอ้อ เขตบางพลัด กรุงเทพมหานคร 10700
CATEGORIES:ปฏิทินตารางหน่วยเคลื่อนที่
END:VEVENT
BEGIN:VEVENT
DTSTART;TZID=Asia/Bangkok:20250717T090000
DTEND;TZID=Asia/Bangkok:20250717T150000
DTSTAMP:20260422T125644
CREATED:20250716T114154Z
LAST-MODIFIED:20250716T114154Z
UID:10002579-1752742800-1752764400@boo.colorpack.net
SUMMARY:โรงพยาบาลยันฮี []
DESCRIPTION:สถานที่เจาะ : ห้องประชุมชั้น 2 \nที่อยู่ : 454 ปากซอยจรัญสนิทวงศ์ 90 แขวงบางอ้อ เขตบางพลัด กรุงเทพฯ 0 2879 0300
URL:https://boo.colorpack.net/event/%e0%b9%82%e0%b8%a3%e0%b8%87%e0%b8%9e%e0%b8%a2%e0%b8%b2%e0%b8%9a%e0%b8%b2%e0%b8%a5%e0%b8%a2%e0%b8%b1%e0%b8%99%e0%b8%ae%e0%b8%b5/
LOCATION:โรงพยาบาลยันฮี\, โรงพยาบาลยันฮี 454 ถนนจรัญสนิทวงศ์ แขวงบางอ้อ เขตบางพลัด กรุงเทพมหานคร 10700
CATEGORIES:ปฏิทินตารางหน่วยเคลื่อนที่
END:VEVENT
BEGIN:VEVENT
DTSTART;TZID=Asia/Bangkok:20250311T090000
DTEND;TZID=Asia/Bangkok:20250311T150000
DTSTAMP:20260422T125644
CREATED:20250309T132254Z
LAST-MODIFIED:20250309T132254Z
UID:10000812-1741683600-1741705200@boo.colorpack.net
SUMMARY:โรงพยาบาลยันฮี [0D0415]
DESCRIPTION:สถานที่เจาะ : ห้องประชุมชั้น 2 (12.00-13.00 น.) \nที่อยู่ : 454 ปากซอยจรัญสนิทวงศ์ 90 แขวงบางอ้อ เขตบางพลัด กรุงเทพฯ 0 2879 0300
URL:https://boo.colorpack.net/event/%e0%b9%82%e0%b8%a3%e0%b8%87%e0%b8%9e%e0%b8%a2%e0%b8%b2%e0%b8%9a%e0%b8%b2%e0%b8%a5%e0%b8%a2%e0%b8%b1%e0%b8%99%e0%b8%ae%e0%b8%b5-0d0415/
LOCATION:โรงพยาบาลยันฮี\, โรงพยาบาลยันฮี 454 ถนนจรัญสนิทวงศ์ แขวงบางอ้อ เขตบางพลัด กรุงเทพมหานคร 10700
CATEGORIES:ปฏิทินตารางหน่วยเคลื่อนที่
END:VEVENT
END:VCALENDAR