BEGIN:VCALENDAR
VERSION:2.0
PRODID:-//เว็บไซต์ศูนย์บริการโลหิตแห่งชาติ - ECPv6.11.2.1//NONSGML v1.0//EN
CALSCALE:GREGORIAN
METHOD:PUBLISH
X-ORIGINAL-URL:https://boo.colorpack.net
X-WR-CALDESC:Events for เว็บไซต์ศูนย์บริการโลหิตแห่งชาติ
REFRESH-INTERVAL;VALUE=DURATION:PT1H
X-Robots-Tag:noindex
X-PUBLISHED-TTL:PT1H
BEGIN:VTIMEZONE
TZID:Asia/Krasnoyarsk
BEGIN:STANDARD
TZOFFSETFROM:+0700
TZOFFSETTO:+0700
TZNAME:+07
DTSTART:20250101T000000
END:STANDARD
END:VTIMEZONE
BEGIN:VTIMEZONE
TZID:Asia/Bangkok
BEGIN:STANDARD
TZOFFSETFROM:+0700
TZOFFSETTO:+0700
TZNAME:+07
DTSTART:20250101T000000
END:STANDARD
END:VTIMEZONE
BEGIN:VEVENT
DTSTART;TZID=Asia/Krasnoyarsk:20260130T090000
DTEND;TZID=Asia/Krasnoyarsk:20260130T150000
DTSTAMP:20260420T222347
CREATED:20260127T115450Z
LAST-MODIFIED:20260127T115450Z
UID:10005322-1769763600-1769785200@boo.colorpack.net
SUMMARY:โรงพยาบาลบางปะกอก 8 []
DESCRIPTION:สถานที่เจาะ : หน้าอาคาร 2 (พัก 11.00-12.00 น.) \nที่อยู่ : 1055 ถนนเอกชัยบางบอน แขวงคลองบางบอน เขตบางบอน กรุงเทพฯ
URL:https://boo.colorpack.net/event/%e0%b9%82%e0%b8%a3%e0%b8%87%e0%b8%9e%e0%b8%a2%e0%b8%b2%e0%b8%9a%e0%b8%b2%e0%b8%a5%e0%b8%9a%e0%b8%b2%e0%b8%87%e0%b8%9b%e0%b8%b0%e0%b8%81%e0%b8%ad%e0%b8%81-8-3/
LOCATION:โรงพยาบาลบางปะกอก 8\, โรงพยาบาลบางปะกอก 8 1055 ถนนเอกชัย แขวงคลองบางบอน เขตบางบอน กรุงเทพมหานคร 10150
CATEGORIES:ปฏิทินตารางหน่วยเคลื่อนที่
END:VEVENT
BEGIN:VEVENT
DTSTART;TZID=Asia/Krasnoyarsk:20251030T150000
DTEND;TZID=Asia/Krasnoyarsk:20251030T150000
DTSTAMP:20260420T222347
CREATED:20251017T045250Z
LAST-MODIFIED:20251017T045250Z
UID:10003831-1761836400-1761836400@boo.colorpack.net
SUMMARY:โรงพยาบาลบางปะกอก 8 [โรงพยาบาลบางปะกอก 8]
DESCRIPTION:สถานที่เจาะ : 1055 ถนนเอกชัยบางบอน \nที่อยู่ : แขวงคลองบางบอน เขตบางบอน กรุงเทพฯ
URL:https://boo.colorpack.net/event/%e0%b9%82%e0%b8%a3%e0%b8%87%e0%b8%9e%e0%b8%a2%e0%b8%b2%e0%b8%9a%e0%b8%b2%e0%b8%a5%e0%b8%9a%e0%b8%b2%e0%b8%87%e0%b8%9b%e0%b8%b0%e0%b8%81%e0%b8%ad%e0%b8%81-8-%e0%b9%82%e0%b8%a3%e0%b8%87%e0%b8%9e/
LOCATION:โรงพยาบาลบางปะกอก 8\, โรงพยาบาลบางปะกอก 8 1055 ถนนเอกชัย แขวงคลองบางบอน เขตบางบอน กรุงเทพมหานคร 10150
CATEGORIES:ปฏิทินตารางหน่วยเคลื่อนที่
END:VEVENT
BEGIN:VEVENT
DTSTART;TZID=Asia/Bangkok:20250730T090000
DTEND;TZID=Asia/Bangkok:20250730T150000
DTSTAMP:20260420T222347
CREATED:20250716T111618Z
LAST-MODIFIED:20250716T111618Z
UID:10002539-1753866000-1753887600@boo.colorpack.net
SUMMARY:โรงพยาบาลบางปะกอก 8 []
DESCRIPTION:สถานที่เจาะ : หน้าอาคาร 2 (พัก 11-12 น.) \nที่อยู่ : 1055 ถนนเอกชัยบางบอน แขวงคลองบางบอน เขตบางบอน กรุงเทพฯ
URL:https://boo.colorpack.net/event/%e0%b9%82%e0%b8%a3%e0%b8%87%e0%b8%9e%e0%b8%a2%e0%b8%b2%e0%b8%9a%e0%b8%b2%e0%b8%a5%e0%b8%9a%e0%b8%b2%e0%b8%87%e0%b8%9b%e0%b8%b0%e0%b8%81%e0%b8%ad%e0%b8%81-8-2/
LOCATION:โรงพยาบาลบางปะกอก 8\, โรงพยาบาลบางปะกอก 8 1055 ถนนเอกชัย แขวงคลองบางบอน เขตบางบอน กรุงเทพมหานคร 10150
CATEGORIES:ปฏิทินตารางหน่วยเคลื่อนที่
END:VEVENT
BEGIN:VEVENT
DTSTART;TZID=Asia/Bangkok:20250430T090000
DTEND;TZID=Asia/Bangkok:20250430T150000
DTSTAMP:20260420T222347
CREATED:20250424T065025Z
LAST-MODIFIED:20250424T065025Z
UID:10001540-1746003600-1746025200@boo.colorpack.net
SUMMARY:โรงพยาบาลบางปะกอก 8 []
DESCRIPTION:สถานที่เจาะ : หน้าอาคาร 2 (พัก 11-12 น.) \nที่อยู่ : 1055 ถนนเอกชัยบางบอน แขวงคลองบางบอน เขตบางบอน กรุงเทพฯ
URL:https://boo.colorpack.net/event/%e0%b9%82%e0%b8%a3%e0%b8%87%e0%b8%9e%e0%b8%a2%e0%b8%b2%e0%b8%9a%e0%b8%b2%e0%b8%a5%e0%b8%9a%e0%b8%b2%e0%b8%87%e0%b8%9b%e0%b8%b0%e0%b8%81%e0%b8%ad%e0%b8%81-8/
LOCATION:โรงพยาบาลบางปะกอก 8\, โรงพยาบาลบางปะกอก 8 1055 ถนนเอกชัย แขวงคลองบางบอน เขตบางบอน กรุงเทพมหานคร 10150
CATEGORIES:ปฏิทินตารางหน่วยเคลื่อนที่
END:VEVENT
BEGIN:VEVENT
DTSTART;TZID=Asia/Bangkok:20250331T090000
DTEND;TZID=Asia/Bangkok:20250331T150000
DTSTAMP:20260420T222347
CREATED:20250328T030731Z
LAST-MODIFIED:20250328T030731Z
UID:10001104-1743411600-1743433200@boo.colorpack.net
SUMMARY:โรงพยาบาลบางปะกอก 8 [0D0531]
DESCRIPTION:สถานที่เจาะ : หน้าอาคาร 2 (พัก 11.00-12.00 น.) \nที่อยู่ : 1055 ถนนเอกชัยบางบอน แขวงคลองบางบอน เขตบางบอน กรุงเทพฯ
URL:https://boo.colorpack.net/event/%e0%b9%82%e0%b8%a3%e0%b8%87%e0%b8%9e%e0%b8%a2%e0%b8%b2%e0%b8%9a%e0%b8%b2%e0%b8%a5%e0%b8%9a%e0%b8%b2%e0%b8%87%e0%b8%9b%e0%b8%b0%e0%b8%81%e0%b8%ad%e0%b8%81-8-0d0531/
LOCATION:โรงพยาบาลบางปะกอก 8\, โรงพยาบาลบางปะกอก 8 1055 ถนนเอกชัย แขวงคลองบางบอน เขตบางบอน กรุงเทพมหานคร 10150
CATEGORIES:ปฏิทินตารางหน่วยเคลื่อนที่
END:VEVENT
END:VCALENDAR