BEGIN:VCALENDAR
VERSION:2.0
PRODID:-//เว็บไซต์ศูนย์บริการโลหิตแห่งชาติ - ECPv6.11.2.1//NONSGML v1.0//EN
CALSCALE:GREGORIAN
METHOD:PUBLISH
X-WR-CALNAME:เว็บไซต์ศูนย์บริการโลหิตแห่งชาติ
X-ORIGINAL-URL:https://boo.colorpack.net
X-WR-CALDESC:Events for เว็บไซต์ศูนย์บริการโลหิตแห่งชาติ
REFRESH-INTERVAL;VALUE=DURATION:PT1H
X-Robots-Tag:noindex
X-PUBLISHED-TTL:PT1H
BEGIN:VTIMEZONE
TZID:Asia/Krasnoyarsk
BEGIN:STANDARD
TZOFFSETFROM:+0700
TZOFFSETTO:+0700
TZNAME:+07
DTSTART:20250101T000000
END:STANDARD
END:VTIMEZONE
BEGIN:VTIMEZONE
TZID:Asia/Bangkok
BEGIN:STANDARD
TZOFFSETFROM:+0700
TZOFFSETTO:+0700
TZNAME:+07
DTSTART:20250101T000000
END:STANDARD
END:VTIMEZONE
BEGIN:VEVENT
DTSTART;TZID=Asia/Krasnoyarsk:20251120T090000
DTEND;TZID=Asia/Krasnoyarsk:20251120T150000
DTSTAMP:20260421T015020
CREATED:20251117T023259Z
LAST-MODIFIED:20251117T023259Z
UID:10004323-1763629200-1763650800@boo.colorpack.net
SUMMARY:โรงพยาบาลนวมินทร์ 9 []
DESCRIPTION:สถานที่เจาะ : ทางเข้าด้านข้างเซเว่น อาคารพลาซ่า (พัก 12.00-13.00 น.) \nที่อยู่ : 96 ถนนสีหบุรานุกิจ แขวงมีนบุรี เขตมีนบุรี กรุงเทพฯ 0 2518 1818
URL:https://boo.colorpack.net/event/%e0%b9%82%e0%b8%a3%e0%b8%87%e0%b8%9e%e0%b8%a2%e0%b8%b2%e0%b8%9a%e0%b8%b2%e0%b8%a5%e0%b8%99%e0%b8%a7%e0%b8%a1%e0%b8%b4%e0%b8%99%e0%b8%97%e0%b8%a3%e0%b9%8c-9-2/
LOCATION:โรงพยาบาลนวมินทร์ 9\, โรงพยาบาลนวมินทร์ 9 96 ถ.สีหบุรานุกิจ แขวงมีนบุรี เขตมีนบุรี กรุงเทพมหานคร 10510
CATEGORIES:ปฏิทินตารางหน่วยเคลื่อนที่
END:VEVENT
BEGIN:VEVENT
DTSTART;TZID=Asia/Bangkok:20250821T090000
DTEND;TZID=Asia/Bangkok:20250821T150000
DTSTAMP:20260421T015020
CREATED:20250819T134752Z
LAST-MODIFIED:20250819T134752Z
UID:10002959-1755766800-1755788400@boo.colorpack.net
SUMMARY:โรงพยาบาลนวมินทร์ 9 [0D0508]
DESCRIPTION:สถานที่เจาะ : ทางเข้าด้านข้างเซเว่น อาคารพลาซ่า (พัก 12-13 น.) \nที่อยู่ : 96 ถนนสีหบุรานุกิจ แขวงมีนบุรี เขตมีนบุรี กรุงเทพฯ 0 2518 1818
URL:https://boo.colorpack.net/event/%e0%b9%82%e0%b8%a3%e0%b8%87%e0%b8%9e%e0%b8%a2%e0%b8%b2%e0%b8%9a%e0%b8%b2%e0%b8%a5%e0%b8%99%e0%b8%a7%e0%b8%a1%e0%b8%b4%e0%b8%99%e0%b8%97%e0%b8%a3%e0%b9%8c-9-0d0508-2/
LOCATION:โรงพยาบาลนวมินทร์ 9\, โรงพยาบาลนวมินทร์ 9 96 ถ.สีหบุรานุกิจ แขวงมีนบุรี เขตมีนบุรี กรุงเทพมหานคร 10510
CATEGORIES:ปฏิทินตารางหน่วยเคลื่อนที่
END:VEVENT
BEGIN:VEVENT
DTSTART;TZID=Asia/Bangkok:20250522T090000
DTEND;TZID=Asia/Bangkok:20250522T150000
DTSTAMP:20260421T015020
CREATED:20250515T095529Z
LAST-MODIFIED:20250515T095529Z
UID:10001837-1747904400-1747926000@boo.colorpack.net
SUMMARY:โรงพยาบาลนวมินทร์ 9 []
DESCRIPTION:สถานที่เจาะ : ทางเข้าด้านข้างเซเว่น อาคารพลาซ่า (พัก 12-13 น.) \nที่อยู่ : 96 ถนนสีหบุรานุกิจ แขวงมีนบุรี เขตมีนบุรี กรุงเทพฯ 0 2518 1818
URL:https://boo.colorpack.net/event/%e0%b9%82%e0%b8%a3%e0%b8%87%e0%b8%9e%e0%b8%a2%e0%b8%b2%e0%b8%9a%e0%b8%b2%e0%b8%a5%e0%b8%99%e0%b8%a7%e0%b8%a1%e0%b8%b4%e0%b8%99%e0%b8%97%e0%b8%a3%e0%b9%8c-9/
LOCATION:โรงพยาบาลนวมินทร์ 9\, โรงพยาบาลนวมินทร์ 9 96 ถ.สีหบุรานุกิจ แขวงมีนบุรี เขตมีนบุรี กรุงเทพมหานคร 10510
CATEGORIES:ปฏิทินตารางหน่วยเคลื่อนที่
END:VEVENT
BEGIN:VEVENT
DTSTART;TZID=Asia/Bangkok:20250219T090000
DTEND;TZID=Asia/Bangkok:20250219T150000
DTSTAMP:20260421T015020
CREATED:20250216T081734Z
LAST-MODIFIED:20250216T081734Z
UID:10000606-1739955600-1739977200@boo.colorpack.net
SUMMARY:โรงพยาบาลนวมินทร์ 9 [0D0508]
DESCRIPTION:สถานที่เจาะ : ทางเข้าด้านข้างเซเว่น อาคารพลาซ่า (พัก 12.00-13.00 น.) \nที่อยู่ : 96 ถนนสีหบุรานุกิจ แขวงมีนบุรี เขตมีนบุรี กรุงเทพฯ  \nโทร : 0 2518 1818
URL:https://boo.colorpack.net/event/%e0%b9%82%e0%b8%a3%e0%b8%87%e0%b8%9e%e0%b8%a2%e0%b8%b2%e0%b8%9a%e0%b8%b2%e0%b8%a5%e0%b8%99%e0%b8%a7%e0%b8%a1%e0%b8%b4%e0%b8%99%e0%b8%97%e0%b8%a3%e0%b9%8c-9-0d0508/
LOCATION:โรงพยาบาลนวมินทร์ 9\, โรงพยาบาลนวมินทร์ 9 96 ถ.สีหบุรานุกิจ แขวงมีนบุรี เขตมีนบุรี กรุงเทพมหานคร 10510
CATEGORIES:ปฏิทินตารางหน่วยเคลื่อนที่
END:VEVENT
END:VCALENDAR