BEGIN:VCALENDAR
VERSION:2.0
PRODID:-//เว็บไซต์ศูนย์บริการโลหิตแห่งชาติ - ECPv6.11.2.1//NONSGML v1.0//EN
CALSCALE:GREGORIAN
METHOD:PUBLISH
X-WR-CALNAME:เว็บไซต์ศูนย์บริการโลหิตแห่งชาติ
X-ORIGINAL-URL:https://boo.colorpack.net
X-WR-CALDESC:Events for เว็บไซต์ศูนย์บริการโลหิตแห่งชาติ
REFRESH-INTERVAL;VALUE=DURATION:PT1H
X-Robots-Tag:noindex
X-PUBLISHED-TTL:PT1H
BEGIN:VTIMEZONE
TZID:Asia/Krasnoyarsk
BEGIN:STANDARD
TZOFFSETFROM:+0700
TZOFFSETTO:+0700
TZNAME:+07
DTSTART:20250101T000000
END:STANDARD
END:VTIMEZONE
BEGIN:VTIMEZONE
TZID:Asia/Bangkok
BEGIN:STANDARD
TZOFFSETFROM:+0700
TZOFFSETTO:+0700
TZNAME:+07
DTSTART:20250101T000000
END:STANDARD
END:VTIMEZONE
BEGIN:VEVENT
DTSTART;TZID=Asia/Krasnoyarsk:20260206T110000
DTEND;TZID=Asia/Krasnoyarsk:20260206T150000
DTSTAMP:20260422T073454
CREATED:20260204T115049Z
LAST-MODIFIED:20260204T120840Z
UID:10005423-1770375600-1770390000@boo.colorpack.net
SUMMARY:เซ็นทรัลเวิลด์ []
DESCRIPTION:สถานที่เจาะ : at workชั้น 3 centralwOrld Office \nที่อยู่ : 999/9 ถนนพระราม 1 แขวงปทุมวัน เขตปทุมวัน กรุงเทพฯ
URL:https://boo.colorpack.net/event/%e0%b9%80%e0%b8%8b%e0%b9%87%e0%b8%99%e0%b8%97%e0%b8%a3%e0%b8%b1%e0%b8%a5%e0%b9%80%e0%b8%a7%e0%b8%b4%e0%b8%a5%e0%b8%94%e0%b9%8c-2/
LOCATION:เซ็นทรัลเวิลด์
CATEGORIES:ปฏิทินตารางหน่วยเคลื่อนที่
END:VEVENT
BEGIN:VEVENT
DTSTART;TZID=Asia/Krasnoyarsk:20251107T150000
DTEND;TZID=Asia/Krasnoyarsk:20251107T150000
DTSTAMP:20260422T073454
CREATED:20251104T074119Z
LAST-MODIFIED:20251104T074119Z
UID:10004016-1762527600-1762527600@boo.colorpack.net
SUMMARY:เซ็นทรัลเวิลด์ [เซ็นทรัลเวิลด์]
DESCRIPTION:สถานที่เจาะ : 999/9 ถนนพระราม 1 \nที่อยู่ : แขวงปทุมวัน เขตปทุมวัน กรุงเทพฯ
URL:https://boo.colorpack.net/event/%e0%b9%80%e0%b8%8b%e0%b9%87%e0%b8%99%e0%b8%97%e0%b8%a3%e0%b8%b1%e0%b8%a5%e0%b9%80%e0%b8%a7%e0%b8%b4%e0%b8%a5%e0%b8%94%e0%b9%8c-%e0%b9%80%e0%b8%8b%e0%b9%87%e0%b8%99%e0%b8%97%e0%b8%a3%e0%b8%b1%e0%b8%a5/
LOCATION:เซ็นทรัลเวิลด์
CATEGORIES:ปฏิทินตารางหน่วยเคลื่อนที่
END:VEVENT
BEGIN:VEVENT
DTSTART;TZID=Asia/Bangkok:20250808T110000
DTEND;TZID=Asia/Bangkok:20250808T150000
DTSTAMP:20260422T073454
CREATED:20250801T040947Z
LAST-MODIFIED:20250801T040947Z
UID:10002725-1754650800-1754665200@boo.colorpack.net
SUMMARY:เซ็นทรัลเวิลด์ [0M0273]
DESCRIPTION:สถานที่เจาะ : at workชั้น 3 centralwOrld Office \nที่อยู่ : 999/9 ถนนพระราม 1 แขวงปทุมวัน เขตปทุมวัน กรุงเทพฯ
URL:https://boo.colorpack.net/event/%e0%b9%80%e0%b8%8b%e0%b9%87%e0%b8%99%e0%b8%97%e0%b8%a3%e0%b8%b1%e0%b8%a5%e0%b9%80%e0%b8%a7%e0%b8%b4%e0%b8%a5%e0%b8%94%e0%b9%8c-0m0273-2/
LOCATION:เซ็นทรัลเวิลด์
CATEGORIES:ปฏิทินตารางหน่วยเคลื่อนที่
END:VEVENT
BEGIN:VEVENT
DTSTART;TZID=Asia/Bangkok:20250509T110000
DTEND;TZID=Asia/Bangkok:20250509T150000
DTSTAMP:20260422T073454
CREATED:20250507T100507Z
LAST-MODIFIED:20250507T100507Z
UID:10001660-1746788400-1746802800@boo.colorpack.net
SUMMARY:เซ็นทรัลเวิลด์ []
DESCRIPTION:สถานที่เจาะ : at workชั้น 3 centralwOrld Office \nที่อยู่ : 999/9 ถนนพระราม 1 แขวงปทุมวัน เขตปทุมวัน กรุงเทพฯ
URL:https://boo.colorpack.net/event/%e0%b9%80%e0%b8%8b%e0%b9%87%e0%b8%99%e0%b8%97%e0%b8%a3%e0%b8%b1%e0%b8%a5%e0%b9%80%e0%b8%a7%e0%b8%b4%e0%b8%a5%e0%b8%94%e0%b9%8c/
LOCATION:เซ็นทรัลเวิลด์
CATEGORIES:ปฏิทินตารางหน่วยเคลื่อนที่
END:VEVENT
BEGIN:VEVENT
DTSTART;TZID=Asia/Bangkok:20250207T110000
DTEND;TZID=Asia/Bangkok:20250207T150000
DTSTAMP:20260422T073454
CREATED:20250201T014237Z
LAST-MODIFIED:20250201T014237Z
UID:10000405-1738926000-1738940400@boo.colorpack.net
SUMMARY:เซ็นทรัลเวิลด์ [0M0273]
DESCRIPTION:สถานที่เจาะ : at workชั้น 3 centralwOrld Office \nที่อยู่ : 999/9 ถนนพระราม 1 แขวงปทุมวัน เขตปทุมวัน กรุงเทพฯ
URL:https://boo.colorpack.net/event/%e0%b9%80%e0%b8%8b%e0%b9%87%e0%b8%99%e0%b8%97%e0%b8%a3%e0%b8%b1%e0%b8%a5%e0%b9%80%e0%b8%a7%e0%b8%b4%e0%b8%a5%e0%b8%94%e0%b9%8c-0m0273/
LOCATION:เซ็นทรัลเวิลด์
CATEGORIES:ปฏิทินตารางหน่วยเคลื่อนที่
END:VEVENT
END:VCALENDAR