BEGIN:VCALENDAR
VERSION:2.0
PRODID:-//เว็บไซต์ศูนย์บริการโลหิตแห่งชาติ - ECPv6.11.2.1//NONSGML v1.0//EN
CALSCALE:GREGORIAN
METHOD:PUBLISH
X-WR-CALNAME:เว็บไซต์ศูนย์บริการโลหิตแห่งชาติ
X-ORIGINAL-URL:https://boo.colorpack.net
X-WR-CALDESC:Events for เว็บไซต์ศูนย์บริการโลหิตแห่งชาติ
REFRESH-INTERVAL;VALUE=DURATION:PT1H
X-Robots-Tag:noindex
X-PUBLISHED-TTL:PT1H
BEGIN:VTIMEZONE
TZID:Asia/Krasnoyarsk
BEGIN:STANDARD
TZOFFSETFROM:+0700
TZOFFSETTO:+0700
TZNAME:+07
DTSTART:20250101T000000
END:STANDARD
END:VTIMEZONE
BEGIN:VTIMEZONE
TZID:Asia/Bangkok
BEGIN:STANDARD
TZOFFSETFROM:+0700
TZOFFSETTO:+0700
TZNAME:+07
DTSTART:20250101T000000
END:STANDARD
END:VTIMEZONE
BEGIN:VEVENT
DTSTART;TZID=Asia/Krasnoyarsk:20260209T110000
DTEND;TZID=Asia/Krasnoyarsk:20260209T150000
DTSTAMP:20260421T220425
CREATED:20260204T115534Z
LAST-MODIFIED:20260204T121039Z
UID:10005461-1770634800-1770649200@boo.colorpack.net
SUMMARY:เซ็นทรัลพลาซา ลาดพร้าว []
DESCRIPTION:สถานที่เจาะ : ลานด้านหน้าศูนย์การค้า \nที่อยู่ : 1691 ถนนพหลโยธิน แขวงจตุจักร เขตจตุจักร กรุงเทพฯ 0 2793 6000
URL:https://boo.colorpack.net/event/%e0%b9%80%e0%b8%8b%e0%b9%87%e0%b8%99%e0%b8%97%e0%b8%a3%e0%b8%b1%e0%b8%a5%e0%b8%9e%e0%b8%a5%e0%b8%b2%e0%b8%8b%e0%b8%b2-%e0%b8%a5%e0%b8%b2%e0%b8%94%e0%b8%9e%e0%b8%a3%e0%b9%89%e0%b8%b2%e0%b8%a7-6/
LOCATION:เซ็นทรัลพลาซา ลาดพร้าว\, เซ็นทรัลพลาซา ลาดพร้าว 1693 ถ.พหลโยธิน แขวงจตุจักร เขตจตุจักร กรุงเทพมหานคร 10900
CATEGORIES:ปฏิทินตารางหน่วยเคลื่อนที่
END:VEVENT
BEGIN:VEVENT
DTSTART;TZID=Asia/Krasnoyarsk:20260112T110000
DTEND;TZID=Asia/Krasnoyarsk:20260112T150000
DTSTAMP:20260421T220425
CREATED:20260106T131600Z
LAST-MODIFIED:20260106T131600Z
UID:10005061-1768215600-1768230000@boo.colorpack.net
SUMMARY:เซ็นทรัลพลาซา ลาดพร้าว [0E0021]
DESCRIPTION:สถานที่เจาะ : ลานด้านหน้าศูนย์การค้า \nที่อยู่ : 1691 ถนนพหลโยธิน แขวงจตุจักร เขตจตุจักร กรุงเทพฯ 0 2793 6000
URL:https://boo.colorpack.net/event/%e0%b9%80%e0%b8%8b%e0%b9%87%e0%b8%99%e0%b8%97%e0%b8%a3%e0%b8%b1%e0%b8%a5%e0%b8%9e%e0%b8%a5%e0%b8%b2%e0%b8%8b%e0%b8%b2-%e0%b8%a5%e0%b8%b2%e0%b8%94%e0%b8%9e%e0%b8%a3%e0%b9%89%e0%b8%b2%e0%b8%a7-0e0021-7/
LOCATION:เซ็นทรัลพลาซา ลาดพร้าว\, เซ็นทรัลพลาซา ลาดพร้าว 1693 ถ.พหลโยธิน แขวงจตุจักร เขตจตุจักร กรุงเทพมหานคร 10900
CATEGORIES:ปฏิทินตารางหน่วยเคลื่อนที่
END:VEVENT
BEGIN:VEVENT
DTSTART;TZID=Asia/Krasnoyarsk:20251208T110000
DTEND;TZID=Asia/Krasnoyarsk:20251208T150000
DTSTAMP:20260421T220425
CREATED:20251128T104507Z
LAST-MODIFIED:20251128T110523Z
UID:10004581-1765191600-1765206000@boo.colorpack.net
SUMMARY:เซ็นทรัลพลาซา ลาดพร้าว []
DESCRIPTION:สถานที่เจาะ : ลานด้านหน้าศูนย์การค้า \nที่อยู่ : 1691 ถนนพหลโยธิน แขวงจตุจักร เขตจตุจักร กรุงเทพฯ 0 2793 6000
URL:https://boo.colorpack.net/event/%e0%b9%80%e0%b8%8b%e0%b9%87%e0%b8%99%e0%b8%97%e0%b8%a3%e0%b8%b1%e0%b8%a5%e0%b8%9e%e0%b8%a5%e0%b8%b2%e0%b8%8b%e0%b8%b2-%e0%b8%a5%e0%b8%b2%e0%b8%94%e0%b8%9e%e0%b8%a3%e0%b9%89%e0%b8%b2%e0%b8%a7-5/
LOCATION:เซ็นทรัลพลาซา ลาดพร้าว\, เซ็นทรัลพลาซา ลาดพร้าว 1693 ถ.พหลโยธิน แขวงจตุจักร เขตจตุจักร กรุงเทพมหานคร 10900
CATEGORIES:ปฏิทินตารางหน่วยเคลื่อนที่
END:VEVENT
BEGIN:VEVENT
DTSTART;TZID=Asia/Krasnoyarsk:20251110T150000
DTEND;TZID=Asia/Krasnoyarsk:20251110T150000
DTSTAMP:20260421T220425
CREATED:20251101T063137Z
LAST-MODIFIED:20251101T063412Z
UID:10003954-1762786800-1762786800@boo.colorpack.net
SUMMARY:เซ็นทรัลพลาซา ลาดพร้าว [เซ็นทรัลพลาซา ลาดพร้าว]
DESCRIPTION:สถานที่เจาะ : 1691 ถนนพหลโยธิน \nที่อยู่ : แขวงจตุจักร เขตจตุจักร กรุงเทพฯ 0 2793 6000
URL:https://boo.colorpack.net/event/%e0%b9%80%e0%b8%8b%e0%b9%87%e0%b8%99%e0%b8%97%e0%b8%a3%e0%b8%b1%e0%b8%a5%e0%b8%9e%e0%b8%a5%e0%b8%b2%e0%b8%8b%e0%b8%b2-%e0%b8%a5%e0%b8%b2%e0%b8%94%e0%b8%9e%e0%b8%a3%e0%b9%89%e0%b8%b2%e0%b8%a7-4/
LOCATION:เซ็นทรัลพลาซา ลาดพร้าว\, เซ็นทรัลพลาซา ลาดพร้าว 1693 ถ.พหลโยธิน แขวงจตุจักร เขตจตุจักร กรุงเทพมหานคร 10900
CATEGORIES:ปฏิทินตารางหน่วยเคลื่อนที่
END:VEVENT
BEGIN:VEVENT
DTSTART;TZID=Asia/Bangkok:20251006T110000
DTEND;TZID=Asia/Bangkok:20251006T150000
DTSTAMP:20260421T220425
CREATED:20250924T111256Z
LAST-MODIFIED:20250924T111256Z
UID:10003420-1759748400-1759762800@boo.colorpack.net
SUMMARY:เซ็นทรัลพลาซา ลาดพร้าว [0E0021]
DESCRIPTION:สถานที่เจาะ : ลานด้านหน้าศูนย์การค้า \nที่อยู่ : 1691 ถนนพหลโยธิน แขวงจตุจักร เขตจตุจักร กรุงเทพฯ 0 2793 6000
URL:https://boo.colorpack.net/event/%e0%b9%80%e0%b8%8b%e0%b9%87%e0%b8%99%e0%b8%97%e0%b8%a3%e0%b8%b1%e0%b8%a5%e0%b8%9e%e0%b8%a5%e0%b8%b2%e0%b8%8b%e0%b8%b2-%e0%b8%a5%e0%b8%b2%e0%b8%94%e0%b8%9e%e0%b8%a3%e0%b9%89%e0%b8%b2%e0%b8%a7-0e0021-6/
LOCATION:เซ็นทรัลพลาซา ลาดพร้าว\, เซ็นทรัลพลาซา ลาดพร้าว 1693 ถ.พหลโยธิน แขวงจตุจักร เขตจตุจักร กรุงเทพมหานคร 10900
CATEGORIES:ปฏิทินตารางหน่วยเคลื่อนที่
END:VEVENT
BEGIN:VEVENT
DTSTART;TZID=Asia/Bangkok:20250908T110000
DTEND;TZID=Asia/Bangkok:20250908T150000
DTSTAMP:20260421T220425
CREATED:20250903T035228Z
LAST-MODIFIED:20250903T035228Z
UID:10003117-1757329200-1757343600@boo.colorpack.net
SUMMARY:เซ็นทรัลพลาซา ลาดพร้าว [0E0021]
DESCRIPTION:สถานที่เจาะ : ลานด้านหน้าศูนย์การค้า \nที่อยู่ : 1691 ถนนพหลโยธิน แขวงจตุจักร เขตจตุจักร กรุงเทพฯ 0 2793 6000
URL:https://boo.colorpack.net/event/%e0%b9%80%e0%b8%8b%e0%b9%87%e0%b8%99%e0%b8%97%e0%b8%a3%e0%b8%b1%e0%b8%a5%e0%b8%9e%e0%b8%a5%e0%b8%b2%e0%b8%8b%e0%b8%b2-%e0%b8%a5%e0%b8%b2%e0%b8%94%e0%b8%9e%e0%b8%a3%e0%b9%89%e0%b8%b2%e0%b8%a7-0e0021-5/
LOCATION:เซ็นทรัลพลาซา ลาดพร้าว\, เซ็นทรัลพลาซา ลาดพร้าว 1693 ถ.พหลโยธิน แขวงจตุจักร เขตจตุจักร กรุงเทพมหานคร 10900
CATEGORIES:ปฏิทินตารางหน่วยเคลื่อนที่
END:VEVENT
BEGIN:VEVENT
DTSTART;TZID=Asia/Bangkok:20250811T110000
DTEND;TZID=Asia/Bangkok:20250811T150000
DTSTAMP:20260421T220425
CREATED:20250801T041841Z
LAST-MODIFIED:20250801T041841Z
UID:10002771-1754910000-1754924400@boo.colorpack.net
SUMMARY:เซ็นทรัลพลาซา ลาดพร้าว [0E0021]
DESCRIPTION:สถานที่เจาะ : ลานด้านหน้าศูนย์การค้า \nที่อยู่ : 1691 ถนนพหลโยธิน แขวงจตุจักร เขตจตุจักร กรุงเทพฯ 0 2793 6000
URL:https://boo.colorpack.net/event/%e0%b9%80%e0%b8%8b%e0%b9%87%e0%b8%99%e0%b8%97%e0%b8%a3%e0%b8%b1%e0%b8%a5%e0%b8%9e%e0%b8%a5%e0%b8%b2%e0%b8%8b%e0%b8%b2-%e0%b8%a5%e0%b8%b2%e0%b8%94%e0%b8%9e%e0%b8%a3%e0%b9%89%e0%b8%b2%e0%b8%a7-0e0021-4/
LOCATION:เซ็นทรัลพลาซา ลาดพร้าว\, เซ็นทรัลพลาซา ลาดพร้าว 1693 ถ.พหลโยธิน แขวงจตุจักร เขตจตุจักร กรุงเทพมหานคร 10900
CATEGORIES:ปฏิทินตารางหน่วยเคลื่อนที่
END:VEVENT
BEGIN:VEVENT
DTSTART;TZID=Asia/Bangkok:20250609T110000
DTEND;TZID=Asia/Bangkok:20250609T150000
DTSTAMP:20260421T220426
CREATED:20250530T124328Z
LAST-MODIFIED:20250707T034654Z
UID:10001992-1749466800-1749481200@boo.colorpack.net
SUMMARY:เซ็นทรัลพลาซา ลาดพร้าว []
DESCRIPTION:สถานที่เจาะ : ลานด้านหน้าศูนย์การค้า \nที่อยู่ : 1691 ถนนพหลโยธิน แขวงจตุจักร เขตจตุจักร กรุงเทพฯ 0 2793 6000
URL:https://boo.colorpack.net/event/%e0%b9%80%e0%b8%8b%e0%b9%87%e0%b8%99%e0%b8%97%e0%b8%a3%e0%b8%b1%e0%b8%a5%e0%b8%9e%e0%b8%a5%e0%b8%b2%e0%b8%8b%e0%b8%b2-%e0%b8%a5%e0%b8%b2%e0%b8%94%e0%b8%9e%e0%b8%a3%e0%b9%89%e0%b8%b2%e0%b8%a7-3/
LOCATION:เซ็นทรัลพลาซา ลาดพร้าว\, เซ็นทรัลพลาซา ลาดพร้าว 1693 ถ.พหลโยธิน แขวงจตุจักร เขตจตุจักร กรุงเทพมหานคร 10900
CATEGORIES:ปฏิทินตารางหน่วยเคลื่อนที่
END:VEVENT
BEGIN:VEVENT
DTSTART;TZID=Asia/Bangkok:20250512T110000
DTEND;TZID=Asia/Bangkok:20250512T150000
DTSTAMP:20260421T220426
CREATED:20250508T112050Z
LAST-MODIFIED:20250508T112050Z
UID:10001695-1747047600-1747062000@boo.colorpack.net
SUMMARY:เซ็นทรัลพลาซา ลาดพร้าว []
DESCRIPTION:สถานที่เจาะ : ลานด้านหน้าศูนย์การค้า \nที่อยู่ : 1691 ถนนพหลโยธิน แขวงจตุจักร เขตจตุจักร กรุงเทพฯ 0 2793 6000
URL:https://boo.colorpack.net/event/%e0%b9%80%e0%b8%8b%e0%b9%87%e0%b8%99%e0%b8%97%e0%b8%a3%e0%b8%b1%e0%b8%a5%e0%b8%9e%e0%b8%a5%e0%b8%b2%e0%b8%8b%e0%b8%b2-%e0%b8%a5%e0%b8%b2%e0%b8%94%e0%b8%9e%e0%b8%a3%e0%b9%89%e0%b8%b2%e0%b8%a7-2/
LOCATION:เซ็นทรัลพลาซา ลาดพร้าว\, เซ็นทรัลพลาซา ลาดพร้าว 1693 ถ.พหลโยธิน แขวงจตุจักร เขตจตุจักร กรุงเทพมหานคร 10900
CATEGORIES:ปฏิทินตารางหน่วยเคลื่อนที่
END:VEVENT
BEGIN:VEVENT
DTSTART;TZID=Asia/Bangkok:20250414T110000
DTEND;TZID=Asia/Bangkok:20250414T150000
DTSTAMP:20260421T220426
CREATED:20250404T151435Z
LAST-MODIFIED:20250404T151435Z
UID:10001306-1744628400-1744642800@boo.colorpack.net
SUMMARY:เซ็นทรัลพลาซา ลาดพร้าว [0E0021]
DESCRIPTION:สถานที่เจาะ : ลานด้านหน้าศูนย์การค้า \nที่อยู่ : 1691 ถนนพหลโยธิน แขวงจตุจักร เขตจตุจักร กรุงเทพฯ 0 2793 6000
URL:https://boo.colorpack.net/event/%e0%b9%80%e0%b8%8b%e0%b9%87%e0%b8%99%e0%b8%97%e0%b8%a3%e0%b8%b1%e0%b8%a5%e0%b8%9e%e0%b8%a5%e0%b8%b2%e0%b8%8b%e0%b8%b2-%e0%b8%a5%e0%b8%b2%e0%b8%94%e0%b8%9e%e0%b8%a3%e0%b9%89%e0%b8%b2%e0%b8%a7-0e0021-3/
LOCATION:เซ็นทรัลพลาซา ลาดพร้าว\, เซ็นทรัลพลาซา ลาดพร้าว 1693 ถ.พหลโยธิน แขวงจตุจักร เขตจตุจักร กรุงเทพมหานคร 10900
CATEGORIES:ปฏิทินตารางหน่วยเคลื่อนที่
END:VEVENT
BEGIN:VEVENT
DTSTART;TZID=Asia/Bangkok:20250310T110000
DTEND;TZID=Asia/Bangkok:20250310T150000
DTSTAMP:20260421T220426
CREATED:20250309T132133Z
LAST-MODIFIED:20250309T132133Z
UID:10000792-1741604400-1741618800@boo.colorpack.net
SUMMARY:เซ็นทรัลพลาซา ลาดพร้าว [0E0021]
DESCRIPTION:สถานที่เจาะ : ลานด้านหน้าศูนย์การค้า \nที่อยู่ : 1691 ถนนพหลโยธิน แขวงจตุจักร เขตจตุจักร กรุงเทพฯ 0 2793 6000
URL:https://boo.colorpack.net/event/%e0%b9%80%e0%b8%8b%e0%b9%87%e0%b8%99%e0%b8%97%e0%b8%a3%e0%b8%b1%e0%b8%a5%e0%b8%9e%e0%b8%a5%e0%b8%b2%e0%b8%8b%e0%b8%b2-%e0%b8%a5%e0%b8%b2%e0%b8%94%e0%b8%9e%e0%b8%a3%e0%b9%89%e0%b8%b2%e0%b8%a7-0e0021-2/
LOCATION:เซ็นทรัลพลาซา ลาดพร้าว\, เซ็นทรัลพลาซา ลาดพร้าว 1693 ถ.พหลโยธิน แขวงจตุจักร เขตจตุจักร กรุงเทพมหานคร 10900
CATEGORIES:ปฏิทินตารางหน่วยเคลื่อนที่
END:VEVENT
BEGIN:VEVENT
DTSTART;TZID=Asia/Bangkok:20250210T110000
DTEND;TZID=Asia/Bangkok:20250210T150000
DTSTAMP:20260421T220426
CREATED:20250209T121311Z
LAST-MODIFIED:20250209T121311Z
UID:10000448-1739185200-1739199600@boo.colorpack.net
SUMMARY:เซ็นทรัลพลาซา ลาดพร้าว []
DESCRIPTION:สถานที่เจาะ : ลานด้านหน้าศูนย์การค้า \nที่อยู่ : 1691 ถนนพหลโยธิน แขวงจตุจักร เขตจตุจักร กรุงเทพฯ  \nโทร : 0 2793 6000
URL:https://boo.colorpack.net/event/%e0%b9%80%e0%b8%8b%e0%b9%87%e0%b8%99%e0%b8%97%e0%b8%a3%e0%b8%b1%e0%b8%a5%e0%b8%9e%e0%b8%a5%e0%b8%b2%e0%b8%8b%e0%b8%b2-%e0%b8%a5%e0%b8%b2%e0%b8%94%e0%b8%9e%e0%b8%a3%e0%b9%89%e0%b8%b2%e0%b8%a7/
LOCATION:เซ็นทรัลพลาซา ลาดพร้าว\, เซ็นทรัลพลาซา ลาดพร้าว 1693 ถ.พหลโยธิน แขวงจตุจักร เขตจตุจักร กรุงเทพมหานคร 10900
CATEGORIES:ปฏิทินตารางหน่วยเคลื่อนที่
END:VEVENT
BEGIN:VEVENT
DTSTART;TZID=Asia/Bangkok:20250113T110000
DTEND;TZID=Asia/Bangkok:20250113T150000
DTSTAMP:20260421T220426
CREATED:20250114T103017Z
LAST-MODIFIED:20250114T103017Z
UID:10000171-1736766000-1736780400@boo.colorpack.net
SUMMARY:เซ็นทรัลพลาซา ลาดพร้าว [0E0021]
DESCRIPTION:สถานที่เจาะ : ลานด้านหน้าศูนย์การค้า \nที่อยู่ : 1691 ถนนพหลโยธิน แขวงจตุจักร เขตจตุจักร กรุงเทพฯ  \nโทร : 0 2793 6000
URL:https://boo.colorpack.net/event/%e0%b9%80%e0%b8%8b%e0%b9%87%e0%b8%99%e0%b8%97%e0%b8%a3%e0%b8%b1%e0%b8%a5%e0%b8%9e%e0%b8%a5%e0%b8%b2%e0%b8%8b%e0%b8%b2-%e0%b8%a5%e0%b8%b2%e0%b8%94%e0%b8%9e%e0%b8%a3%e0%b9%89%e0%b8%b2%e0%b8%a7-0e0021/
LOCATION:เซ็นทรัลพลาซา ลาดพร้าว\, เซ็นทรัลพลาซา ลาดพร้าว 1693 ถ.พหลโยธิน แขวงจตุจักร เขตจตุจักร กรุงเทพมหานคร 10900
CATEGORIES:ปฏิทินตารางหน่วยเคลื่อนที่
END:VEVENT
END:VCALENDAR