BEGIN:VCALENDAR
VERSION:2.0
PRODID:-//เว็บไซต์ศูนย์บริการโลหิตแห่งชาติ - ECPv6.11.2.1//NONSGML v1.0//EN
CALSCALE:GREGORIAN
METHOD:PUBLISH
X-WR-CALNAME:เว็บไซต์ศูนย์บริการโลหิตแห่งชาติ
X-ORIGINAL-URL:https://boo.colorpack.net
X-WR-CALDESC:Events for เว็บไซต์ศูนย์บริการโลหิตแห่งชาติ
REFRESH-INTERVAL;VALUE=DURATION:PT1H
X-Robots-Tag:noindex
X-PUBLISHED-TTL:PT1H
BEGIN:VTIMEZONE
TZID:Asia/Krasnoyarsk
BEGIN:STANDARD
TZOFFSETFROM:+0700
TZOFFSETTO:+0700
TZNAME:+07
DTSTART:20260101T000000
END:STANDARD
END:VTIMEZONE
BEGIN:VTIMEZONE
TZID:Asia/Bangkok
BEGIN:STANDARD
TZOFFSETFROM:+0700
TZOFFSETTO:+0700
TZNAME:+07
DTSTART:20250101T000000
END:STANDARD
END:VTIMEZONE
BEGIN:VEVENT
DTSTART;TZID=Asia/Krasnoyarsk:20260122T090000
DTEND;TZID=Asia/Krasnoyarsk:20260122T150000
DTSTAMP:20260422T073012
CREATED:20260120T104056Z
LAST-MODIFIED:20260120T104056Z
UID:10005202-1769072400-1769094000@boo.colorpack.net
SUMMARY:อาคาร เอไอเอ สาทร ทาวเวอร์ []
DESCRIPTION:สถานที่เจาะ : ห้องประชุมใหญ่ ชั้น 3 (พัก 11.00-12.00 น.) \nที่อยู่ : 11/1 ถนนสาทรใต้ แขวงยานนาวา เขตสาทร กรุงเทพฯ 0 2286 5929
URL:https://boo.colorpack.net/event/%e0%b8%ad%e0%b8%b2%e0%b8%84%e0%b8%b2%e0%b8%a3-%e0%b9%80%e0%b8%ad%e0%b9%84%e0%b8%ad%e0%b9%80%e0%b8%ad-%e0%b8%aa%e0%b8%b2%e0%b8%97%e0%b8%a3-%e0%b8%97%e0%b8%b2%e0%b8%a7%e0%b9%80%e0%b8%a7%e0%b8%ad-3/
LOCATION:อาคาร เอไอเอ สาทร ทาวเวอร์\, อาคาร เอไอเอ สาทร ทาวเวอร์ 11/1 ถนนสาทรใต้ แขวงยานนาวา เขตสาทร กรุงเทพมหานคร 10120
CATEGORIES:ปฏิทินตารางหน่วยเคลื่อนที่
END:VEVENT
BEGIN:VEVENT
DTSTART;TZID=Asia/Bangkok:20251027T150000
DTEND;TZID=Asia/Bangkok:20251027T150000
DTSTAMP:20260422T073012
CREATED:20251017T034356Z
LAST-MODIFIED:20251017T035058Z
UID:10003790-1761577200-1761577200@boo.colorpack.net
SUMMARY:อาคาร เอไอเอ สาทร ทาวเวอร์ [อาคาร เอไอเอ สาทร ทาวเวอร์]
DESCRIPTION:สถานที่เจาะ : 11/1 ถนนสาทรใต้ \nที่อยู่ : แขวงยานนาวา เขตสาทร กรุงเทพฯ 0 2286 5929
URL:https://boo.colorpack.net/event/%e0%b8%ad%e0%b8%b2%e0%b8%84%e0%b8%b2%e0%b8%a3-%e0%b9%80%e0%b8%ad%e0%b9%84%e0%b8%ad%e0%b9%80%e0%b8%ad-%e0%b8%aa%e0%b8%b2%e0%b8%97%e0%b8%a3-%e0%b8%97%e0%b8%b2%e0%b8%a7%e0%b9%80%e0%b8%a7%e0%b8%ad-2/
LOCATION:อาคาร เอไอเอ สาทร ทาวเวอร์\, อาคาร เอไอเอ สาทร ทาวเวอร์ 11/1 ถนนสาทรใต้ แขวงยานนาวา เขตสาทร กรุงเทพมหานคร 10120
CATEGORIES:ปฏิทินตารางหน่วยเคลื่อนที่
END:VEVENT
BEGIN:VEVENT
DTSTART;TZID=Asia/Bangkok:20250428T090000
DTEND;TZID=Asia/Bangkok:20250428T150000
DTSTAMP:20260422T073012
CREATED:20250424T063619Z
LAST-MODIFIED:20250424T063619Z
UID:10001505-1745830800-1745852400@boo.colorpack.net
SUMMARY:อาคาร เอไอเอ สาทร ทาวเวอร์ []
DESCRIPTION:สถานที่เจาะ : ห้องประชุมใหญ่ ชั้น 3 (พัก 11.00-12.00 น.) \nที่อยู่ : 11/1 ถนนสาทรใต้ แขวงยานนาวา เขตสาทร กรุงเทพฯ 0 2286 5929
URL:https://boo.colorpack.net/event/%e0%b8%ad%e0%b8%b2%e0%b8%84%e0%b8%b2%e0%b8%a3-%e0%b9%80%e0%b8%ad%e0%b9%84%e0%b8%ad%e0%b9%80%e0%b8%ad-%e0%b8%aa%e0%b8%b2%e0%b8%97%e0%b8%a3-%e0%b8%97%e0%b8%b2%e0%b8%a7%e0%b9%80%e0%b8%a7%e0%b8%ad/
LOCATION:อาคาร เอไอเอ สาทร ทาวเวอร์\, อาคาร เอไอเอ สาทร ทาวเวอร์ 11/1 ถนนสาทรใต้ แขวงยานนาวา เขตสาทร กรุงเทพมหานคร 10120
CATEGORIES:ปฏิทินตารางหน่วยเคลื่อนที่
END:VEVENT
END:VCALENDAR