BEGIN:VCALENDAR
VERSION:2.0
PRODID:-//เว็บไซต์ศูนย์บริการโลหิตแห่งชาติ - ECPv6.11.2.1//NONSGML v1.0//EN
CALSCALE:GREGORIAN
METHOD:PUBLISH
X-ORIGINAL-URL:https://boo.colorpack.net
X-WR-CALDESC:Events for เว็บไซต์ศูนย์บริการโลหิตแห่งชาติ
REFRESH-INTERVAL;VALUE=DURATION:PT1H
X-Robots-Tag:noindex
X-PUBLISHED-TTL:PT1H
BEGIN:VTIMEZONE
TZID:Asia/Krasnoyarsk
BEGIN:STANDARD
TZOFFSETFROM:+0700
TZOFFSETTO:+0700
TZNAME:+07
DTSTART:20250101T000000
END:STANDARD
END:VTIMEZONE
BEGIN:VTIMEZONE
TZID:Asia/Bangkok
BEGIN:STANDARD
TZOFFSETFROM:+0700
TZOFFSETTO:+0700
TZNAME:+07
DTSTART:20250101T000000
END:STANDARD
END:VTIMEZONE
BEGIN:VEVENT
DTSTART;TZID=Asia/Krasnoyarsk:20260203T110000
DTEND;TZID=Asia/Krasnoyarsk:20260203T150000
DTSTAMP:20260422T051623
CREATED:20260127T120834Z
LAST-MODIFIED:20260127T120834Z
UID:10005373-1770116400-1770130800@boo.colorpack.net
SUMMARY:อาคาร รสา ทู []
DESCRIPTION:สถานที่เจาะ : ด้านข้างอาคาร (ฝั่งทางออก) \nที่อยู่ : 1818 อาคาร รสา ทู ถนนเพชรบุรี แขวงมักกะสัน เขตราชเทวี กรุงเทพฯ
URL:https://boo.colorpack.net/event/%e0%b8%ad%e0%b8%b2%e0%b8%84%e0%b8%b2%e0%b8%a3-%e0%b8%a3%e0%b8%aa%e0%b8%b2-%e0%b8%97%e0%b8%b9-2/
LOCATION:อาคาร รสา ทู\, อาคาร รสา ทู
CATEGORIES:ปฏิทินตารางหน่วยเคลื่อนที่
END:VEVENT
BEGIN:VEVENT
DTSTART;TZID=Asia/Krasnoyarsk:20251104T110000
DTEND;TZID=Asia/Krasnoyarsk:20251104T150000
DTSTAMP:20260422T051623
CREATED:20251027T024445Z
LAST-MODIFIED:20251027T024445Z
UID:10003861-1762254000-1762268400@boo.colorpack.net
SUMMARY:อาคาร รสา ทู [0M1019]
DESCRIPTION:สถานที่เจาะ : ด้านข้างอาคาร (ฝั่งทางออก) \nที่อยู่ : 1818 อาคาร รสา ทู ถนนเพชรบุรี แขวงมักกะสัน เขตราชเทวี กรุงเทพฯ
URL:https://boo.colorpack.net/event/%e0%b8%ad%e0%b8%b2%e0%b8%84%e0%b8%b2%e0%b8%a3-%e0%b8%a3%e0%b8%aa%e0%b8%b2-%e0%b8%97%e0%b8%b9-0m1019-4/
LOCATION:อาคาร รสา ทู\, อาคาร รสา ทู
CATEGORIES:ปฏิทินตารางหน่วยเคลื่อนที่
END:VEVENT
BEGIN:VEVENT
DTSTART;TZID=Asia/Bangkok:20250506T110000
DTEND;TZID=Asia/Bangkok:20250506T150000
DTSTAMP:20260422T051623
CREATED:20250430T111922Z
LAST-MODIFIED:20250430T111922Z
UID:10001610-1746529200-1746543600@boo.colorpack.net
SUMMARY:อาคาร รสา ทู []
DESCRIPTION:สถานที่เจาะ : ด้านข้างอาคาร (ฝั่งทางออก) \nที่อยู่ : 1818 อาคาร รสา ทู ถนนเพชรบุรี แขวงมักกะสัน เขตราชเทวี กรุงเทพฯ
URL:https://boo.colorpack.net/event/%e0%b8%ad%e0%b8%b2%e0%b8%84%e0%b8%b2%e0%b8%a3-%e0%b8%a3%e0%b8%aa%e0%b8%b2-%e0%b8%97%e0%b8%b9/
LOCATION:อาคาร รสา ทู\, อาคาร รสา ทู
CATEGORIES:ปฏิทินตารางหน่วยเคลื่อนที่
END:VEVENT
BEGIN:VEVENT
DTSTART;TZID=Asia/Bangkok:20250204T110000
DTEND;TZID=Asia/Bangkok:20250204T150000
DTSTAMP:20260422T051623
CREATED:20250201T003519Z
LAST-MODIFIED:20250201T003519Z
UID:10000343-1738666800-1738681200@boo.colorpack.net
SUMMARY:อาคาร รสา ทู [0M1019]
DESCRIPTION:สถานที่เจาะ : ด้านข้างอาคาร (ฝั่งทางออก) \nที่อยู่ : 1818 อาคาร รสา ทู ถนนเพชรบุรี แขวงมักกะสัน เขตราชเทวี กรุงเทพฯ
URL:https://boo.colorpack.net/event/%e0%b8%ad%e0%b8%b2%e0%b8%84%e0%b8%b2%e0%b8%a3-%e0%b8%a3%e0%b8%aa%e0%b8%b2-%e0%b8%97%e0%b8%b9-0m1019-3/
LOCATION:อาคาร รสา ทู\, อาคาร รสา ทู
CATEGORIES:ปฏิทินตารางหน่วยเคลื่อนที่
END:VEVENT
END:VCALENDAR