BEGIN:VCALENDAR
VERSION:2.0
PRODID:-//เว็บไซต์ศูนย์บริการโลหิตแห่งชาติ - ECPv6.11.2.1//NONSGML v1.0//EN
CALSCALE:GREGORIAN
METHOD:PUBLISH
X-WR-CALNAME:เว็บไซต์ศูนย์บริการโลหิตแห่งชาติ
X-ORIGINAL-URL:https://boo.colorpack.net
X-WR-CALDESC:Events for เว็บไซต์ศูนย์บริการโลหิตแห่งชาติ
REFRESH-INTERVAL;VALUE=DURATION:PT1H
X-Robots-Tag:noindex
X-PUBLISHED-TTL:PT1H
BEGIN:VTIMEZONE
TZID:Asia/Krasnoyarsk
BEGIN:STANDARD
TZOFFSETFROM:+0700
TZOFFSETTO:+0700
TZNAME:+07
DTSTART:20260101T000000
END:STANDARD
END:VTIMEZONE
BEGIN:VTIMEZONE
TZID:Asia/Bangkok
BEGIN:STANDARD
TZOFFSETFROM:+0700
TZOFFSETTO:+0700
TZNAME:+07
DTSTART:20250101T000000
END:STANDARD
END:VTIMEZONE
BEGIN:VEVENT
DTSTART;TZID=Asia/Krasnoyarsk:20260130T090000
DTEND;TZID=Asia/Krasnoyarsk:20260130T120000
DTSTAMP:20260421T223635
CREATED:20260127T115257Z
LAST-MODIFIED:20260127T115257Z
UID:10005320-1769763600-1769774400@boo.colorpack.net
SUMMARY:องค์การพิพิธภัณฑ์วิทยาศาสตร์แห่งชาติ []
DESCRIPTION:สถานที่เจาะ : หน้าพิพิธภัณฑ์วิทยาศาสตร์แห่งชาติ พระราม 9 \nที่อยู่ : เทคโนธานี ต.คลองห้า อ.คลองหลวง ปทุมธานี 0 2577 9999
URL:https://boo.colorpack.net/event/%e0%b8%ad%e0%b8%87%e0%b8%84%e0%b9%8c%e0%b8%81%e0%b8%b2%e0%b8%a3%e0%b8%9e%e0%b8%b4%e0%b8%9e%e0%b8%b4%e0%b8%98%e0%b8%a0%e0%b8%b1%e0%b8%93%e0%b8%91%e0%b9%8c%e0%b8%a7%e0%b8%b4%e0%b8%97%e0%b8%a2%e0%b8%b2-4/
LOCATION:องค์การพิพิธภัณฑ์วิทยาศาสตร์แห่งชาติ\, องค์การพิพิธภัณฑ์วิทยาศาสตร์แห่งชาติ 39 ม.3 ถ.เลียบคลองห้า ต.คลองห้า อ.คลองหลวง จ.ปทุมธานี 12120
CATEGORIES:ปฏิทินตารางหน่วยเคลื่อนที่
END:VEVENT
BEGIN:VEVENT
DTSTART;TZID=Asia/Bangkok:20251010T090000
DTEND;TZID=Asia/Bangkok:20251010T120000
DTSTAMP:20260421T223635
CREATED:20251003T084655Z
LAST-MODIFIED:20251003T084655Z
UID:10003585-1760086800-1760097600@boo.colorpack.net
SUMMARY:องค์การพิพิธภัณฑ์วิทยาศาสตร์แห่งชาติ [0D0943]
DESCRIPTION:สถานที่เจาะ : หน้าพิพิธภัณฑ์วิทยาศาสตร์แห่งชาติ พระราม 9 \nที่อยู่ : เทคโนธานี ต.คลองห้า อ.คลองหลวง ปทุมธานี 0 2577 9999
URL:https://boo.colorpack.net/event/%e0%b8%ad%e0%b8%87%e0%b8%84%e0%b9%8c%e0%b8%81%e0%b8%b2%e0%b8%a3%e0%b8%9e%e0%b8%b4%e0%b8%9e%e0%b8%b4%e0%b8%98%e0%b8%a0%e0%b8%b1%e0%b8%93%e0%b8%91%e0%b9%8c%e0%b8%a7%e0%b8%b4%e0%b8%97%e0%b8%a2%e0%b8%b2-3/
LOCATION:องค์การพิพิธภัณฑ์วิทยาศาสตร์แห่งชาติ\, องค์การพิพิธภัณฑ์วิทยาศาสตร์แห่งชาติ 39 ม.3 ถ.เลียบคลองห้า ต.คลองห้า อ.คลองหลวง จ.ปทุมธานี 12120
CATEGORIES:ปฏิทินตารางหน่วยเคลื่อนที่
END:VEVENT
BEGIN:VEVENT
DTSTART;TZID=Asia/Bangkok:20250718T090000
DTEND;TZID=Asia/Bangkok:20250718T120000
DTSTAMP:20260421T223635
CREATED:20250716T114423Z
LAST-MODIFIED:20250716T114423Z
UID:10002591-1752829200-1752840000@boo.colorpack.net
SUMMARY:องค์การพิพิธภัณฑ์วิทยาศาสตร์แห่งชาติ []
DESCRIPTION:สถานที่เจาะ : หน้าพิพิธภัณฑ์วิทยาศาสตร์แห่งชาติ พระราม 9 \nที่อยู่ : เทคโนธานี ต.คลองห้า อ.คลองหลวง ปทุมธานี 0 2577 9999
URL:https://boo.colorpack.net/event/%e0%b8%ad%e0%b8%87%e0%b8%84%e0%b9%8c%e0%b8%81%e0%b8%b2%e0%b8%a3%e0%b8%9e%e0%b8%b4%e0%b8%9e%e0%b8%b4%e0%b8%98%e0%b8%a0%e0%b8%b1%e0%b8%93%e0%b8%91%e0%b9%8c%e0%b8%a7%e0%b8%b4%e0%b8%97%e0%b8%a2%e0%b8%b2-2/
LOCATION:องค์การพิพิธภัณฑ์วิทยาศาสตร์แห่งชาติ\, องค์การพิพิธภัณฑ์วิทยาศาสตร์แห่งชาติ 39 ม.3 ถ.เลียบคลองห้า ต.คลองห้า อ.คลองหลวง จ.ปทุมธานี 12120
CATEGORIES:ปฏิทินตารางหน่วยเคลื่อนที่
END:VEVENT
BEGIN:VEVENT
DTSTART;TZID=Asia/Bangkok:20250418T090000
DTEND;TZID=Asia/Bangkok:20250418T120000
DTSTAMP:20260421T223635
CREATED:20250410T083316Z
LAST-MODIFIED:20250410T083316Z
UID:10001342-1744966800-1744977600@boo.colorpack.net
SUMMARY:องค์การพิพิธภัณฑ์วิทยาศาสตร์แห่งชาติ [0D0943]
DESCRIPTION:สถานที่เจาะ : หน้าพิพิธภัณฑ์ฯ พระราม 9 \nที่อยู่ : เทคโนธานี ต.คลองห้า อ.คลองหลวง ปทุมธานี 0 2577 9999
URL:https://boo.colorpack.net/event/%e0%b8%ad%e0%b8%87%e0%b8%84%e0%b9%8c%e0%b8%81%e0%b8%b2%e0%b8%a3%e0%b8%9e%e0%b8%b4%e0%b8%9e%e0%b8%b4%e0%b8%98%e0%b8%a0%e0%b8%b1%e0%b8%93%e0%b8%91%e0%b9%8c%e0%b8%a7%e0%b8%b4%e0%b8%97%e0%b8%a2%e0%b8%b2/
LOCATION:องค์การพิพิธภัณฑ์วิทยาศาสตร์แห่งชาติ\, องค์การพิพิธภัณฑ์วิทยาศาสตร์แห่งชาติ 39 ม.3 ถ.เลียบคลองห้า ต.คลองห้า อ.คลองหลวง จ.ปทุมธานี 12120
CATEGORIES:ปฏิทินตารางหน่วยเคลื่อนที่
END:VEVENT
END:VCALENDAR