BEGIN:VCALENDAR
VERSION:2.0
PRODID:-//เว็บไซต์ศูนย์บริการโลหิตแห่งชาติ - ECPv6.11.2.1//NONSGML v1.0//EN
CALSCALE:GREGORIAN
METHOD:PUBLISH
X-WR-CALNAME:เว็บไซต์ศูนย์บริการโลหิตแห่งชาติ
X-ORIGINAL-URL:https://boo.colorpack.net
X-WR-CALDESC:Events for เว็บไซต์ศูนย์บริการโลหิตแห่งชาติ
REFRESH-INTERVAL;VALUE=DURATION:PT1H
X-Robots-Tag:noindex
X-PUBLISHED-TTL:PT1H
BEGIN:VTIMEZONE
TZID:Asia/Krasnoyarsk
BEGIN:STANDARD
TZOFFSETFROM:+0700
TZOFFSETTO:+0700
TZNAME:+07
DTSTART:20250101T000000
END:STANDARD
END:VTIMEZONE
BEGIN:VTIMEZONE
TZID:Asia/Bangkok
BEGIN:STANDARD
TZOFFSETFROM:+0700
TZOFFSETTO:+0700
TZNAME:+07
DTSTART:20250101T000000
END:STANDARD
END:VTIMEZONE
BEGIN:VEVENT
DTSTART;TZID=Asia/Krasnoyarsk:20251108T150000
DTEND;TZID=Asia/Krasnoyarsk:20251108T150000
DTSTAMP:20260420T222224
CREATED:20251104T074301Z
LAST-MODIFIED:20251104T074301Z
UID:10004034-1762614000-1762614000@boo.colorpack.net
SUMMARY:หมู่บ้านนันทวัน ศรีนครินทร์-วงแหวน [หมู่บ้านนันทวัน ศรีนครินทร์-วงแหวน]
DESCRIPTION:สถานที่เจาะ : 233/7 ม.6 \nที่อยู่ : ต.บางเมือง อ.เมือง จ.สมุทรปราการ
URL:https://boo.colorpack.net/event/%e0%b8%ab%e0%b8%a1%e0%b8%b9%e0%b9%88%e0%b8%9a%e0%b9%89%e0%b8%b2%e0%b8%99%e0%b8%99%e0%b8%b1%e0%b8%99%e0%b8%97%e0%b8%a7%e0%b8%b1%e0%b8%99-%e0%b8%a8%e0%b8%a3%e0%b8%b5%e0%b8%99%e0%b8%84%e0%b8%a3-4/
LOCATION:หมู่บ้านนันทวัน ศรีนครินทร์-วงแหวน
CATEGORIES:ปฏิทินตารางหน่วยเคลื่อนที่
END:VEVENT
BEGIN:VEVENT
DTSTART;TZID=Asia/Bangkok:20250809T110000
DTEND;TZID=Asia/Bangkok:20250809T150000
DTSTAMP:20260420T222225
CREATED:20250801T041033Z
LAST-MODIFIED:20250801T041250Z
UID:10002734-1754737200-1754751600@boo.colorpack.net
SUMMARY:หมู่บ้านนันทวัน ศรีนครินทร์-วงแหวน [0J0481]
DESCRIPTION:สถานที่เจาะ : ลานจอดรถด้านข้างสโมสร \nที่อยู่ : 233/7 ม.6 ต.บางเมือง อ.เมือง จ.สมุทรปราการ
URL:https://boo.colorpack.net/event/%e0%b8%ab%e0%b8%a1%e0%b8%b9%e0%b9%88%e0%b8%9a%e0%b9%89%e0%b8%b2%e0%b8%99%e0%b8%99%e0%b8%b1%e0%b8%99%e0%b8%97%e0%b8%a7%e0%b8%b1%e0%b8%99-%e0%b8%a8%e0%b8%a3%e0%b8%b5%e0%b8%99%e0%b8%84%e0%b8%a3-3/
LOCATION:หมู่บ้านนันทวัน ศรีนครินทร์-วงแหวน
CATEGORIES:ปฏิทินตารางหน่วยเคลื่อนที่
END:VEVENT
BEGIN:VEVENT
DTSTART;TZID=Asia/Bangkok:20250510T110000
DTEND;TZID=Asia/Bangkok:20250510T150000
DTSTAMP:20260420T222225
CREATED:20250507T100712Z
LAST-MODIFIED:20250507T100712Z
UID:10001671-1746874800-1746889200@boo.colorpack.net
SUMMARY:หมู่บ้านนันทวัน ศรีนครินทร์-วงแหวน []
DESCRIPTION:สถานที่เจาะ : ลานจอดรถด้านข้างสโมสร \nที่อยู่ : 233/7 ม.6 ต.บางเมือง อ.เมือง จ.สมุทรปราการ
URL:https://boo.colorpack.net/event/%e0%b8%ab%e0%b8%a1%e0%b8%b9%e0%b9%88%e0%b8%9a%e0%b9%89%e0%b8%b2%e0%b8%99%e0%b8%99%e0%b8%b1%e0%b8%99%e0%b8%97%e0%b8%a7%e0%b8%b1%e0%b8%99-%e0%b8%a8%e0%b8%a3%e0%b8%b5%e0%b8%99%e0%b8%84%e0%b8%a3-2/
LOCATION:หมู่บ้านนันทวัน ศรีนครินทร์-วงแหวน
CATEGORIES:ปฏิทินตารางหน่วยเคลื่อนที่
END:VEVENT
BEGIN:VEVENT
DTSTART;TZID=Asia/Bangkok:20250208T110000
DTEND;TZID=Asia/Bangkok:20250208T150000
DTSTAMP:20260420T222225
CREATED:20250201T014406Z
LAST-MODIFIED:20250201T014406Z
UID:10000425-1739012400-1739026800@boo.colorpack.net
SUMMARY:หมู่บ้านนันทวัน ศรีนครินทร์-วงแหวน [0J0481]
DESCRIPTION:สถานที่เจาะ : ลานจอดรถด้านข้างสโมสร \nที่อยู่ : 233/7 ม.6 ต.บางเมือง อ.เมือง สมุทรปราการ
URL:https://boo.colorpack.net/event/%e0%b8%ab%e0%b8%a1%e0%b8%b9%e0%b9%88%e0%b8%9a%e0%b9%89%e0%b8%b2%e0%b8%99%e0%b8%99%e0%b8%b1%e0%b8%99%e0%b8%97%e0%b8%a7%e0%b8%b1%e0%b8%99-%e0%b8%a8%e0%b8%a3%e0%b8%b5%e0%b8%99%e0%b8%84%e0%b8%a3%e0%b8%b4/
LOCATION:หมู่บ้านนันทวัน ศรีนครินทร์-วงแหวน
CATEGORIES:ปฏิทินตารางหน่วยเคลื่อนที่
END:VEVENT
END:VCALENDAR