BEGIN:VCALENDAR
VERSION:2.0
PRODID:-//เว็บไซต์ศูนย์บริการโลหิตแห่งชาติ - ECPv6.11.2.1//NONSGML v1.0//EN
CALSCALE:GREGORIAN
METHOD:PUBLISH
X-ORIGINAL-URL:https://boo.colorpack.net
X-WR-CALDESC:Events for เว็บไซต์ศูนย์บริการโลหิตแห่งชาติ
REFRESH-INTERVAL;VALUE=DURATION:PT1H
X-Robots-Tag:noindex
X-PUBLISHED-TTL:PT1H
BEGIN:VTIMEZONE
TZID:Asia/Bangkok
BEGIN:STANDARD
TZOFFSETFROM:+0700
TZOFFSETTO:+0700
TZNAME:+07
DTSTART:20250101T000000
END:STANDARD
END:VTIMEZONE
BEGIN:VEVENT
DTSTART;TZID=Asia/Bangkok:20251020T150000
DTEND;TZID=Asia/Bangkok:20251020T150000
DTSTAMP:20260422T000800
CREATED:20251014T070015Z
LAST-MODIFIED:20251014T070015Z
UID:10003712-1760972400-1760972400@boo.colorpack.net
SUMMARY:หน่วยรับบริจาคโลหิต บ้านทรงไทย(ย่านวงศ์สว่าง) [บ้านทรงไทย (ย่านวงศ์สว่าง)]
DESCRIPTION:สถานที่เจาะ : 1423 ถนนกรุงเทพ – นนทบุรี \nที่อยู่ : แขวงวงศ์สว่าง เขตบางซื่อ กรุงเทพฯ 0 2256 4300
URL:https://boo.colorpack.net/event/%e0%b8%ab%e0%b8%99%e0%b9%88%e0%b8%a7%e0%b8%a2%e0%b8%a3%e0%b8%b1%e0%b8%9a%e0%b8%9a%e0%b8%a3%e0%b8%b4%e0%b8%88%e0%b8%b2%e0%b8%84%e0%b9%82%e0%b8%a5%e0%b8%ab%e0%b8%b4%e0%b8%95-%e0%b8%9a%e0%b9%89-4/
LOCATION:หน่วยรับบริจาคโลหิต บ้านทรงไทย(ย่านวงศ์สว่าง)\, 1423 ถนนกรุงเทพ-นนทบุรี แขวงวงศ์สว่าง เขตบางซื่อ กรุงเทพมหานคร 10800 0.375
CATEGORIES:ปฏิทินตารางหน่วยเคลื่อนที่
END:VEVENT
BEGIN:VEVENT
DTSTART;TZID=Asia/Bangkok:20251019T150000
DTEND;TZID=Asia/Bangkok:20251019T150000
DTSTAMP:20260422T000800
CREATED:20251014T065920Z
LAST-MODIFIED:20251014T065920Z
UID:10003700-1760886000-1760886000@boo.colorpack.net
SUMMARY:หน่วยรับบริจาคโลหิต บ้านทรงไทย(ย่านวงศ์สว่าง) [บ้านทรงไทย (ย่านวงศ์สว่าง)]
DESCRIPTION:สถานที่เจาะ : 1423 ถนนกรุงเทพ – นนทบุรี \nที่อยู่ : แขวงวงศ์สว่าง เขตบางซื่อ กรุงเทพฯ 0 2256 4300
URL:https://boo.colorpack.net/event/%e0%b8%ab%e0%b8%99%e0%b9%88%e0%b8%a7%e0%b8%a2%e0%b8%a3%e0%b8%b1%e0%b8%9a%e0%b8%9a%e0%b8%a3%e0%b8%b4%e0%b8%88%e0%b8%b2%e0%b8%84%e0%b9%82%e0%b8%a5%e0%b8%ab%e0%b8%b4%e0%b8%95-%e0%b8%9a%e0%b9%89-3/
LOCATION:หน่วยรับบริจาคโลหิต บ้านทรงไทย(ย่านวงศ์สว่าง)\, 1423 ถนนกรุงเทพ-นนทบุรี แขวงวงศ์สว่าง เขตบางซื่อ กรุงเทพมหานคร 10800 0.375
CATEGORIES:ปฏิทินตารางหน่วยเคลื่อนที่
END:VEVENT
BEGIN:VEVENT
DTSTART;TZID=Asia/Bangkok:20251018T150000
DTEND;TZID=Asia/Bangkok:20251018T150000
DTSTAMP:20260422T000800
CREATED:20251014T061403Z
LAST-MODIFIED:20251014T061403Z
UID:10003688-1760799600-1760799600@boo.colorpack.net
SUMMARY:หน่วยรับบริจาคโลหิต บ้านทรงไทย(ย่านวงศ์สว่าง) [บ้านทรงไทย (ย่านวงศ์สว่าง)]
DESCRIPTION:สถานที่เจาะ : 1423 ถนนกรุงเทพ – นนทบุรี \nที่อยู่ : แขวงวงศ์สว่าง เขตบางซื่อ กรุงเทพฯ 0 2256 4300
URL:https://boo.colorpack.net/event/%e0%b8%ab%e0%b8%99%e0%b9%88%e0%b8%a7%e0%b8%a2%e0%b8%a3%e0%b8%b1%e0%b8%9a%e0%b8%9a%e0%b8%a3%e0%b8%b4%e0%b8%88%e0%b8%b2%e0%b8%84%e0%b9%82%e0%b8%a5%e0%b8%ab%e0%b8%b4%e0%b8%95-%e0%b8%9a%e0%b9%89-2/
LOCATION:หน่วยรับบริจาคโลหิต บ้านทรงไทย(ย่านวงศ์สว่าง)\, 1423 ถนนกรุงเทพ-นนทบุรี แขวงวงศ์สว่าง เขตบางซื่อ กรุงเทพมหานคร 10800 0.375
CATEGORIES:ปฏิทินตารางหน่วยเคลื่อนที่
END:VEVENT
BEGIN:VEVENT
DTSTART;TZID=Asia/Bangkok:20251017T150000
DTEND;TZID=Asia/Bangkok:20251017T150000
DTSTAMP:20260422T000800
CREATED:20251014T061258Z
LAST-MODIFIED:20251014T061310Z
UID:10003674-1760713200-1760713200@boo.colorpack.net
SUMMARY:หน่วยรับบริจาคโลหิต บ้านทรงไทย(ย่านวงศ์สว่าง) [บ้านทรงไทย (ย่านวงศ์สว่าง)]
DESCRIPTION:สถานที่เจาะ : 1423 ถนนกรุงเทพ – นนทบุรี \nที่อยู่ : แขวงวงศ์สว่าง เขตบางซื่อ กรุงเทพฯ 0 2256 4300
URL:https://boo.colorpack.net/event/%e0%b8%ab%e0%b8%99%e0%b9%88%e0%b8%a7%e0%b8%a2%e0%b8%a3%e0%b8%b1%e0%b8%9a%e0%b8%9a%e0%b8%a3%e0%b8%b4%e0%b8%88%e0%b8%b2%e0%b8%84%e0%b9%82%e0%b8%a5%e0%b8%ab%e0%b8%b4%e0%b8%95-%e0%b8%9a%e0%b9%89%e0%b8%b2/
LOCATION:หน่วยรับบริจาคโลหิต บ้านทรงไทย(ย่านวงศ์สว่าง)\, 1423 ถนนกรุงเทพ-นนทบุรี แขวงวงศ์สว่าง เขตบางซื่อ กรุงเทพมหานคร 10800 0.375
CATEGORIES:ปฏิทินตารางหน่วยเคลื่อนที่
END:VEVENT
END:VCALENDAR