BEGIN:VCALENDAR
VERSION:2.0
PRODID:-//เว็บไซต์ศูนย์บริการโลหิตแห่งชาติ - ECPv6.11.2.1//NONSGML v1.0//EN
CALSCALE:GREGORIAN
METHOD:PUBLISH
X-ORIGINAL-URL:https://boo.colorpack.net
X-WR-CALDESC:Events for เว็บไซต์ศูนย์บริการโลหิตแห่งชาติ
REFRESH-INTERVAL;VALUE=DURATION:PT1H
X-Robots-Tag:noindex
X-PUBLISHED-TTL:PT1H
BEGIN:VTIMEZONE
TZID:Asia/Krasnoyarsk
BEGIN:STANDARD
TZOFFSETFROM:+0700
TZOFFSETTO:+0700
TZNAME:+07
DTSTART:20250101T000000
END:STANDARD
END:VTIMEZONE
BEGIN:VTIMEZONE
TZID:Asia/Bangkok
BEGIN:STANDARD
TZOFFSETFROM:+0700
TZOFFSETTO:+0700
TZNAME:+07
DTSTART:20250101T000000
END:STANDARD
END:VTIMEZONE
BEGIN:VEVENT
DTSTART;TZID=Asia/Krasnoyarsk:20251119T090000
DTEND;TZID=Asia/Krasnoyarsk:20251119T150000
DTSTAMP:20260420T203344
CREATED:20251117T023111Z
LAST-MODIFIED:20251117T023111Z
UID:10004305-1763542800-1763564400@boo.colorpack.net
SUMMARY:สำนักงานเขตมีนบุรี []
DESCRIPTION:สถานที่เจาะ : ศาลาประชาคมเมืองมีนถิ่นทอง (พัก 12.00-13.00 น.) \nที่อยู่ : 333 ถนนสีหบุรานุกิจ แขวงมีนบุรี เขตมีนบุรี กรุงเทพฯ 0 254 7214
URL:https://boo.colorpack.net/event/%e0%b8%aa%e0%b8%b3%e0%b8%99%e0%b8%b1%e0%b8%81%e0%b8%87%e0%b8%b2%e0%b8%99%e0%b9%80%e0%b8%82%e0%b8%95%e0%b8%a1%e0%b8%b5%e0%b8%99%e0%b8%9a%e0%b8%b8%e0%b8%a3%e0%b8%b5-2/
LOCATION:สำนักงานเขตมีนบุรี\, สำนักงานเขตมีนบุรี 333 ถ.สีหบุรานุกิจ แขวงมีนบุรี เขตมีนบุรี กรุงเทพมหานคร 10510
CATEGORIES:ปฏิทินตารางหน่วยเคลื่อนที่
END:VEVENT
BEGIN:VEVENT
DTSTART;TZID=Asia/Bangkok:20250820T090000
DTEND;TZID=Asia/Bangkok:20250820T150000
DTSTAMP:20260420T203344
CREATED:20250805T054256Z
LAST-MODIFIED:20250805T054256Z
UID:10002838-1755680400-1755702000@boo.colorpack.net
SUMMARY:สำนักงานเขตมีนบุรี [0F0001]
DESCRIPTION:สถานที่เจาะ : ศาลาประชาคมเมืองมีนถิ่นทอง (พัก 12-13 น.) \nที่อยู่ : 333 ถนนสีหบุรานุกิจ แขวงมีนบุรี เขตมีนบุรี กรุงเทพฯ 0 254 7214
URL:https://boo.colorpack.net/event/%e0%b8%aa%e0%b8%b3%e0%b8%99%e0%b8%b1%e0%b8%81%e0%b8%87%e0%b8%b2%e0%b8%99%e0%b9%80%e0%b8%82%e0%b8%95%e0%b8%a1%e0%b8%b5%e0%b8%99%e0%b8%9a%e0%b8%b8%e0%b8%a3%e0%b8%b5-0f0001-2/
LOCATION:สำนักงานเขตมีนบุรี\, สำนักงานเขตมีนบุรี 333 ถ.สีหบุรานุกิจ แขวงมีนบุรี เขตมีนบุรี กรุงเทพมหานคร 10510
CATEGORIES:ปฏิทินตารางหน่วยเคลื่อนที่
END:VEVENT
BEGIN:VEVENT
DTSTART;TZID=Asia/Bangkok:20250521T090000
DTEND;TZID=Asia/Bangkok:20250521T150000
DTSTAMP:20260420T203344
CREATED:20250515T095202Z
LAST-MODIFIED:20250515T095202Z
UID:10001822-1747818000-1747839600@boo.colorpack.net
SUMMARY:สำนักงานเขตมีนบุรี []
DESCRIPTION:สถานที่เจาะ : ศาลาประชาคมเมืองมีนถิ่นทอง (พัก 12-13 น.) \nที่อยู่ : 333 ถนนสีหบุรานุกิจ แขวงมีนบุรี เขตมีนบุรี กรุงเทพฯ 0 254 7214
URL:https://boo.colorpack.net/event/%e0%b8%aa%e0%b8%b3%e0%b8%99%e0%b8%b1%e0%b8%81%e0%b8%87%e0%b8%b2%e0%b8%99%e0%b9%80%e0%b8%82%e0%b8%95%e0%b8%a1%e0%b8%b5%e0%b8%99%e0%b8%9a%e0%b8%b8%e0%b8%a3%e0%b8%b5/
LOCATION:สำนักงานเขตมีนบุรี\, สำนักงานเขตมีนบุรี 333 ถ.สีหบุรานุกิจ แขวงมีนบุรี เขตมีนบุรี กรุงเทพมหานคร 10510
CATEGORIES:ปฏิทินตารางหน่วยเคลื่อนที่
END:VEVENT
BEGIN:VEVENT
DTSTART;TZID=Asia/Bangkok:20250220T090000
DTEND;TZID=Asia/Bangkok:20250220T150000
DTSTAMP:20260420T203344
CREATED:20250216T082546Z
LAST-MODIFIED:20250216T082546Z
UID:10000629-1740042000-1740063600@boo.colorpack.net
SUMMARY:สำนักงานเขตมีนบุรี [0F0001]
DESCRIPTION:สถานที่เจาะ : ศาลาประชาคมเมืองมีนถิ่นทอง (พัก 12.00-13.00 น.) \nที่อยู่ : 333 ถนนสีหบุรานุกิจ แขวงมีนบุรี เขตมีนบุรี กรุงเทพฯ  \nโทร : 0 254 7214
URL:https://boo.colorpack.net/event/%e0%b8%aa%e0%b8%b3%e0%b8%99%e0%b8%b1%e0%b8%81%e0%b8%87%e0%b8%b2%e0%b8%99%e0%b9%80%e0%b8%82%e0%b8%95%e0%b8%a1%e0%b8%b5%e0%b8%99%e0%b8%9a%e0%b8%b8%e0%b8%a3%e0%b8%b5-0f0001/
LOCATION:สำนักงานเขตมีนบุรี\, สำนักงานเขตมีนบุรี 333 ถ.สีหบุรานุกิจ แขวงมีนบุรี เขตมีนบุรี กรุงเทพมหานคร 10510
CATEGORIES:ปฏิทินตารางหน่วยเคลื่อนที่
END:VEVENT
END:VCALENDAR