BEGIN:VCALENDAR
VERSION:2.0
PRODID:-//เว็บไซต์ศูนย์บริการโลหิตแห่งชาติ - ECPv6.11.2.1//NONSGML v1.0//EN
CALSCALE:GREGORIAN
METHOD:PUBLISH
X-ORIGINAL-URL:https://boo.colorpack.net
X-WR-CALDESC:Events for เว็บไซต์ศูนย์บริการโลหิตแห่งชาติ
REFRESH-INTERVAL;VALUE=DURATION:PT1H
X-Robots-Tag:noindex
X-PUBLISHED-TTL:PT1H
BEGIN:VTIMEZONE
TZID:Asia/Krasnoyarsk
BEGIN:STANDARD
TZOFFSETFROM:+0700
TZOFFSETTO:+0700
TZNAME:+07
DTSTART:20260101T000000
END:STANDARD
END:VTIMEZONE
BEGIN:VTIMEZONE
TZID:Asia/Bangkok
BEGIN:STANDARD
TZOFFSETFROM:+0700
TZOFFSETTO:+0700
TZNAME:+07
DTSTART:20250101T000000
END:STANDARD
END:VTIMEZONE
BEGIN:VEVENT
DTSTART;TZID=Asia/Krasnoyarsk:20260108T090000
DTEND;TZID=Asia/Krasnoyarsk:20260108T150000
DTSTAMP:20260422T092001
CREATED:20260106T124326Z
LAST-MODIFIED:20260106T132753Z
UID:10005004-1767862800-1767884400@boo.colorpack.net
SUMMARY:สำนักงานพระคลังข้างที่ [0D0209]
DESCRIPTION:สถานที่เจาะ : บริเวณด้านหน้าอาคาร 5  (พัก 11.30-12.30 น.) \nที่อยู่ : 173 ถนนนครราชสีมา แขวงดุสิต เขตดุสิต กรุงเทพฯ 0 2787 6940
URL:https://boo.colorpack.net/event/%e0%b8%aa%e0%b8%b3%e0%b8%99%e0%b8%b1%e0%b8%81%e0%b8%87%e0%b8%b2%e0%b8%99%e0%b8%9e%e0%b8%a3%e0%b8%b0%e0%b8%84%e0%b8%a5%e0%b8%b1%e0%b8%87%e0%b8%82%e0%b9%89%e0%b8%b2%e0%b8%87%e0%b8%97%e0%b8%b5%e0%b9%88-2/
LOCATION:สำนักงานพระคลังข้างที่\, สำนักงานทรัพย์สินพระมหากษัตริย์ 173 ถนน นครราชสีมา แขวงดุสิต เขตดุสิต กรุงเทพมหานคร 10300
CATEGORIES:ปฏิทินตารางหน่วยเคลื่อนที่
END:VEVENT
BEGIN:VEVENT
DTSTART;TZID=Asia/Bangkok:20251009T090000
DTEND;TZID=Asia/Bangkok:20251009T150000
DTSTAMP:20260422T092001
CREATED:20250925T043105Z
LAST-MODIFIED:20250925T043105Z
UID:10003568-1760000400-1760022000@boo.colorpack.net
SUMMARY:สำนักงานพระคลังข้างที่ [0D0209]
DESCRIPTION:สถานที่เจาะ : ลานหน้าสโมสรทรัพย์สิน  (พัก 11.30-12.30 น.) \nที่อยู่ : 173 ถนนนครราชสีมา แขวงดุสิต เขตดุสิต กรุงเทพฯ 0 2787 6940
URL:https://boo.colorpack.net/event/%e0%b8%aa%e0%b8%b3%e0%b8%99%e0%b8%b1%e0%b8%81%e0%b8%87%e0%b8%b2%e0%b8%99%e0%b8%9e%e0%b8%a3%e0%b8%b0%e0%b8%84%e0%b8%a5%e0%b8%b1%e0%b8%87%e0%b8%82%e0%b9%89%e0%b8%b2%e0%b8%87%e0%b8%97%e0%b8%b5%e0%b9%88/
LOCATION:สำนักงานพระคลังข้างที่\, สำนักงานทรัพย์สินพระมหากษัตริย์ 173 ถนน นครราชสีมา แขวงดุสิต เขตดุสิต กรุงเทพมหานคร 10300
CATEGORIES:ปฏิทินตารางหน่วยเคลื่อนที่
END:VEVENT
END:VCALENDAR