BEGIN:VCALENDAR
VERSION:2.0
PRODID:-//เว็บไซต์ศูนย์บริการโลหิตแห่งชาติ - ECPv6.11.2.1//NONSGML v1.0//EN
CALSCALE:GREGORIAN
METHOD:PUBLISH
X-ORIGINAL-URL:https://boo.colorpack.net
X-WR-CALDESC:Events for เว็บไซต์ศูนย์บริการโลหิตแห่งชาติ
REFRESH-INTERVAL;VALUE=DURATION:PT1H
X-Robots-Tag:noindex
X-PUBLISHED-TTL:PT1H
BEGIN:VTIMEZONE
TZID:Asia/Bangkok
BEGIN:STANDARD
TZOFFSETFROM:+0700
TZOFFSETTO:+0700
TZNAME:+07
DTSTART:20250101T000000
END:STANDARD
END:VTIMEZONE
BEGIN:VEVENT
DTSTART;TZID=Asia/Bangkok:20250924T113000
DTEND;TZID=Asia/Bangkok:20250924T160000
DTSTAMP:20260420T222349
CREATED:20250911T034854Z
LAST-MODIFIED:20250911T034854Z
UID:10003349-1758713400-1758729600@boo.colorpack.net
SUMMARY:สมาคมราชกรีฑาสโมสร [0J0054]
DESCRIPTION:สถานที่เจาะ : ห้องอังรีดูนังต์ \nที่อยู่ : 1 ถนนอังรีดูนังต์ แขวงปทุมวัน เขตปทุมวัน กรุงเทพฯ 0 2028 7272
URL:https://boo.colorpack.net/event/%e0%b8%aa%e0%b8%a1%e0%b8%b2%e0%b8%84%e0%b8%a1%e0%b8%a3%e0%b8%b2%e0%b8%8a%e0%b8%81%e0%b8%a3%e0%b8%b5%e0%b8%91%e0%b8%b2%e0%b8%aa%e0%b9%82%e0%b8%a1%e0%b8%aa%e0%b8%a3-0j0054/
LOCATION:สมาคมราชกรีฑาสโมสร\, สมาคมราชกรีฑาสโมสร 1 ถนนอังรีดูนังต์ เเขวงปทุมวัน เขตปทุมวัน กรุงเทพมหานคร 10330
CATEGORIES:ปฏิทินตารางหน่วยเคลื่อนที่
END:VEVENT
END:VCALENDAR