BEGIN:VCALENDAR
VERSION:2.0
PRODID:-//เว็บไซต์ศูนย์บริการโลหิตแห่งชาติ - ECPv6.11.2.1//NONSGML v1.0//EN
CALSCALE:GREGORIAN
METHOD:PUBLISH
X-WR-CALNAME:เว็บไซต์ศูนย์บริการโลหิตแห่งชาติ
X-ORIGINAL-URL:https://boo.colorpack.net
X-WR-CALDESC:Events for เว็บไซต์ศูนย์บริการโลหิตแห่งชาติ
REFRESH-INTERVAL;VALUE=DURATION:PT1H
X-Robots-Tag:noindex
X-PUBLISHED-TTL:PT1H
BEGIN:VTIMEZONE
TZID:Asia/Bangkok
BEGIN:STANDARD
TZOFFSETFROM:+0700
TZOFFSETTO:+0700
TZNAME:+07
DTSTART:20250101T000000
END:STANDARD
END:VTIMEZONE
BEGIN:VEVENT
DTSTART;TZID=Asia/Bangkok:20250814T110000
DTEND;TZID=Asia/Bangkok:20250814T150000
DTSTAMP:20260422T071515
CREATED:20250801T041648Z
LAST-MODIFIED:20250801T041648Z
UID:10002763-1755169200-1755183600@boo.colorpack.net
SUMMARY:สถาบันเทคโนโลยีพระจอมเกล้าเจ้าคุณทหารลาดกระบัง [0B0093]
DESCRIPTION:สถานที่เจาะ : หอประชุมใหญ่ \nที่อยู่ : 1 ซอยฉลองกรุง 1 ถนนฉลองกรุง แขวงลาดกระบัง เขตลาดกระบัง กรุงเทพฯ
URL:https://boo.colorpack.net/event/%e0%b8%aa%e0%b8%96%e0%b8%b2%e0%b8%9a%e0%b8%b1%e0%b8%99%e0%b9%80%e0%b8%97%e0%b8%84%e0%b9%82%e0%b8%99%e0%b9%82%e0%b8%a5%e0%b8%a2%e0%b8%b5%e0%b8%9e%e0%b8%a3%e0%b8%b0%e0%b8%88%e0%b8%ad%e0%b8%a1%e0%b9%80-2/
LOCATION:สถาบันเทคโนโลยีพระจอมเกล้าเจ้าคุณทหารลาดกระบัง\, สถาบันเทคโนโลยีพระจอมเกล้าเจ้าคุณทหารลาดกระบัง 1 ซอย ฉลองกรุง 1 แขวงลาดกระบัง เขตลาดกระบัง กรุงเทพมหานคร 10520
CATEGORIES:ปฏิทินตารางหน่วยเคลื่อนที่
END:VEVENT
BEGIN:VEVENT
DTSTART;TZID=Asia/Bangkok:20250515T110000
DTEND;TZID=Asia/Bangkok:20250515T150000
DTSTAMP:20260422T071515
CREATED:20250514T103208Z
LAST-MODIFIED:20250514T103208Z
UID:10001736-1747306800-1747321200@boo.colorpack.net
SUMMARY:สถาบันเทคโนโลยีพระจอมเกล้าเจ้าคุณทหารลาดกระบัง []
DESCRIPTION:สถานที่เจาะ : หอประชุมใหญ่ \nที่อยู่ : 1 ซอยฉลองกรุง 1 ถนนฉลองกรุง แขวงลาดกระบัง เขตลาดกระบัง กรุงเทพฯ 0 2329 8108
URL:https://boo.colorpack.net/event/%e0%b8%aa%e0%b8%96%e0%b8%b2%e0%b8%9a%e0%b8%b1%e0%b8%99%e0%b9%80%e0%b8%97%e0%b8%84%e0%b9%82%e0%b8%99%e0%b9%82%e0%b8%a5%e0%b8%a2%e0%b8%b5%e0%b8%9e%e0%b8%a3%e0%b8%b0%e0%b8%88%e0%b8%ad%e0%b8%a1%e0%b9%80/
LOCATION:สถาบันเทคโนโลยีพระจอมเกล้าเจ้าคุณทหารลาดกระบัง\, สถาบันเทคโนโลยีพระจอมเกล้าเจ้าคุณทหารลาดกระบัง 1 ซอย ฉลองกรุง 1 แขวงลาดกระบัง เขตลาดกระบัง กรุงเทพมหานคร 10520
CATEGORIES:ปฏิทินตารางหน่วยเคลื่อนที่
END:VEVENT
END:VCALENDAR