BEGIN:VCALENDAR
VERSION:2.0
PRODID:-//เว็บไซต์ศูนย์บริการโลหิตแห่งชาติ - ECPv6.11.2.1//NONSGML v1.0//EN
CALSCALE:GREGORIAN
METHOD:PUBLISH
X-WR-CALNAME:เว็บไซต์ศูนย์บริการโลหิตแห่งชาติ
X-ORIGINAL-URL:https://boo.colorpack.net
X-WR-CALDESC:Events for เว็บไซต์ศูนย์บริการโลหิตแห่งชาติ
REFRESH-INTERVAL;VALUE=DURATION:PT1H
X-Robots-Tag:noindex
X-PUBLISHED-TTL:PT1H
BEGIN:VTIMEZONE
TZID:Asia/Krasnoyarsk
BEGIN:STANDARD
TZOFFSETFROM:+0700
TZOFFSETTO:+0700
TZNAME:+07
DTSTART:20250101T000000
END:STANDARD
END:VTIMEZONE
BEGIN:VTIMEZONE
TZID:Asia/Bangkok
BEGIN:STANDARD
TZOFFSETFROM:+0700
TZOFFSETTO:+0700
TZNAME:+07
DTSTART:20250101T000000
END:STANDARD
END:VTIMEZONE
BEGIN:VEVENT
DTSTART;TZID=Asia/Krasnoyarsk:20260117T110000
DTEND;TZID=Asia/Krasnoyarsk:20260117T150000
DTSTAMP:20260422T073040
CREATED:20260113T115934Z
LAST-MODIFIED:20260113T115934Z
UID:10005139-1768647600-1768662000@boo.colorpack.net
SUMMARY:ศูนย์สรรพสินค้าซีคอนสแควร์ []
DESCRIPTION:สถานที่เจาะ : ชั้น 3 โซน Seacon Campus \nที่อยู่ : 55 ถนนศรีนครินทร์ แขวงหนองบอน เขตประเวศ กรุงเทพฯ 0 2721 8888
URL:https://boo.colorpack.net/event/%e0%b8%a8%e0%b8%b9%e0%b8%99%e0%b8%a2%e0%b9%8c%e0%b8%aa%e0%b8%a3%e0%b8%a3%e0%b8%9e%e0%b8%aa%e0%b8%b4%e0%b8%99%e0%b8%84%e0%b9%89%e0%b8%b2%e0%b8%8b%e0%b8%b5%e0%b8%84%e0%b8%ad%e0%b8%99%e0%b8%aa-15/
LOCATION:ศูนย์สรรพสินค้าซีคอนสแควร์\, ศูนย์สรรพสินค้าซีคอนสแควร์ 55 ถ.ศรีนครินทร์ แขวงหนองบอน เขตประเวศ กรุงเทพมหานคร 10250
CATEGORIES:ปฏิทินตารางหน่วยเคลื่อนที่
END:VEVENT
BEGIN:VEVENT
DTSTART;TZID=Asia/Krasnoyarsk:20251220T110000
DTEND;TZID=Asia/Krasnoyarsk:20251220T150000
DTSTAMP:20260422T073040
CREATED:20251215T115842Z
LAST-MODIFIED:20251215T115842Z
UID:10004773-1766228400-1766242800@boo.colorpack.net
SUMMARY:ศูนย์สรรพสินค้าซีคอนสแควร์ [0E0725]
DESCRIPTION:สถานที่เจาะ : ชั้น 3 โซน Seacon Campus \nที่อยู่ : 55 ถนนศรีนครินทร์ แขวงหนองบอน เขตประเวศ กรุงเทพฯ 0 2721 8888
URL:https://boo.colorpack.net/event/%e0%b8%a8%e0%b8%b9%e0%b8%99%e0%b8%a2%e0%b9%8c%e0%b8%aa%e0%b8%a3%e0%b8%a3%e0%b8%9e%e0%b8%aa%e0%b8%b4%e0%b8%99%e0%b8%84%e0%b9%89%e0%b8%b2%e0%b8%8b%e0%b8%b5%e0%b8%84%e0%b8%ad%e0%b8%99%e0%b8%aa-14/
LOCATION:ศูนย์สรรพสินค้าซีคอนสแควร์\, ศูนย์สรรพสินค้าซีคอนสแควร์ 55 ถ.ศรีนครินทร์ แขวงหนองบอน เขตประเวศ กรุงเทพมหานคร 10250
CATEGORIES:ปฏิทินตารางหน่วยเคลื่อนที่
END:VEVENT
BEGIN:VEVENT
DTSTART;TZID=Asia/Krasnoyarsk:20251115T110000
DTEND;TZID=Asia/Krasnoyarsk:20251115T150000
DTSTAMP:20260422T073040
CREATED:20251111T050743Z
LAST-MODIFIED:20251111T050806Z
UID:10004259-1763204400-1763218800@boo.colorpack.net
SUMMARY:ศูนย์สรรพสินค้าซีคอนสแควร์ []
DESCRIPTION:สถานที่เจาะ : ชั้น 3 โซน Seacon Campus \nที่อยู่ : 55 ถนนศรีนครินทร์ แขวงหนองบอน เขตประเวศ กรุงเทพฯ  \nโทร : 0 2721 8888
URL:https://boo.colorpack.net/event/%e0%b8%a8%e0%b8%b9%e0%b8%99%e0%b8%a2%e0%b9%8c%e0%b8%aa%e0%b8%a3%e0%b8%a3%e0%b8%9e%e0%b8%aa%e0%b8%b4%e0%b8%99%e0%b8%84%e0%b9%89%e0%b8%b2%e0%b8%8b%e0%b8%b5%e0%b8%84%e0%b8%ad%e0%b8%99%e0%b8%aa-13/
LOCATION:ศูนย์สรรพสินค้าซีคอนสแควร์\, ศูนย์สรรพสินค้าซีคอนสแควร์ 55 ถ.ศรีนครินทร์ แขวงหนองบอน เขตประเวศ กรุงเทพมหานคร 10250
CATEGORIES:ปฏิทินตารางหน่วยเคลื่อนที่
END:VEVENT
BEGIN:VEVENT
DTSTART;TZID=Asia/Bangkok:20251018T150000
DTEND;TZID=Asia/Bangkok:20251018T150000
DTSTAMP:20260422T073040
CREATED:20251014T061408Z
LAST-MODIFIED:20251014T061408Z
UID:10003690-1760799600-1760799600@boo.colorpack.net
SUMMARY:ศูนย์สรรพสินค้าซีคอนสแควร์ [ศูนย์สรรพสินค้าซีคอนสแควร์]
DESCRIPTION:สถานที่เจาะ : 55 ถนนศรีนครินทร์ \nที่อยู่ : แขวงหนองบอน เขตประเวศ กรุงเทพฯ 0 2721 8888
URL:https://boo.colorpack.net/event/%e0%b8%a8%e0%b8%b9%e0%b8%99%e0%b8%a2%e0%b9%8c%e0%b8%aa%e0%b8%a3%e0%b8%a3%e0%b8%9e%e0%b8%aa%e0%b8%b4%e0%b8%99%e0%b8%84%e0%b9%89%e0%b8%b2%e0%b8%8b%e0%b8%b5%e0%b8%84%e0%b8%ad%e0%b8%99%e0%b8%aa-10/
LOCATION:ศูนย์สรรพสินค้าซีคอนสแควร์\, ศูนย์สรรพสินค้าซีคอนสแควร์ 55 ถ.ศรีนครินทร์ แขวงหนองบอน เขตประเวศ กรุงเทพมหานคร 10250
CATEGORIES:ปฏิทินตารางหน่วยเคลื่อนที่
END:VEVENT
BEGIN:VEVENT
DTSTART;TZID=Asia/Bangkok:20250920T110000
DTEND;TZID=Asia/Bangkok:20250920T150000
DTSTAMP:20260422T073040
CREATED:20250911T031658Z
LAST-MODIFIED:20250911T031658Z
UID:10003292-1758366000-1758380400@boo.colorpack.net
SUMMARY:ศูนย์สรรพสินค้าซีคอนสแควร์ [0E0725]
DESCRIPTION:สถานที่เจาะ : ชั้น 3 โซน Seacon Campus \nที่อยู่ : 55 ถนนศรีนครินทร์ แขวงหนองบอน เขตประเวศ กรุงเทพฯ 0 2721 8888
URL:https://boo.colorpack.net/event/%e0%b8%a8%e0%b8%b9%e0%b8%99%e0%b8%a2%e0%b9%8c%e0%b8%aa%e0%b8%a3%e0%b8%a3%e0%b8%9e%e0%b8%aa%e0%b8%b4%e0%b8%99%e0%b8%84%e0%b9%89%e0%b8%b2%e0%b8%8b%e0%b8%b5%e0%b8%84%e0%b8%ad%e0%b8%99%e0%b8%aa%e0%b9%81-9/
LOCATION:ศูนย์สรรพสินค้าซีคอนสแควร์\, ศูนย์สรรพสินค้าซีคอนสแควร์ 55 ถ.ศรีนครินทร์ แขวงหนองบอน เขตประเวศ กรุงเทพมหานคร 10250
CATEGORIES:ปฏิทินตารางหน่วยเคลื่อนที่
END:VEVENT
BEGIN:VEVENT
DTSTART;TZID=Asia/Bangkok:20250816T110000
DTEND;TZID=Asia/Bangkok:20250816T150000
DTSTAMP:20260422T073040
CREATED:20250805T053602Z
LAST-MODIFIED:20250805T053602Z
UID:10002802-1755342000-1755356400@boo.colorpack.net
SUMMARY:ศูนย์สรรพสินค้าซีคอนสแควร์ [0E0725]
DESCRIPTION:สถานที่เจาะ : ชั้น 3 โซน Seacon Campus \nที่อยู่ : 55 ถนนศรีนครินทร์ แขวงหนองบอน เขตประเวศ กรุงเทพฯ 0 2721 8888
URL:https://boo.colorpack.net/event/%e0%b8%a8%e0%b8%b9%e0%b8%99%e0%b8%a2%e0%b9%8c%e0%b8%aa%e0%b8%a3%e0%b8%a3%e0%b8%9e%e0%b8%aa%e0%b8%b4%e0%b8%99%e0%b8%84%e0%b9%89%e0%b8%b2%e0%b8%8b%e0%b8%b5%e0%b8%84%e0%b8%ad%e0%b8%99%e0%b8%aa%e0%b9%81-8/
LOCATION:ศูนย์สรรพสินค้าซีคอนสแควร์\, ศูนย์สรรพสินค้าซีคอนสแควร์ 55 ถ.ศรีนครินทร์ แขวงหนองบอน เขตประเวศ กรุงเทพมหานคร 10250
CATEGORIES:ปฏิทินตารางหน่วยเคลื่อนที่
END:VEVENT
BEGIN:VEVENT
DTSTART;TZID=Asia/Bangkok:20250719T110000
DTEND;TZID=Asia/Bangkok:20250719T150000
DTSTAMP:20260422T073040
CREATED:20250716T115025Z
LAST-MODIFIED:20250716T115025Z
UID:10002605-1752922800-1752937200@boo.colorpack.net
SUMMARY:ศูนย์สรรพสินค้าซีคอนสแควร์ []
DESCRIPTION:สถานที่เจาะ : ชั้น 3 โซน Seacon Campus \nที่อยู่ : 55 ถนนศรีนครินทร์ แขวงหนองบอน เขตประเวศ กรุงเทพฯ 0 2721 8888
URL:https://boo.colorpack.net/event/%e0%b8%a8%e0%b8%b9%e0%b8%99%e0%b8%a2%e0%b9%8c%e0%b8%aa%e0%b8%a3%e0%b8%a3%e0%b8%9e%e0%b8%aa%e0%b8%b4%e0%b8%99%e0%b8%84%e0%b9%89%e0%b8%b2%e0%b8%8b%e0%b8%b5%e0%b8%84%e0%b8%ad%e0%b8%99%e0%b8%aa%e0%b9%81-7/
LOCATION:ศูนย์สรรพสินค้าซีคอนสแควร์\, ศูนย์สรรพสินค้าซีคอนสแควร์ 55 ถ.ศรีนครินทร์ แขวงหนองบอน เขตประเวศ กรุงเทพมหานคร 10250
CATEGORIES:ปฏิทินตารางหน่วยเคลื่อนที่
END:VEVENT
BEGIN:VEVENT
DTSTART;TZID=Asia/Bangkok:20250621T110000
DTEND;TZID=Asia/Bangkok:20250621T150000
DTSTAMP:20260422T073041
CREATED:20250612T094542Z
LAST-MODIFIED:20250619T033817Z
UID:10002188-1750503600-1750518000@boo.colorpack.net
SUMMARY:ศูนย์สรรพสินค้าซีคอนสแควร์ []
DESCRIPTION:สถานที่เจาะ : ชั้น 3 โซน Seacon Campus \nที่อยู่ : 55 ถนนศรีนครินทร์ แขวงหนองบอน เขตประเวศ กรุงเทพฯ 0 2721 8888
URL:https://boo.colorpack.net/event/%e0%b8%a8%e0%b8%b9%e0%b8%99%e0%b8%a2%e0%b9%8c%e0%b8%aa%e0%b8%a3%e0%b8%a3%e0%b8%9e%e0%b8%aa%e0%b8%b4%e0%b8%99%e0%b8%84%e0%b9%89%e0%b8%b2%e0%b8%8b%e0%b8%b5%e0%b8%84%e0%b8%ad%e0%b8%99%e0%b8%aa%e0%b9%81-6/
LOCATION:ศูนย์สรรพสินค้าซีคอนสแควร์\, ศูนย์สรรพสินค้าซีคอนสแควร์ 55 ถ.ศรีนครินทร์ แขวงหนองบอน เขตประเวศ กรุงเทพมหานคร 10250
CATEGORIES:ปฏิทินตารางหน่วยเคลื่อนที่
END:VEVENT
BEGIN:VEVENT
DTSTART;TZID=Asia/Bangkok:20250517T110000
DTEND;TZID=Asia/Bangkok:20250517T150000
DTSTAMP:20260422T073041
CREATED:20250514T104652Z
LAST-MODIFIED:20250514T104652Z
UID:10001772-1747479600-1747494000@boo.colorpack.net
SUMMARY:ศูนย์สรรพสินค้าซีคอนสแควร์ []
DESCRIPTION:สถานที่เจาะ : ชั้น 3 โซน Seacon Campus \nที่อยู่ : 55 ถนนศรีนครินทร์ แขวงหนองบอน เขตประเวศ กรุงเทพฯ 0 2721 8888
URL:https://boo.colorpack.net/event/%e0%b8%a8%e0%b8%b9%e0%b8%99%e0%b8%a2%e0%b9%8c%e0%b8%aa%e0%b8%a3%e0%b8%a3%e0%b8%9e%e0%b8%aa%e0%b8%b4%e0%b8%99%e0%b8%84%e0%b9%89%e0%b8%b2%e0%b8%8b%e0%b8%b5%e0%b8%84%e0%b8%ad%e0%b8%99%e0%b8%aa%e0%b9%81-5/
LOCATION:ศูนย์สรรพสินค้าซีคอนสแควร์\, ศูนย์สรรพสินค้าซีคอนสแควร์ 55 ถ.ศรีนครินทร์ แขวงหนองบอน เขตประเวศ กรุงเทพมหานคร 10250
CATEGORIES:ปฏิทินตารางหน่วยเคลื่อนที่
END:VEVENT
BEGIN:VEVENT
DTSTART;TZID=Asia/Bangkok:20250419T110000
DTEND;TZID=Asia/Bangkok:20250419T150000
DTSTAMP:20260422T073041
CREATED:20250410T083610Z
LAST-MODIFIED:20250410T083610Z
UID:10001359-1745060400-1745074800@boo.colorpack.net
SUMMARY:ศูนย์สรรพสินค้าซีคอนสแควร์ [0E0725]
DESCRIPTION:สถานที่เจาะ : ชั้น 3 โซน Seacon Campus \nที่อยู่ : 55 ถนนศรีนครินทร์ แขวงหนองบอน เขตประเวศ กรุงเทพฯ 0 2721 8888
URL:https://boo.colorpack.net/event/%e0%b8%a8%e0%b8%b9%e0%b8%99%e0%b8%a2%e0%b9%8c%e0%b8%aa%e0%b8%a3%e0%b8%a3%e0%b8%9e%e0%b8%aa%e0%b8%b4%e0%b8%99%e0%b8%84%e0%b9%89%e0%b8%b2%e0%b8%8b%e0%b8%b5%e0%b8%84%e0%b8%ad%e0%b8%99%e0%b8%aa%e0%b9%81-4/
LOCATION:ศูนย์สรรพสินค้าซีคอนสแควร์\, ศูนย์สรรพสินค้าซีคอนสแควร์ 55 ถ.ศรีนครินทร์ แขวงหนองบอน เขตประเวศ กรุงเทพมหานคร 10250
CATEGORIES:ปฏิทินตารางหน่วยเคลื่อนที่
END:VEVENT
BEGIN:VEVENT
DTSTART;TZID=Asia/Bangkok:20250315T110000
DTEND;TZID=Asia/Bangkok:20250315T150000
DTSTAMP:20260422T073041
CREATED:20250309T141749Z
LAST-MODIFIED:20250309T141749Z
UID:10000888-1742036400-1742050800@boo.colorpack.net
SUMMARY:ศูนย์สรรพสินค้าซีคอนสแควร์ [0E0725]
DESCRIPTION:สถานที่เจาะ : ชั้น 3 โซน Seacon Campus \nที่อยู่ : 55 ถนนศรีนครินทร์ แขวงหนองบอน เขตประเวศ กรุงเทพฯ 0 2721 8888
URL:https://boo.colorpack.net/event/%e0%b8%a8%e0%b8%b9%e0%b8%99%e0%b8%a2%e0%b9%8c%e0%b8%aa%e0%b8%a3%e0%b8%a3%e0%b8%9e%e0%b8%aa%e0%b8%b4%e0%b8%99%e0%b8%84%e0%b9%89%e0%b8%b2%e0%b8%8b%e0%b8%b5%e0%b8%84%e0%b8%ad%e0%b8%99%e0%b8%aa%e0%b9%81-3/
LOCATION:ศูนย์สรรพสินค้าซีคอนสแควร์\, ศูนย์สรรพสินค้าซีคอนสแควร์ 55 ถ.ศรีนครินทร์ แขวงหนองบอน เขตประเวศ กรุงเทพมหานคร 10250
CATEGORIES:ปฏิทินตารางหน่วยเคลื่อนที่
END:VEVENT
BEGIN:VEVENT
DTSTART;TZID=Asia/Bangkok:20250215T110000
DTEND;TZID=Asia/Bangkok:20250215T150000
DTSTAMP:20260422T073041
CREATED:20250209T125149Z
LAST-MODIFIED:20250209T125149Z
UID:10000538-1739617200-1739631600@boo.colorpack.net
SUMMARY:ศูนย์สรรพสินค้าซีคอนสแควร์ [0E0725]
DESCRIPTION:สถานที่เจาะ : ชั้น 3 โซน Seacon Campus \nที่อยู่ : 55 ถนนศรีนครินทร์ แขวงหนองบอน เขตประเวศ กรุงเทพฯ  \nโทร : 0 2721 8888
URL:https://boo.colorpack.net/event/%e0%b8%a8%e0%b8%b9%e0%b8%99%e0%b8%a2%e0%b9%8c%e0%b8%aa%e0%b8%a3%e0%b8%a3%e0%b8%9e%e0%b8%aa%e0%b8%b4%e0%b8%99%e0%b8%84%e0%b9%89%e0%b8%b2%e0%b8%8b%e0%b8%b5%e0%b8%84%e0%b8%ad%e0%b8%99%e0%b8%aa%e0%b9%81-2/
LOCATION:ศูนย์สรรพสินค้าซีคอนสแควร์\, ศูนย์สรรพสินค้าซีคอนสแควร์ 55 ถ.ศรีนครินทร์ แขวงหนองบอน เขตประเวศ กรุงเทพมหานคร 10250
CATEGORIES:ปฏิทินตารางหน่วยเคลื่อนที่
END:VEVENT
BEGIN:VEVENT
DTSTART;TZID=Asia/Bangkok:20250118T110000
DTEND;TZID=Asia/Bangkok:20250118T150000
DTSTAMP:20260422T073041
CREATED:20250114T105153Z
LAST-MODIFIED:20250114T105153Z
UID:10000273-1737198000-1737212400@boo.colorpack.net
SUMMARY:ศูนย์สรรพสินค้าซีคอนสแควร์ [0E0725]
DESCRIPTION:สถานที่เจาะ : ชั้น 3 โซนการศึกษา \nที่อยู่ : 55 ถนนศรีนครินทร์ แขวงหนองบอน เขตประเวศ กรุงเทพฯ  \nโทร : 0 2721 8888
URL:https://boo.colorpack.net/event/%e0%b8%a8%e0%b8%b9%e0%b8%99%e0%b8%a2%e0%b9%8c%e0%b8%aa%e0%b8%a3%e0%b8%a3%e0%b8%9e%e0%b8%aa%e0%b8%b4%e0%b8%99%e0%b8%84%e0%b9%89%e0%b8%b2%e0%b8%8b%e0%b8%b5%e0%b8%84%e0%b8%ad%e0%b8%99%e0%b8%aa%e0%b9%81/
LOCATION:ศูนย์สรรพสินค้าซีคอนสแควร์\, ศูนย์สรรพสินค้าซีคอนสแควร์ 55 ถ.ศรีนครินทร์ แขวงหนองบอน เขตประเวศ กรุงเทพมหานคร 10250
CATEGORIES:ปฏิทินตารางหน่วยเคลื่อนที่
END:VEVENT
END:VCALENDAR