BEGIN:VCALENDAR
VERSION:2.0
PRODID:-//เว็บไซต์ศูนย์บริการโลหิตแห่งชาติ - ECPv6.11.2.1//NONSGML v1.0//EN
CALSCALE:GREGORIAN
METHOD:PUBLISH
X-ORIGINAL-URL:https://boo.colorpack.net
X-WR-CALDESC:Events for เว็บไซต์ศูนย์บริการโลหิตแห่งชาติ
REFRESH-INTERVAL;VALUE=DURATION:PT1H
X-Robots-Tag:noindex
X-PUBLISHED-TTL:PT1H
BEGIN:VTIMEZONE
TZID:Asia/Krasnoyarsk
BEGIN:STANDARD
TZOFFSETFROM:+0700
TZOFFSETTO:+0700
TZNAME:+07
DTSTART:20250101T000000
END:STANDARD
END:VTIMEZONE
BEGIN:VTIMEZONE
TZID:Asia/Bangkok
BEGIN:STANDARD
TZOFFSETFROM:+0700
TZOFFSETTO:+0700
TZNAME:+07
DTSTART:20250101T000000
END:STANDARD
END:VTIMEZONE
BEGIN:VEVENT
DTSTART;TZID=Asia/Krasnoyarsk:20251116T083000
DTEND;TZID=Asia/Krasnoyarsk:20251116T153000
DTSTAMP:20260425T231045
CREATED:20251111T050819Z
LAST-MODIFIED:20251111T050819Z
UID:10004263-1763281800-1763307000@boo.colorpack.net
SUMMARY:ศูนย์บริการโลหิตแห่งชาติ สภากาชาดไทย []
DESCRIPTION:ที่อยู่ : 1871 ถ. อังรีดูนังต์ แขวงปทุมวัน เขตปทุมวัน
URL:https://boo.colorpack.net/event/%e0%b8%a8%e0%b8%b9%e0%b8%99%e0%b8%a2%e0%b9%8c%e0%b8%9a%e0%b8%a3%e0%b8%b4%e0%b8%81%e0%b8%b2%e0%b8%a3%e0%b9%82%e0%b8%a5%e0%b8%ab%e0%b8%b4%e0%b8%95%e0%b9%81%e0%b8%ab%e0%b9%88%e0%b8%87%e0%b8%8a-341/
LOCATION:ศูนย์บริการโลหิตแห่งชาติ สภากาชาดไทย\, ศูนย์บริการโลหิตแห่งชาติ สภากาชาดไทย 1871 ถ. อังรีดูนังต์ แขวงปทุมวัน เขตปทุมวัน กรุงเทพมหานคร 10330
CATEGORIES:ปฏิทินตารางหน่วยเคลื่อนที่
END:VEVENT
BEGIN:VEVENT
DTSTART;TZID=Asia/Krasnoyarsk:20251115T083000
DTEND;TZID=Asia/Krasnoyarsk:20251115T153000
DTSTAMP:20260425T231045
CREATED:20251111T050544Z
LAST-MODIFIED:20251111T050544Z
UID:10004245-1763195400-1763220600@boo.colorpack.net
SUMMARY:ศูนย์บริการโลหิตแห่งชาติ สภากาชาดไทย []
DESCRIPTION:ที่อยู่ : 1871 ถ. อังรีดูนังต์ แขวงปทุมวัน เขตปทุมวัน
URL:https://boo.colorpack.net/event/%e0%b8%a8%e0%b8%b9%e0%b8%99%e0%b8%a2%e0%b9%8c%e0%b8%9a%e0%b8%a3%e0%b8%b4%e0%b8%81%e0%b8%b2%e0%b8%a3%e0%b9%82%e0%b8%a5%e0%b8%ab%e0%b8%b4%e0%b8%95%e0%b9%81%e0%b8%ab%e0%b9%88%e0%b8%87%e0%b8%8a-340/
LOCATION:ศูนย์บริการโลหิตแห่งชาติ สภากาชาดไทย\, ศูนย์บริการโลหิตแห่งชาติ สภากาชาดไทย 1871 ถ. อังรีดูนังต์ แขวงปทุมวัน เขตปทุมวัน กรุงเทพมหานคร 10330
CATEGORIES:ปฏิทินตารางหน่วยเคลื่อนที่
END:VEVENT
BEGIN:VEVENT
DTSTART;TZID=Asia/Krasnoyarsk:20251114T073000
DTEND;TZID=Asia/Krasnoyarsk:20251114T193000
DTSTAMP:20260425T231045
CREATED:20251111T050355Z
LAST-MODIFIED:20251111T050355Z
UID:10004230-1763105400-1763148600@boo.colorpack.net
SUMMARY:ศูนย์บริการโลหิตแห่งชาติ สภากาชาดไทย []
DESCRIPTION:ที่อยู่ : 1871 ถ. อังรีดูนังต์ แขวงปทุมวัน เขตปทุมวัน
URL:https://boo.colorpack.net/event/%e0%b8%a8%e0%b8%b9%e0%b8%99%e0%b8%a2%e0%b9%8c%e0%b8%9a%e0%b8%a3%e0%b8%b4%e0%b8%81%e0%b8%b2%e0%b8%a3%e0%b9%82%e0%b8%a5%e0%b8%ab%e0%b8%b4%e0%b8%95%e0%b9%81%e0%b8%ab%e0%b9%88%e0%b8%87%e0%b8%8a-339/
LOCATION:ศูนย์บริการโลหิตแห่งชาติ สภากาชาดไทย\, ศูนย์บริการโลหิตแห่งชาติ สภากาชาดไทย 1871 ถ. อังรีดูนังต์ แขวงปทุมวัน เขตปทุมวัน กรุงเทพมหานคร 10330
CATEGORIES:ปฏิทินตารางหน่วยเคลื่อนที่
END:VEVENT
BEGIN:VEVENT
DTSTART;TZID=Asia/Krasnoyarsk:20251113T073000
DTEND;TZID=Asia/Krasnoyarsk:20251113T193000
DTSTAMP:20260425T231045
CREATED:20251111T050232Z
LAST-MODIFIED:20251111T050232Z
UID:10004217-1763019000-1763062200@boo.colorpack.net
SUMMARY:ศูนย์บริการโลหิตแห่งชาติ สภากาชาดไทย []
DESCRIPTION:ที่อยู่ : 1871 ถ. อังรีดูนังต์ แขวงปทุมวัน เขตปทุมวัน
URL:https://boo.colorpack.net/event/%e0%b8%a8%e0%b8%b9%e0%b8%99%e0%b8%a2%e0%b9%8c%e0%b8%9a%e0%b8%a3%e0%b8%b4%e0%b8%81%e0%b8%b2%e0%b8%a3%e0%b9%82%e0%b8%a5%e0%b8%ab%e0%b8%b4%e0%b8%95%e0%b9%81%e0%b8%ab%e0%b9%88%e0%b8%87%e0%b8%8a-338/
LOCATION:ศูนย์บริการโลหิตแห่งชาติ สภากาชาดไทย\, ศูนย์บริการโลหิตแห่งชาติ สภากาชาดไทย 1871 ถ. อังรีดูนังต์ แขวงปทุมวัน เขตปทุมวัน กรุงเทพมหานคร 10330
CATEGORIES:ปฏิทินตารางหน่วยเคลื่อนที่
END:VEVENT
BEGIN:VEVENT
DTSTART;TZID=Asia/Krasnoyarsk:20251112T073000
DTEND;TZID=Asia/Krasnoyarsk:20251112T193000
DTSTAMP:20260425T231045
CREATED:20251111T050022Z
LAST-MODIFIED:20251111T050022Z
UID:10004203-1762932600-1762975800@boo.colorpack.net
SUMMARY:ศูนย์บริการโลหิตแห่งชาติ สภากาชาดไทย []
DESCRIPTION:ที่อยู่ : 1871 ถ. อังรีดูนังต์ แขวงปทุมวัน เขตปทุมวัน
URL:https://boo.colorpack.net/event/%e0%b8%a8%e0%b8%b9%e0%b8%99%e0%b8%a2%e0%b9%8c%e0%b8%9a%e0%b8%a3%e0%b8%b4%e0%b8%81%e0%b8%b2%e0%b8%a3%e0%b9%82%e0%b8%a5%e0%b8%ab%e0%b8%b4%e0%b8%95%e0%b9%81%e0%b8%ab%e0%b9%88%e0%b8%87%e0%b8%8a-337/
LOCATION:ศูนย์บริการโลหิตแห่งชาติ สภากาชาดไทย\, ศูนย์บริการโลหิตแห่งชาติ สภากาชาดไทย 1871 ถ. อังรีดูนังต์ แขวงปทุมวัน เขตปทุมวัน กรุงเทพมหานคร 10330
CATEGORIES:ปฏิทินตารางหน่วยเคลื่อนที่
END:VEVENT
BEGIN:VEVENT
DTSTART;TZID=Asia/Krasnoyarsk:20251111T073000
DTEND;TZID=Asia/Krasnoyarsk:20251111T193000
DTSTAMP:20260425T231045
CREATED:20251111T045910Z
LAST-MODIFIED:20251111T045910Z
UID:10004191-1762846200-1762889400@boo.colorpack.net
SUMMARY:ศูนย์บริการโลหิตแห่งชาติ สภากาชาดไทย []
DESCRIPTION:ที่อยู่ : 1871 ถ. อังรีดูนังต์ แขวงปทุมวัน เขตปทุมวัน
URL:https://boo.colorpack.net/event/%e0%b8%a8%e0%b8%b9%e0%b8%99%e0%b8%a2%e0%b9%8c%e0%b8%9a%e0%b8%a3%e0%b8%b4%e0%b8%81%e0%b8%b2%e0%b8%a3%e0%b9%82%e0%b8%a5%e0%b8%ab%e0%b8%b4%e0%b8%95%e0%b9%81%e0%b8%ab%e0%b9%88%e0%b8%87%e0%b8%8a-336/
LOCATION:ศูนย์บริการโลหิตแห่งชาติ สภากาชาดไทย\, ศูนย์บริการโลหิตแห่งชาติ สภากาชาดไทย 1871 ถ. อังรีดูนังต์ แขวงปทุมวัน เขตปทุมวัน กรุงเทพมหานคร 10330
CATEGORIES:ปฏิทินตารางหน่วยเคลื่อนที่
END:VEVENT
BEGIN:VEVENT
DTSTART;TZID=Asia/Krasnoyarsk:20251110T193000
DTEND;TZID=Asia/Krasnoyarsk:20251110T193000
DTSTAMP:20260425T231045
CREATED:20251101T063104Z
LAST-MODIFIED:20251101T063352Z
UID:10003945-1762803000-1762803000@boo.colorpack.net
SUMMARY:ศูนย์บริการโลหิตแห่งชาติ สภากาชาดไทย [ศูนย์บริการโลหิตแห่งชาติ สภากาชาดไทย]
DESCRIPTION:สถานที่เจาะ : 1871 ถ. อังรีดูนังต์ แขวงปทุมวัน เขตปทุมวัน
URL:https://boo.colorpack.net/event/%e0%b8%a8%e0%b8%b9%e0%b8%99%e0%b8%a2%e0%b9%8c%e0%b8%9a%e0%b8%a3%e0%b8%b4%e0%b8%81%e0%b8%b2%e0%b8%a3%e0%b9%82%e0%b8%a5%e0%b8%ab%e0%b8%b4%e0%b8%95%e0%b9%81%e0%b8%ab%e0%b9%88%e0%b8%87%e0%b8%8a-315/
LOCATION:ศูนย์บริการโลหิตแห่งชาติ สภากาชาดไทย\, ศูนย์บริการโลหิตแห่งชาติ สภากาชาดไทย 1871 ถ. อังรีดูนังต์ แขวงปทุมวัน เขตปทุมวัน กรุงเทพมหานคร 10330
CATEGORIES:ปฏิทินตารางหน่วยเคลื่อนที่
END:VEVENT
BEGIN:VEVENT
DTSTART;TZID=Asia/Krasnoyarsk:20251109T153000
DTEND;TZID=Asia/Krasnoyarsk:20251109T153000
DTSTAMP:20260425T231045
CREATED:20251101T062957Z
LAST-MODIFIED:20251101T063327Z
UID:10003935-1762702200-1762702200@boo.colorpack.net
SUMMARY:ศูนย์บริการโลหิตแห่งชาติ สภากาชาดไทย [ศูนย์บริการโลหิตแห่งชาติ สภากาชาดไทย]
DESCRIPTION:สถานที่เจาะ : 1871 ถ. อังรีดูนังต์ แขวงปทุมวัน เขตปทุมวัน
URL:https://boo.colorpack.net/event/%e0%b8%a8%e0%b8%b9%e0%b8%99%e0%b8%a2%e0%b9%8c%e0%b8%9a%e0%b8%a3%e0%b8%b4%e0%b8%81%e0%b8%b2%e0%b8%a3%e0%b9%82%e0%b8%a5%e0%b8%ab%e0%b8%b4%e0%b8%95%e0%b9%81%e0%b8%ab%e0%b9%88%e0%b8%87%e0%b8%8a-314/
LOCATION:ศูนย์บริการโลหิตแห่งชาติ สภากาชาดไทย\, ศูนย์บริการโลหิตแห่งชาติ สภากาชาดไทย 1871 ถ. อังรีดูนังต์ แขวงปทุมวัน เขตปทุมวัน กรุงเทพมหานคร 10330
CATEGORIES:ปฏิทินตารางหน่วยเคลื่อนที่
END:VEVENT
BEGIN:VEVENT
DTSTART;TZID=Asia/Krasnoyarsk:20251108T153000
DTEND;TZID=Asia/Krasnoyarsk:20251108T153000
DTSTAMP:20260425T231045
CREATED:20251104T074218Z
LAST-MODIFIED:20251104T074218Z
UID:10004024-1762615800-1762615800@boo.colorpack.net
SUMMARY:ศูนย์บริการโลหิตแห่งชาติ สภากาชาดไทย [ศูนย์บริการโลหิตแห่งชาติ สภากาชาดไทย]
DESCRIPTION:สถานที่เจาะ : 1871 ถ. อังรีดูนังต์ แขวงปทุมวัน เขตปทุมวัน
URL:https://boo.colorpack.net/event/%e0%b8%a8%e0%b8%b9%e0%b8%99%e0%b8%a2%e0%b9%8c%e0%b8%9a%e0%b8%a3%e0%b8%b4%e0%b8%81%e0%b8%b2%e0%b8%a3%e0%b9%82%e0%b8%a5%e0%b8%ab%e0%b8%b4%e0%b8%95%e0%b9%81%e0%b8%ab%e0%b9%88%e0%b8%87%e0%b8%8a-322/
LOCATION:ศูนย์บริการโลหิตแห่งชาติ สภากาชาดไทย\, ศูนย์บริการโลหิตแห่งชาติ สภากาชาดไทย 1871 ถ. อังรีดูนังต์ แขวงปทุมวัน เขตปทุมวัน กรุงเทพมหานคร 10330
CATEGORIES:ปฏิทินตารางหน่วยเคลื่อนที่
END:VEVENT
BEGIN:VEVENT
DTSTART;TZID=Asia/Krasnoyarsk:20251108T123000
DTEND;TZID=Asia/Krasnoyarsk:20251108T123000
DTSTAMP:20260425T231045
CREATED:20251104T074202Z
LAST-MODIFIED:20251104T074202Z
UID:10004023-1762605000-1762605000@boo.colorpack.net
SUMMARY:ศูนย์บริการโลหิตแห่งชาติ สภากาชาดไทย [ศูนย์บริการโลหิตแห่งชาติ สภากาชาดไทย]
DESCRIPTION:สถานที่เจาะ : 1871 ถ. อังรีดูนังต์ แขวงปทุมวัน เขตปทุมวัน
URL:https://boo.colorpack.net/event/%e0%b8%a8%e0%b8%b9%e0%b8%99%e0%b8%a2%e0%b9%8c%e0%b8%9a%e0%b8%a3%e0%b8%b4%e0%b8%81%e0%b8%b2%e0%b8%a3%e0%b9%82%e0%b8%a5%e0%b8%ab%e0%b8%b4%e0%b8%95%e0%b9%81%e0%b8%ab%e0%b9%88%e0%b8%87%e0%b8%8a-321/
LOCATION:ศูนย์บริการโลหิตแห่งชาติ สภากาชาดไทย\, ศูนย์บริการโลหิตแห่งชาติ สภากาชาดไทย 1871 ถ. อังรีดูนังต์ แขวงปทุมวัน เขตปทุมวัน กรุงเทพมหานคร 10330
CATEGORIES:ปฏิทินตารางหน่วยเคลื่อนที่
END:VEVENT
BEGIN:VEVENT
DTSTART;TZID=Asia/Krasnoyarsk:20251106T073000
DTEND;TZID=Asia/Krasnoyarsk:20251106T193000
DTSTAMP:20260425T231045
CREATED:20251027T030503Z
LAST-MODIFIED:20251027T030503Z
UID:10003914-1762414200-1762457400@boo.colorpack.net
SUMMARY:ศูนย์บริการโลหิตแห่งชาติ สภากาชาดไทย [0A0000]
DESCRIPTION:ที่อยู่ : 1871 ถ. อังรีดูนังต์ แขวงปทุมวัน เขตปทุมวัน
URL:https://boo.colorpack.net/event/%e0%b8%a8%e0%b8%b9%e0%b8%99%e0%b8%a2%e0%b9%8c%e0%b8%9a%e0%b8%a3%e0%b8%b4%e0%b8%81%e0%b8%b2%e0%b8%a3%e0%b9%82%e0%b8%a5%e0%b8%ab%e0%b8%b4%e0%b8%95%e0%b9%81%e0%b8%ab%e0%b9%88%e0%b8%87%e0%b8%8a-313/
LOCATION:ศูนย์บริการโลหิตแห่งชาติ สภากาชาดไทย\, ศูนย์บริการโลหิตแห่งชาติ สภากาชาดไทย 1871 ถ. อังรีดูนังต์ แขวงปทุมวัน เขตปทุมวัน กรุงเทพมหานคร 10330
CATEGORIES:ปฏิทินตารางหน่วยเคลื่อนที่
END:VEVENT
BEGIN:VEVENT
DTSTART;TZID=Asia/Krasnoyarsk:20251105T073000
DTEND;TZID=Asia/Krasnoyarsk:20251105T193000
DTSTAMP:20260425T231045
CREATED:20251027T030347Z
LAST-MODIFIED:20251027T030347Z
UID:10003900-1762327800-1762371000@boo.colorpack.net
SUMMARY:ศูนย์บริการโลหิตแห่งชาติ สภากาชาดไทย [0A0000]
DESCRIPTION:ที่อยู่ : 1871 ถ. อังรีดูนังต์ แขวงปทุมวัน เขตปทุมวัน
URL:https://boo.colorpack.net/event/%e0%b8%a8%e0%b8%b9%e0%b8%99%e0%b8%a2%e0%b9%8c%e0%b8%9a%e0%b8%a3%e0%b8%b4%e0%b8%81%e0%b8%b2%e0%b8%a3%e0%b9%82%e0%b8%a5%e0%b8%ab%e0%b8%b4%e0%b8%95%e0%b9%81%e0%b8%ab%e0%b9%88%e0%b8%87%e0%b8%8a-312/
LOCATION:ศูนย์บริการโลหิตแห่งชาติ สภากาชาดไทย\, ศูนย์บริการโลหิตแห่งชาติ สภากาชาดไทย 1871 ถ. อังรีดูนังต์ แขวงปทุมวัน เขตปทุมวัน กรุงเทพมหานคร 10330
CATEGORIES:ปฏิทินตารางหน่วยเคลื่อนที่
END:VEVENT
BEGIN:VEVENT
DTSTART;TZID=Asia/Krasnoyarsk:20251104T073000
DTEND;TZID=Asia/Krasnoyarsk:20251104T193000
DTSTAMP:20260425T231045
CREATED:20251027T024208Z
LAST-MODIFIED:20251027T024208Z
UID:10003848-1762241400-1762284600@boo.colorpack.net
SUMMARY:ศูนย์บริการโลหิตแห่งชาติ สภากาชาดไทย [0A0000]
DESCRIPTION:ที่อยู่ : 1871 ถ. อังรีดูนังต์ แขวงปทุมวัน เขตปทุมวัน
URL:https://boo.colorpack.net/event/%e0%b8%a8%e0%b8%b9%e0%b8%99%e0%b8%a2%e0%b9%8c%e0%b8%9a%e0%b8%a3%e0%b8%b4%e0%b8%81%e0%b8%b2%e0%b8%a3%e0%b9%82%e0%b8%a5%e0%b8%ab%e0%b8%b4%e0%b8%95%e0%b9%81%e0%b8%ab%e0%b9%88%e0%b8%87%e0%b8%8a-308/
LOCATION:ศูนย์บริการโลหิตแห่งชาติ สภากาชาดไทย\, ศูนย์บริการโลหิตแห่งชาติ สภากาชาดไทย 1871 ถ. อังรีดูนังต์ แขวงปทุมวัน เขตปทุมวัน กรุงเทพมหานคร 10330
CATEGORIES:ปฏิทินตารางหน่วยเคลื่อนที่
END:VEVENT
BEGIN:VEVENT
DTSTART;TZID=Asia/Krasnoyarsk:20251103T073000
DTEND;TZID=Asia/Krasnoyarsk:20251103T193000
DTSTAMP:20260425T231045
CREATED:20251027T023751Z
LAST-MODIFIED:20251027T023751Z
UID:10003832-1762155000-1762198200@boo.colorpack.net
SUMMARY:ศูนย์บริการโลหิตแห่งชาติ สภากาชาดไทย [0A0000]
DESCRIPTION:ที่อยู่ : 1871 ถ. อังรีดูนังต์ แขวงปทุมวัน เขตปทุมวัน
URL:https://boo.colorpack.net/event/%e0%b8%a8%e0%b8%b9%e0%b8%99%e0%b8%a2%e0%b9%8c%e0%b8%9a%e0%b8%a3%e0%b8%b4%e0%b8%81%e0%b8%b2%e0%b8%a3%e0%b9%82%e0%b8%a5%e0%b8%ab%e0%b8%b4%e0%b8%95%e0%b9%81%e0%b8%ab%e0%b9%88%e0%b8%87%e0%b8%8a-307/
LOCATION:ศูนย์บริการโลหิตแห่งชาติ สภากาชาดไทย\, ศูนย์บริการโลหิตแห่งชาติ สภากาชาดไทย 1871 ถ. อังรีดูนังต์ แขวงปทุมวัน เขตปทุมวัน กรุงเทพมหานคร 10330
CATEGORIES:ปฏิทินตารางหน่วยเคลื่อนที่
END:VEVENT
BEGIN:VEVENT
DTSTART;TZID=Asia/Krasnoyarsk:20251102T083000
DTEND;TZID=Asia/Krasnoyarsk:20251102T153000
DTSTAMP:20260425T231045
CREATED:20251027T025348Z
LAST-MODIFIED:20251027T025348Z
UID:10003891-1762072200-1762097400@boo.colorpack.net
SUMMARY:ศูนย์บริการโลหิตแห่งชาติ สภากาชาดไทย [0A0000]
DESCRIPTION:ที่อยู่ : 1871 ถ. อังรีดูนังต์ แขวงปทุมวัน เขตปทุมวัน
URL:https://boo.colorpack.net/event/%e0%b8%a8%e0%b8%b9%e0%b8%99%e0%b8%a2%e0%b9%8c%e0%b8%9a%e0%b8%a3%e0%b8%b4%e0%b8%81%e0%b8%b2%e0%b8%a3%e0%b9%82%e0%b8%a5%e0%b8%ab%e0%b8%b4%e0%b8%95%e0%b9%81%e0%b8%ab%e0%b9%88%e0%b8%87%e0%b8%8a-311/
LOCATION:ศูนย์บริการโลหิตแห่งชาติ สภากาชาดไทย\, ศูนย์บริการโลหิตแห่งชาติ สภากาชาดไทย 1871 ถ. อังรีดูนังต์ แขวงปทุมวัน เขตปทุมวัน กรุงเทพมหานคร 10330
CATEGORIES:ปฏิทินตารางหน่วยเคลื่อนที่
END:VEVENT
BEGIN:VEVENT
DTSTART;TZID=Asia/Krasnoyarsk:20251101T083000
DTEND;TZID=Asia/Krasnoyarsk:20251101T153000
DTSTAMP:20260425T231045
CREATED:20251027T025159Z
LAST-MODIFIED:20251027T025159Z
UID:10003879-1761985800-1762011000@boo.colorpack.net
SUMMARY:ศูนย์บริการโลหิตแห่งชาติ สภากาชาดไทย [0A0000]
DESCRIPTION:ที่อยู่ : 1871 ถ. อังรีดูนังต์ แขวงปทุมวัน เขตปทุมวัน
URL:https://boo.colorpack.net/event/%e0%b8%a8%e0%b8%b9%e0%b8%99%e0%b8%a2%e0%b9%8c%e0%b8%9a%e0%b8%a3%e0%b8%b4%e0%b8%81%e0%b8%b2%e0%b8%a3%e0%b9%82%e0%b8%a5%e0%b8%ab%e0%b8%b4%e0%b8%95%e0%b9%81%e0%b8%ab%e0%b9%88%e0%b8%87%e0%b8%8a-310/
LOCATION:ศูนย์บริการโลหิตแห่งชาติ สภากาชาดไทย\, ศูนย์บริการโลหิตแห่งชาติ สภากาชาดไทย 1871 ถ. อังรีดูนังต์ แขวงปทุมวัน เขตปทุมวัน กรุงเทพมหานคร 10330
CATEGORIES:ปฏิทินตารางหน่วยเคลื่อนที่
END:VEVENT
BEGIN:VEVENT
DTSTART;TZID=Asia/Krasnoyarsk:20251031T073000
DTEND;TZID=Asia/Krasnoyarsk:20251031T193000
DTSTAMP:20260425T231045
CREATED:20251027T025027Z
LAST-MODIFIED:20251027T025027Z
UID:10003867-1761895800-1761939000@boo.colorpack.net
SUMMARY:ศูนย์บริการโลหิตแห่งชาติ สภากาชาดไทย [0A0000]
DESCRIPTION:ที่อยู่ : 1871 ถ. อังรีดูนังต์ แขวงปทุมวัน เขตปทุมวัน
URL:https://boo.colorpack.net/event/%e0%b8%a8%e0%b8%b9%e0%b8%99%e0%b8%a2%e0%b9%8c%e0%b8%9a%e0%b8%a3%e0%b8%b4%e0%b8%81%e0%b8%b2%e0%b8%a3%e0%b9%82%e0%b8%a5%e0%b8%ab%e0%b8%b4%e0%b8%95%e0%b9%81%e0%b8%ab%e0%b9%88%e0%b8%87%e0%b8%8a-309/
LOCATION:ศูนย์บริการโลหิตแห่งชาติ สภากาชาดไทย\, ศูนย์บริการโลหิตแห่งชาติ สภากาชาดไทย 1871 ถ. อังรีดูนังต์ แขวงปทุมวัน เขตปทุมวัน กรุงเทพมหานคร 10330
CATEGORIES:ปฏิทินตารางหน่วยเคลื่อนที่
END:VEVENT
BEGIN:VEVENT
DTSTART;TZID=Asia/Krasnoyarsk:20251030T193000
DTEND;TZID=Asia/Krasnoyarsk:20251030T193000
DTSTAMP:20260425T231045
CREATED:20251017T045208Z
LAST-MODIFIED:20251017T045208Z
UID:10003818-1761852600-1761852600@boo.colorpack.net
SUMMARY:ศูนย์บริการโลหิตแห่งชาติ สภากาชาดไทย [ศูนย์บริการโลหิตแห่งชาติ สภากาชาดไทย]
DESCRIPTION:สถานที่เจาะ : 1871 ถ. อังรีดูนังต์ แขวงปทุมวัน เขตปทุมวัน
URL:https://boo.colorpack.net/event/%e0%b8%a8%e0%b8%b9%e0%b8%99%e0%b8%a2%e0%b9%8c%e0%b8%9a%e0%b8%a3%e0%b8%b4%e0%b8%81%e0%b8%b2%e0%b8%a3%e0%b9%82%e0%b8%a5%e0%b8%ab%e0%b8%b4%e0%b8%95%e0%b9%81%e0%b8%ab%e0%b9%88%e0%b8%87%e0%b8%8a-306/
LOCATION:ศูนย์บริการโลหิตแห่งชาติ สภากาชาดไทย\, ศูนย์บริการโลหิตแห่งชาติ สภากาชาดไทย 1871 ถ. อังรีดูนังต์ แขวงปทุมวัน เขตปทุมวัน กรุงเทพมหานคร 10330
CATEGORIES:ปฏิทินตารางหน่วยเคลื่อนที่
END:VEVENT
BEGIN:VEVENT
DTSTART;TZID=Asia/Bangkok:20251029T193000
DTEND;TZID=Asia/Bangkok:20251029T193000
DTSTAMP:20260425T231045
CREATED:20251017T044158Z
LAST-MODIFIED:20251017T044158Z
UID:10003805-1761766200-1761766200@boo.colorpack.net
SUMMARY:ศูนย์บริการโลหิตแห่งชาติ สภากาชาดไทย [ศูนย์บริการโลหิตแห่งชาติ สภากาชาดไทย]
DESCRIPTION:สถานที่เจาะ : 1871 ถ. อังรีดูนังต์ แขวงปทุมวัน เขตปทุมวัน
URL:https://boo.colorpack.net/event/%e0%b8%a8%e0%b8%b9%e0%b8%99%e0%b8%a2%e0%b9%8c%e0%b8%9a%e0%b8%a3%e0%b8%b4%e0%b8%81%e0%b8%b2%e0%b8%a3%e0%b9%82%e0%b8%a5%e0%b8%ab%e0%b8%b4%e0%b8%95%e0%b9%81%e0%b8%ab%e0%b9%88%e0%b8%87%e0%b8%8a-305/
LOCATION:ศูนย์บริการโลหิตแห่งชาติ สภากาชาดไทย\, ศูนย์บริการโลหิตแห่งชาติ สภากาชาดไทย 1871 ถ. อังรีดูนังต์ แขวงปทุมวัน เขตปทุมวัน กรุงเทพมหานคร 10330
CATEGORIES:ปฏิทินตารางหน่วยเคลื่อนที่
END:VEVENT
BEGIN:VEVENT
DTSTART;TZID=Asia/Bangkok:20251028T193000
DTEND;TZID=Asia/Bangkok:20251028T193000
DTSTAMP:20260425T231045
CREATED:20251017T044105Z
LAST-MODIFIED:20251017T044105Z
UID:10003791-1761679800-1761679800@boo.colorpack.net
SUMMARY:ศูนย์บริการโลหิตแห่งชาติ สภากาชาดไทย [ศูนย์บริการโลหิตแห่งชาติ สภากาชาดไทย]
DESCRIPTION:สถานที่เจาะ : 1871 ถ. อังรีดูนังต์ แขวงปทุมวัน เขตปทุมวัน
URL:https://boo.colorpack.net/event/%e0%b8%a8%e0%b8%b9%e0%b8%99%e0%b8%a2%e0%b9%8c%e0%b8%9a%e0%b8%a3%e0%b8%b4%e0%b8%81%e0%b8%b2%e0%b8%a3%e0%b9%82%e0%b8%a5%e0%b8%ab%e0%b8%b4%e0%b8%95%e0%b9%81%e0%b8%ab%e0%b9%88%e0%b8%87%e0%b8%8a-304/
LOCATION:ศูนย์บริการโลหิตแห่งชาติ สภากาชาดไทย\, ศูนย์บริการโลหิตแห่งชาติ สภากาชาดไทย 1871 ถ. อังรีดูนังต์ แขวงปทุมวัน เขตปทุมวัน กรุงเทพมหานคร 10330
CATEGORIES:ปฏิทินตารางหน่วยเคลื่อนที่
END:VEVENT
BEGIN:VEVENT
DTSTART;TZID=Asia/Bangkok:20251027T193000
DTEND;TZID=Asia/Bangkok:20251027T193000
DTSTAMP:20260425T231045
CREATED:20251017T034318Z
LAST-MODIFIED:20251017T034655Z
UID:10003779-1761593400-1761593400@boo.colorpack.net
SUMMARY:ศูนย์บริการโลหิตแห่งชาติ สภากาชาดไทย [ศูนย์บริการโลหิตแห่งชาติ สภากาชาดไทย]
DESCRIPTION:สถานที่เจาะ : 1871 ถ. อังรีดูนังต์ แขวงปทุมวัน เขตปทุมวัน
URL:https://boo.colorpack.net/event/%e0%b8%a8%e0%b8%b9%e0%b8%99%e0%b8%a2%e0%b9%8c%e0%b8%9a%e0%b8%a3%e0%b8%b4%e0%b8%81%e0%b8%b2%e0%b8%a3%e0%b9%82%e0%b8%a5%e0%b8%ab%e0%b8%b4%e0%b8%95%e0%b9%81%e0%b8%ab%e0%b9%88%e0%b8%87%e0%b8%8a-303/
LOCATION:ศูนย์บริการโลหิตแห่งชาติ สภากาชาดไทย\, ศูนย์บริการโลหิตแห่งชาติ สภากาชาดไทย 1871 ถ. อังรีดูนังต์ แขวงปทุมวัน เขตปทุมวัน กรุงเทพมหานคร 10330
CATEGORIES:ปฏิทินตารางหน่วยเคลื่อนที่
END:VEVENT
BEGIN:VEVENT
DTSTART;TZID=Asia/Bangkok:20251026T153000
DTEND;TZID=Asia/Bangkok:20251026T153000
DTSTAMP:20260425T231045
CREATED:20251017T034238Z
LAST-MODIFIED:20251017T034443Z
UID:10003767-1761492600-1761492600@boo.colorpack.net
SUMMARY:ศูนย์บริการโลหิตแห่งชาติ สภากาชาดไทย [ศูนย์บริการโลหิตแห่งชาติ สภากาชาดไทย]
DESCRIPTION:สถานที่เจาะ : 1871 ถ. อังรีดูนังต์ แขวงปทุมวัน เขตปทุมวัน
URL:https://boo.colorpack.net/event/%e0%b8%a8%e0%b8%b9%e0%b8%99%e0%b8%a2%e0%b9%8c%e0%b8%9a%e0%b8%a3%e0%b8%b4%e0%b8%81%e0%b8%b2%e0%b8%a3%e0%b9%82%e0%b8%a5%e0%b8%ab%e0%b8%b4%e0%b8%95%e0%b9%81%e0%b8%ab%e0%b9%88%e0%b8%87%e0%b8%8a-302/
LOCATION:ศูนย์บริการโลหิตแห่งชาติ สภากาชาดไทย\, ศูนย์บริการโลหิตแห่งชาติ สภากาชาดไทย 1871 ถ. อังรีดูนังต์ แขวงปทุมวัน เขตปทุมวัน กรุงเทพมหานคร 10330
CATEGORIES:ปฏิทินตารางหน่วยเคลื่อนที่
END:VEVENT
BEGIN:VEVENT
DTSTART;TZID=Asia/Bangkok:20251023T153000
DTEND;TZID=Asia/Bangkok:20251023T153000
DTSTAMP:20260425T231045
CREATED:20251014T073351Z
LAST-MODIFIED:20251014T074405Z
UID:10003756-1761233400-1761233400@boo.colorpack.net
SUMMARY:ศูนย์บริการโลหิตแห่งชาติ สภากาชาดไทย [ศูนย์บริการโลหิตแห่งชาติ สภากาชาดไทย]
DESCRIPTION:สถานที่เจาะ : 1871 ถ. อังรีดูนังต์ แขวงปทุมวัน เขตปทุมวัน
URL:https://boo.colorpack.net/event/%e0%b8%a8%e0%b8%b9%e0%b8%99%e0%b8%a2%e0%b9%8c%e0%b8%9a%e0%b8%a3%e0%b8%b4%e0%b8%81%e0%b8%b2%e0%b8%a3%e0%b9%82%e0%b8%a5%e0%b8%ab%e0%b8%b4%e0%b8%95%e0%b9%81%e0%b8%ab%e0%b9%88%e0%b8%87%e0%b8%8a-301/
LOCATION:ศูนย์บริการโลหิตแห่งชาติ สภากาชาดไทย\, ศูนย์บริการโลหิตแห่งชาติ สภากาชาดไทย 1871 ถ. อังรีดูนังต์ แขวงปทุมวัน เขตปทุมวัน กรุงเทพมหานคร 10330
CATEGORIES:ปฏิทินตารางหน่วยเคลื่อนที่
END:VEVENT
BEGIN:VEVENT
DTSTART;TZID=Asia/Bangkok:20251022T193000
DTEND;TZID=Asia/Bangkok:20251022T193000
DTSTAMP:20260425T231045
CREATED:20251014T071922Z
LAST-MODIFIED:20251014T071922Z
UID:10003739-1761161400-1761161400@boo.colorpack.net
SUMMARY:ศูนย์บริการโลหิตแห่งชาติ สภากาชาดไทย [ศูนย์บริการโลหิตแห่งชาติ สภากาชาดไทย]
DESCRIPTION:สถานที่เจาะ : 1871 ถ. อังรีดูนังต์ แขวงปทุมวัน เขตปทุมวัน
URL:https://boo.colorpack.net/event/%e0%b8%a8%e0%b8%b9%e0%b8%99%e0%b8%a2%e0%b9%8c%e0%b8%9a%e0%b8%a3%e0%b8%b4%e0%b8%81%e0%b8%b2%e0%b8%a3%e0%b9%82%e0%b8%a5%e0%b8%ab%e0%b8%b4%e0%b8%95%e0%b9%81%e0%b8%ab%e0%b9%88%e0%b8%87%e0%b8%8a-300/
LOCATION:ศูนย์บริการโลหิตแห่งชาติ สภากาชาดไทย\, ศูนย์บริการโลหิตแห่งชาติ สภากาชาดไทย 1871 ถ. อังรีดูนังต์ แขวงปทุมวัน เขตปทุมวัน กรุงเทพมหานคร 10330
CATEGORIES:ปฏิทินตารางหน่วยเคลื่อนที่
END:VEVENT
BEGIN:VEVENT
DTSTART;TZID=Asia/Bangkok:20251021T193000
DTEND;TZID=Asia/Bangkok:20251021T193000
DTSTAMP:20260425T231045
CREATED:20251014T071802Z
LAST-MODIFIED:20251014T071802Z
UID:10003721-1761075000-1761075000@boo.colorpack.net
SUMMARY:ศูนย์บริการโลหิตแห่งชาติ สภากาชาดไทย [ศูนย์บริการโลหิตแห่งชาติ สภากาชาดไทย]
DESCRIPTION:สถานที่เจาะ : 1871 ถ. อังรีดูนังต์ แขวงปทุมวัน เขตปทุมวัน
URL:https://boo.colorpack.net/event/%e0%b8%a8%e0%b8%b9%e0%b8%99%e0%b8%a2%e0%b9%8c%e0%b8%9a%e0%b8%a3%e0%b8%b4%e0%b8%81%e0%b8%b2%e0%b8%a3%e0%b9%82%e0%b8%a5%e0%b8%ab%e0%b8%b4%e0%b8%95%e0%b9%81%e0%b8%ab%e0%b9%88%e0%b8%87%e0%b8%8a-299/
LOCATION:ศูนย์บริการโลหิตแห่งชาติ สภากาชาดไทย\, ศูนย์บริการโลหิตแห่งชาติ สภากาชาดไทย 1871 ถ. อังรีดูนังต์ แขวงปทุมวัน เขตปทุมวัน กรุงเทพมหานคร 10330
CATEGORIES:ปฏิทินตารางหน่วยเคลื่อนที่
END:VEVENT
BEGIN:VEVENT
DTSTART;TZID=Asia/Bangkok:20251020T193000
DTEND;TZID=Asia/Bangkok:20251020T193000
DTSTAMP:20260425T231045
CREATED:20251014T065948Z
LAST-MODIFIED:20251014T065948Z
UID:10003705-1760988600-1760988600@boo.colorpack.net
SUMMARY:ศูนย์บริการโลหิตแห่งชาติ สภากาชาดไทย [ศูนย์บริการโลหิตแห่งชาติ สภากาชาดไทย]
DESCRIPTION:สถานที่เจาะ : 1871 ถ. อังรีดูนังต์ แขวงปทุมวัน เขตปทุมวัน
URL:https://boo.colorpack.net/event/%e0%b8%a8%e0%b8%b9%e0%b8%99%e0%b8%a2%e0%b9%8c%e0%b8%9a%e0%b8%a3%e0%b8%b4%e0%b8%81%e0%b8%b2%e0%b8%a3%e0%b9%82%e0%b8%a5%e0%b8%ab%e0%b8%b4%e0%b8%95%e0%b9%81%e0%b8%ab%e0%b9%88%e0%b8%87%e0%b8%8a-298/
LOCATION:ศูนย์บริการโลหิตแห่งชาติ สภากาชาดไทย\, ศูนย์บริการโลหิตแห่งชาติ สภากาชาดไทย 1871 ถ. อังรีดูนังต์ แขวงปทุมวัน เขตปทุมวัน กรุงเทพมหานคร 10330
CATEGORIES:ปฏิทินตารางหน่วยเคลื่อนที่
END:VEVENT
BEGIN:VEVENT
DTSTART;TZID=Asia/Bangkok:20251019T153000
DTEND;TZID=Asia/Bangkok:20251019T153000
DTSTAMP:20260425T231045
CREATED:20251014T065851Z
LAST-MODIFIED:20251014T065851Z
UID:10003693-1760887800-1760887800@boo.colorpack.net
SUMMARY:ศูนย์บริการโลหิตแห่งชาติ สภากาชาดไทย [ศูนย์บริการโลหิตแห่งชาติ สภากาชาดไทย]
DESCRIPTION:สถานที่เจาะ : 1871 ถ. อังรีดูนังต์ แขวงปทุมวัน เขตปทุมวัน
URL:https://boo.colorpack.net/event/%e0%b8%a8%e0%b8%b9%e0%b8%99%e0%b8%a2%e0%b9%8c%e0%b8%9a%e0%b8%a3%e0%b8%b4%e0%b8%81%e0%b8%b2%e0%b8%a3%e0%b9%82%e0%b8%a5%e0%b8%ab%e0%b8%b4%e0%b8%95%e0%b9%81%e0%b8%ab%e0%b9%88%e0%b8%87%e0%b8%8a-297/
LOCATION:ศูนย์บริการโลหิตแห่งชาติ สภากาชาดไทย\, ศูนย์บริการโลหิตแห่งชาติ สภากาชาดไทย 1871 ถ. อังรีดูนังต์ แขวงปทุมวัน เขตปทุมวัน กรุงเทพมหานคร 10330
CATEGORIES:ปฏิทินตารางหน่วยเคลื่อนที่
END:VEVENT
BEGIN:VEVENT
DTSTART;TZID=Asia/Bangkok:20251018T153000
DTEND;TZID=Asia/Bangkok:20251018T153000
DTSTAMP:20260425T231045
CREATED:20251014T061333Z
LAST-MODIFIED:20251014T061333Z
UID:10003681-1760801400-1760801400@boo.colorpack.net
SUMMARY:ศูนย์บริการโลหิตแห่งชาติ สภากาชาดไทย [ศูนย์บริการโลหิตแห่งชาติ สภากาชาดไทย]
DESCRIPTION:สถานที่เจาะ : 1871 ถ. อังรีดูนังต์ แขวงปทุมวัน เขตปทุมวัน
URL:https://boo.colorpack.net/event/%e0%b8%a8%e0%b8%b9%e0%b8%99%e0%b8%a2%e0%b9%8c%e0%b8%9a%e0%b8%a3%e0%b8%b4%e0%b8%81%e0%b8%b2%e0%b8%a3%e0%b9%82%e0%b8%a5%e0%b8%ab%e0%b8%b4%e0%b8%95%e0%b9%81%e0%b8%ab%e0%b9%88%e0%b8%87%e0%b8%8a-296/
LOCATION:ศูนย์บริการโลหิตแห่งชาติ สภากาชาดไทย\, ศูนย์บริการโลหิตแห่งชาติ สภากาชาดไทย 1871 ถ. อังรีดูนังต์ แขวงปทุมวัน เขตปทุมวัน กรุงเทพมหานคร 10330
CATEGORIES:ปฏิทินตารางหน่วยเคลื่อนที่
END:VEVENT
BEGIN:VEVENT
DTSTART;TZID=Asia/Bangkok:20251017T193000
DTEND;TZID=Asia/Bangkok:20251017T193000
DTSTAMP:20260425T231045
CREATED:20251014T061232Z
LAST-MODIFIED:20251014T061232Z
UID:10003667-1760729400-1760729400@boo.colorpack.net
SUMMARY:ศูนย์บริการโลหิตแห่งชาติ สภากาชาดไทย [ศูนย์บริการโลหิตแห่งชาติ สภากาชาดไทย]
DESCRIPTION:สถานที่เจาะ : 1871 ถ. อังรีดูนังต์ แขวงปทุมวัน เขตปทุมวัน
URL:https://boo.colorpack.net/event/%e0%b8%a8%e0%b8%b9%e0%b8%99%e0%b8%a2%e0%b9%8c%e0%b8%9a%e0%b8%a3%e0%b8%b4%e0%b8%81%e0%b8%b2%e0%b8%a3%e0%b9%82%e0%b8%a5%e0%b8%ab%e0%b8%b4%e0%b8%95%e0%b9%81%e0%b8%ab%e0%b9%88%e0%b8%87%e0%b8%8a-295/
LOCATION:ศูนย์บริการโลหิตแห่งชาติ สภากาชาดไทย\, ศูนย์บริการโลหิตแห่งชาติ สภากาชาดไทย 1871 ถ. อังรีดูนังต์ แขวงปทุมวัน เขตปทุมวัน กรุงเทพมหานคร 10330
CATEGORIES:ปฏิทินตารางหน่วยเคลื่อนที่
END:VEVENT
BEGIN:VEVENT
DTSTART;TZID=Asia/Bangkok:20251016T073000
DTEND;TZID=Asia/Bangkok:20251016T193000
DTSTAMP:20260425T231045
CREATED:20251003T101936Z
LAST-MODIFIED:20251003T101936Z
UID:10003651-1760599800-1760643000@boo.colorpack.net
SUMMARY:ศูนย์บริการโลหิตแห่งชาติ สภากาชาดไทย [0A0000]
DESCRIPTION:ที่อยู่ : 1871 ถ. อังรีดูนังต์ แขวงปทุมวัน เขตปทุมวัน
URL:https://boo.colorpack.net/event/%e0%b8%a8%e0%b8%b9%e0%b8%99%e0%b8%a2%e0%b9%8c%e0%b8%9a%e0%b8%a3%e0%b8%b4%e0%b8%81%e0%b8%b2%e0%b8%a3%e0%b9%82%e0%b8%a5%e0%b8%ab%e0%b8%b4%e0%b8%95%e0%b9%81%e0%b8%ab%e0%b9%88%e0%b8%87%e0%b8%8a-294/
LOCATION:ศูนย์บริการโลหิตแห่งชาติ สภากาชาดไทย\, ศูนย์บริการโลหิตแห่งชาติ สภากาชาดไทย 1871 ถ. อังรีดูนังต์ แขวงปทุมวัน เขตปทุมวัน กรุงเทพมหานคร 10330
CATEGORIES:ปฏิทินตารางหน่วยเคลื่อนที่
END:VEVENT
END:VCALENDAR