BEGIN:VCALENDAR
VERSION:2.0
PRODID:-//เว็บไซต์ศูนย์บริการโลหิตแห่งชาติ - ECPv6.11.2.1//NONSGML v1.0//EN
CALSCALE:GREGORIAN
METHOD:PUBLISH
X-WR-CALNAME:เว็บไซต์ศูนย์บริการโลหิตแห่งชาติ
X-ORIGINAL-URL:https://boo.colorpack.net
X-WR-CALDESC:Events for เว็บไซต์ศูนย์บริการโลหิตแห่งชาติ
REFRESH-INTERVAL;VALUE=DURATION:PT1H
X-Robots-Tag:noindex
X-PUBLISHED-TTL:PT1H
BEGIN:VTIMEZONE
TZID:Asia/Krasnoyarsk
BEGIN:STANDARD
TZOFFSETFROM:+0700
TZOFFSETTO:+0700
TZNAME:+07
DTSTART:20250101T000000
END:STANDARD
END:VTIMEZONE
BEGIN:VTIMEZONE
TZID:Asia/Bangkok
BEGIN:STANDARD
TZOFFSETFROM:+0700
TZOFFSETTO:+0700
TZNAME:+07
DTSTART:20250101T000000
END:STANDARD
END:VTIMEZONE
BEGIN:VEVENT
DTSTART;TZID=Asia/Krasnoyarsk:20260203T090000
DTEND;TZID=Asia/Krasnoyarsk:20260203T150000
DTSTAMP:20260424T003437
CREATED:20260127T120831Z
LAST-MODIFIED:20260127T120831Z
UID:10005372-1770109200-1770130800@boo.colorpack.net
SUMMARY:ศูนย์การแพทย์ โรงพยาบาลบางโพ []
DESCRIPTION:สถานที่เจาะ : ห้องประชุมชั้น 6 อาคาร 2 (พัก 11.30-12.30 น.) \nที่อยู่ : 95 ถนนประชาราษฎร์ 2 แขวงบางซื่อ เขตบางซื่อ กรุงเทพฯ 0 2587 0136
URL:https://boo.colorpack.net/event/%e0%b8%a8%e0%b8%b9%e0%b8%99%e0%b8%a2%e0%b9%8c%e0%b8%81%e0%b8%b2%e0%b8%a3%e0%b9%81%e0%b8%9e%e0%b8%97%e0%b8%a2%e0%b9%8c-%e0%b9%82%e0%b8%a3%e0%b8%87%e0%b8%9e%e0%b8%a2%e0%b8%b2%e0%b8%9a%e0%b8%b2-5/
LOCATION:ศูนย์การแพทย์ โรงพยาบาลบางโพ\, ศูนย์การแพทย์ โรงพยาบาลบางโพ โรงพยาบาลบางโพ (Bangpo Hospital 95 ถ. ประชาราษฎร์ สาย 2 แขวงบางซื่อ เขตบางซื่อ กรุงเทพมหานคร 10800
CATEGORIES:ปฏิทินตารางหน่วยเคลื่อนที่
END:VEVENT
BEGIN:VEVENT
DTSTART;TZID=Asia/Krasnoyarsk:20251104T090000
DTEND;TZID=Asia/Krasnoyarsk:20251104T150000
DTSTAMP:20260424T003437
CREATED:20251027T024437Z
LAST-MODIFIED:20251027T024437Z
UID:10003858-1762246800-1762268400@boo.colorpack.net
SUMMARY:ศูนย์การแพทย์ โรงพยาบาลบางโพ [0D0247]
DESCRIPTION:สถานที่เจาะ : ห้องประชุมชั้น 6 อาคาร 2 (พัก 11.30-12.30 น.) \nที่อยู่ : 95 ถนนประชาราษฎร์ 2 แขวงบางซื่อ เขตบางซื่อ กรุงเทพฯ 0 2587 0136
URL:https://boo.colorpack.net/event/%e0%b8%a8%e0%b8%b9%e0%b8%99%e0%b8%a2%e0%b9%8c%e0%b8%81%e0%b8%b2%e0%b8%a3%e0%b9%81%e0%b8%9e%e0%b8%97%e0%b8%a2%e0%b9%8c-%e0%b9%82%e0%b8%a3%e0%b8%87%e0%b8%9e%e0%b8%a2%e0%b8%b2%e0%b8%9a%e0%b8%b2-4/
LOCATION:ศูนย์การแพทย์ โรงพยาบาลบางโพ\, ศูนย์การแพทย์ โรงพยาบาลบางโพ โรงพยาบาลบางโพ (Bangpo Hospital 95 ถ. ประชาราษฎร์ สาย 2 แขวงบางซื่อ เขตบางซื่อ กรุงเทพมหานคร 10800
CATEGORIES:ปฏิทินตารางหน่วยเคลื่อนที่
END:VEVENT
BEGIN:VEVENT
DTSTART;TZID=Asia/Bangkok:20250506T090000
DTEND;TZID=Asia/Bangkok:20250506T150000
DTSTAMP:20260424T003437
CREATED:20250430T111927Z
LAST-MODIFIED:20250430T111927Z
UID:10001612-1746522000-1746543600@boo.colorpack.net
SUMMARY:ศูนย์การแพทย์ โรงพยาบาลบางโพ []
DESCRIPTION:สถานที่เจาะ : ห้องประชุมชั้น 6 อาคาร 2 (พัก 11.30-12.30 น.) \nที่อยู่ : 95 ถนนประชาราษฎร์ 2 แขวงบางซื่อ เขตบางซื่อ กรุงเทพฯ 0 2587 0136
URL:https://boo.colorpack.net/event/%e0%b8%a8%e0%b8%b9%e0%b8%99%e0%b8%a2%e0%b9%8c%e0%b8%81%e0%b8%b2%e0%b8%a3%e0%b9%81%e0%b8%9e%e0%b8%97%e0%b8%a2%e0%b9%8c-%e0%b9%82%e0%b8%a3%e0%b8%87%e0%b8%9e%e0%b8%a2%e0%b8%b2%e0%b8%9a%e0%b8%b2-3/
LOCATION:ศูนย์การแพทย์ โรงพยาบาลบางโพ\, ศูนย์การแพทย์ โรงพยาบาลบางโพ โรงพยาบาลบางโพ (Bangpo Hospital 95 ถ. ประชาราษฎร์ สาย 2 แขวงบางซื่อ เขตบางซื่อ กรุงเทพมหานคร 10800
CATEGORIES:ปฏิทินตารางหน่วยเคลื่อนที่
END:VEVENT
BEGIN:VEVENT
DTSTART;TZID=Asia/Bangkok:20250204T090000
DTEND;TZID=Asia/Bangkok:20250204T150000
DTSTAMP:20260424T003437
CREATED:20250201T003524Z
LAST-MODIFIED:20250201T003524Z
UID:10000345-1738659600-1738681200@boo.colorpack.net
SUMMARY:ศูนย์การแพทย์ โรงพยาบาลบางโพ [0D0247]
DESCRIPTION:สถานที่เจาะ : ห้องประชุมชั้น 6 อาคาร 2 (พัก 11.30-12.30 น.) \nที่อยู่ : 95 ถนนประชาราษฎร์ 2 แขวงบางซื่อ เขตบางซื่อ กรุงเทพฯ  \nโทร : 0 2587 0136
URL:https://boo.colorpack.net/event/%e0%b8%a8%e0%b8%b9%e0%b8%99%e0%b8%a2%e0%b9%8c%e0%b8%81%e0%b8%b2%e0%b8%a3%e0%b9%81%e0%b8%9e%e0%b8%97%e0%b8%a2%e0%b9%8c-%e0%b9%82%e0%b8%a3%e0%b8%87%e0%b8%9e%e0%b8%a2%e0%b8%b2%e0%b8%9a%e0%b8%b2-2/
LOCATION:ศูนย์การแพทย์ โรงพยาบาลบางโพ\, ศูนย์การแพทย์ โรงพยาบาลบางโพ โรงพยาบาลบางโพ (Bangpo Hospital 95 ถ. ประชาราษฎร์ สาย 2 แขวงบางซื่อ เขตบางซื่อ กรุงเทพมหานคร 10800
CATEGORIES:ปฏิทินตารางหน่วยเคลื่อนที่
END:VEVENT
END:VCALENDAR