BEGIN:VCALENDAR
VERSION:2.0
PRODID:-//เว็บไซต์ศูนย์บริการโลหิตแห่งชาติ - ECPv6.11.2.1//NONSGML v1.0//EN
CALSCALE:GREGORIAN
METHOD:PUBLISH
X-WR-CALNAME:เว็บไซต์ศูนย์บริการโลหิตแห่งชาติ
X-ORIGINAL-URL:https://boo.colorpack.net
X-WR-CALDESC:Events for เว็บไซต์ศูนย์บริการโลหิตแห่งชาติ
REFRESH-INTERVAL;VALUE=DURATION:PT1H
X-Robots-Tag:noindex
X-PUBLISHED-TTL:PT1H
BEGIN:VTIMEZONE
TZID:Asia/Krasnoyarsk
BEGIN:STANDARD
TZOFFSETFROM:+0700
TZOFFSETTO:+0700
TZNAME:+07
DTSTART:20260101T000000
END:STANDARD
END:VTIMEZONE
BEGIN:VTIMEZONE
TZID:Asia/Bangkok
BEGIN:STANDARD
TZOFFSETFROM:+0700
TZOFFSETTO:+0700
TZNAME:+07
DTSTART:20250101T000000
END:STANDARD
END:VTIMEZONE
BEGIN:VEVENT
DTSTART;TZID=Asia/Krasnoyarsk:20260115T110000
DTEND;TZID=Asia/Krasnoyarsk:20260115T150000
DTSTAMP:20260422T054229
CREATED:20260113T115642Z
LAST-MODIFIED:20260113T115642Z
UID:10005113-1768474800-1768489200@boo.colorpack.net
SUMMARY:ศูนย์การค้าเดอะ พาลาเดียม เวิลด์ ช้อปปิ้ง []
DESCRIPTION:สถานที่เจาะ : ชั้น 4 โซน A (สนามหญ้าเทียม) \nที่อยู่ : 555 ถนนราชปรารถ แขวงมักกะสัน เขตราชเทวี กรุงเทพฯ 091 119 5622
URL:https://boo.colorpack.net/event/%e0%b8%a8%e0%b8%b9%e0%b8%99%e0%b8%a2%e0%b9%8c%e0%b8%81%e0%b8%b2%e0%b8%a3%e0%b8%84%e0%b9%89%e0%b8%b2%e0%b9%80%e0%b8%94%e0%b8%ad%e0%b8%b0-%e0%b8%9e%e0%b8%b2%e0%b8%a5%e0%b8%b2%e0%b9%80%e0%b8%94-5/
LOCATION:ศูนย์การค้าเดอะ พาลาเดียม เวิลด์ ช้อปปิ้ง\, ศูนย์การค้าเดอะ พาลาเดียม เวิลด์ ช้อปปิ้ง 555 ถ.ราชปรารภ แขวงมักกะสัน เขตราชเทวี กรุงเทพมหานคร 10400
CATEGORIES:ปฏิทินตารางหน่วยเคลื่อนที่
END:VEVENT
BEGIN:VEVENT
DTSTART;TZID=Asia/Bangkok:20251016T110000
DTEND;TZID=Asia/Bangkok:20251016T150000
DTSTAMP:20260422T054229
CREATED:20251003T102108Z
LAST-MODIFIED:20251003T102108Z
UID:10003666-1760612400-1760626800@boo.colorpack.net
SUMMARY:ศูนย์การค้าเดอะ พาลาเดียม เวิลด์ ช้อปปิ้ง [0M0539]
DESCRIPTION:สถานที่เจาะ : ชั้น 4 หลังคาเฟ่อเมซอน \nที่อยู่ : 555 ถนนราชปรารถ แขวงมักกะสัน เขตราชเทวี กรุงเทพฯ 091 119 5622
URL:https://boo.colorpack.net/event/%e0%b8%a8%e0%b8%b9%e0%b8%99%e0%b8%a2%e0%b9%8c%e0%b8%81%e0%b8%b2%e0%b8%a3%e0%b8%84%e0%b9%89%e0%b8%b2%e0%b9%80%e0%b8%94%e0%b8%ad%e0%b8%b0-%e0%b8%9e%e0%b8%b2%e0%b8%a5%e0%b8%b2%e0%b9%80%e0%b8%94-4/
LOCATION:ศูนย์การค้าเดอะ พาลาเดียม เวิลด์ ช้อปปิ้ง\, ศูนย์การค้าเดอะ พาลาเดียม เวิลด์ ช้อปปิ้ง 555 ถ.ราชปรารภ แขวงมักกะสัน เขตราชเทวี กรุงเทพมหานคร 10400
CATEGORIES:ปฏิทินตารางหน่วยเคลื่อนที่
END:VEVENT
BEGIN:VEVENT
DTSTART;TZID=Asia/Bangkok:20250717T110000
DTEND;TZID=Asia/Bangkok:20250717T150000
DTSTAMP:20260422T054229
CREATED:20250716T114145Z
LAST-MODIFIED:20250716T114145Z
UID:10002577-1752750000-1752764400@boo.colorpack.net
SUMMARY:ศูนย์การค้าเดอะ พาลาเดียม เวิลด์ ช้อปปิ้ง []
DESCRIPTION:สถานที่เจาะ : ชั้น1 หลังคาเฟ่อเมซอน \nที่อยู่ : 555 ถนนราชปรารถ แขวงมักกะสัน เขตราชเทวี กรุงเทพฯ 091 119 5622
URL:https://boo.colorpack.net/event/%e0%b8%a8%e0%b8%b9%e0%b8%99%e0%b8%a2%e0%b9%8c%e0%b8%81%e0%b8%b2%e0%b8%a3%e0%b8%84%e0%b9%89%e0%b8%b2%e0%b9%80%e0%b8%94%e0%b8%ad%e0%b8%b0-%e0%b8%9e%e0%b8%b2%e0%b8%a5%e0%b8%b2%e0%b9%80%e0%b8%94-3/
LOCATION:ศูนย์การค้าเดอะ พาลาเดียม เวิลด์ ช้อปปิ้ง\, ศูนย์การค้าเดอะ พาลาเดียม เวิลด์ ช้อปปิ้ง 555 ถ.ราชปรารภ แขวงมักกะสัน เขตราชเทวี กรุงเทพมหานคร 10400
CATEGORIES:ปฏิทินตารางหน่วยเคลื่อนที่
END:VEVENT
BEGIN:VEVENT
DTSTART;TZID=Asia/Bangkok:20250417T110000
DTEND;TZID=Asia/Bangkok:20250417T150000
DTSTAMP:20260422T054229
CREATED:20250410T083154Z
LAST-MODIFIED:20250410T083154Z
UID:10001332-1744887600-1744902000@boo.colorpack.net
SUMMARY:ศูนย์การค้าเดอะ พาลาเดียม เวิลด์ ช้อปปิ้ง [0M0539]
DESCRIPTION:สถานที่เจาะ : ชั้น1 หลังคาเฟ่อเมซอน \nที่อยู่ : 555 ถนนราชปรารถ แขวงมักกะสัน เขตราชเทวี กรุงเทพฯ 091 119 5622
URL:https://boo.colorpack.net/event/%e0%b8%a8%e0%b8%b9%e0%b8%99%e0%b8%a2%e0%b9%8c%e0%b8%81%e0%b8%b2%e0%b8%a3%e0%b8%84%e0%b9%89%e0%b8%b2%e0%b9%80%e0%b8%94%e0%b8%ad%e0%b8%b0-%e0%b8%9e%e0%b8%b2%e0%b8%a5%e0%b8%b2%e0%b9%80%e0%b8%94-2/
LOCATION:ศูนย์การค้าเดอะ พาลาเดียม เวิลด์ ช้อปปิ้ง\, ศูนย์การค้าเดอะ พาลาเดียม เวิลด์ ช้อปปิ้ง 555 ถ.ราชปรารภ แขวงมักกะสัน เขตราชเทวี กรุงเทพมหานคร 10400
CATEGORIES:ปฏิทินตารางหน่วยเคลื่อนที่
END:VEVENT
BEGIN:VEVENT
DTSTART;TZID=Asia/Bangkok:20250116T110000
DTEND;TZID=Asia/Bangkok:20250116T150000
DTSTAMP:20260422T054229
CREATED:20250114T104505Z
LAST-MODIFIED:20250114T104505Z
UID:10000235-1737025200-1737039600@boo.colorpack.net
SUMMARY:ศูนย์การค้าเดอะ พาลาเดียม เวิลด์ ช้อปปิ้ง [0M0539]
DESCRIPTION:สถานที่เจาะ : ลานโปรโมชั่นชั้น 4 โซน A \nที่อยู่ : 555 ถนนราชปรารถ แขวงมักกะสัน เขตราชเทวี กรุงเทพฯ  \nโทร : 091 119 5622
URL:https://boo.colorpack.net/event/%e0%b8%a8%e0%b8%b9%e0%b8%99%e0%b8%a2%e0%b9%8c%e0%b8%81%e0%b8%b2%e0%b8%a3%e0%b8%84%e0%b9%89%e0%b8%b2%e0%b9%80%e0%b8%94%e0%b8%ad%e0%b8%b0-%e0%b8%9e%e0%b8%b2%e0%b8%a5%e0%b8%b2%e0%b9%80%e0%b8%94%e0%b8%b5/
LOCATION:ศูนย์การค้าเดอะ พาลาเดียม เวิลด์ ช้อปปิ้ง\, ศูนย์การค้าเดอะ พาลาเดียม เวิลด์ ช้อปปิ้ง 555 ถ.ราชปรารภ แขวงมักกะสัน เขตราชเทวี กรุงเทพมหานคร 10400
CATEGORIES:ปฏิทินตารางหน่วยเคลื่อนที่
END:VEVENT
END:VCALENDAR