BEGIN:VCALENDAR
VERSION:2.0
PRODID:-//เว็บไซต์ศูนย์บริการโลหิตแห่งชาติ - ECPv6.11.2.1//NONSGML v1.0//EN
CALSCALE:GREGORIAN
METHOD:PUBLISH
X-ORIGINAL-URL:https://boo.colorpack.net
X-WR-CALDESC:Events for เว็บไซต์ศูนย์บริการโลหิตแห่งชาติ
REFRESH-INTERVAL;VALUE=DURATION:PT1H
X-Robots-Tag:noindex
X-PUBLISHED-TTL:PT1H
BEGIN:VTIMEZONE
TZID:Asia/Bangkok
BEGIN:STANDARD
TZOFFSETFROM:+0700
TZOFFSETTO:+0700
TZNAME:+07
DTSTART:20250101T000000
END:STANDARD
END:VTIMEZONE
BEGIN:VEVENT
DTSTART;TZID=Asia/Bangkok:20250930T110000
DTEND;TZID=Asia/Bangkok:20250930T150000
DTSTAMP:20260421T023152
CREATED:20250925T015016Z
LAST-MODIFIED:20250929T093156Z
UID:10003466-1759230000-1759244400@boo.colorpack.net
SUMMARY:ศูนย์การค้า เกทเวย์ เอกมัย [0M1059]
DESCRIPTION:สถานที่เจาะ : ศูนย์การค้า เกทเวย์ เอกมัยชั้น 3 \nที่อยู่ : 982 ถนนสุขุมวิท แขวงพระโขนง เขตคลองเตย กรุงเทพฯ
URL:https://boo.colorpack.net/event/%e0%b8%a8%e0%b8%b9%e0%b8%99%e0%b8%a2%e0%b9%8c%e0%b8%81%e0%b8%b2%e0%b8%a3%e0%b8%84%e0%b9%89%e0%b8%b2-%e0%b9%80%e0%b8%81%e0%b8%97%e0%b9%80%e0%b8%a7%e0%b8%a2%e0%b9%8c-%e0%b9%80%e0%b8%ad%e0%b8%81%e0%b8%a1/
LOCATION:ศูนย์การค้า เกทเวย์ เอกมัย\, ศูนย์การค้า เกทเวย์ เอกมัย 982 ถนนสุขุมวิท แขวงพระโขนง เขตคลองเตย กรุงเทพมหานคร 10110
CATEGORIES:ปฏิทินตารางหน่วยเคลื่อนที่
END:VEVENT
END:VCALENDAR