BEGIN:VCALENDAR
VERSION:2.0
PRODID:-//เว็บไซต์ศูนย์บริการโลหิตแห่งชาติ - ECPv6.11.2.1//NONSGML v1.0//EN
CALSCALE:GREGORIAN
METHOD:PUBLISH
X-ORIGINAL-URL:https://boo.colorpack.net
X-WR-CALDESC:Events for เว็บไซต์ศูนย์บริการโลหิตแห่งชาติ
REFRESH-INTERVAL;VALUE=DURATION:PT1H
X-Robots-Tag:noindex
X-PUBLISHED-TTL:PT1H
BEGIN:VTIMEZONE
TZID:Asia/Krasnoyarsk
BEGIN:STANDARD
TZOFFSETFROM:+0700
TZOFFSETTO:+0700
TZNAME:+07
DTSTART:20260101T000000
END:STANDARD
END:VTIMEZONE
BEGIN:VEVENT
DTSTART;TZID=Asia/Krasnoyarsk:20260202T110000
DTEND;TZID=Asia/Krasnoyarsk:20260202T150000
DTSTAMP:20260424T020734
CREATED:20260127T120418Z
LAST-MODIFIED:20260127T120418Z
UID:10005361-1770030000-1770044400@boo.colorpack.net
SUMMARY:วัดโมลีโลกยาราม []
DESCRIPTION:สถานที่เจาะ : เรือนบาลี \nที่อยู่ : ถนนอรุณอัมรินทร์ แขวงวัดอรุณ เขตบางกอกใหญ่ กรุงเทพฯ
URL:https://boo.colorpack.net/event/%e0%b8%a7%e0%b8%b1%e0%b8%94%e0%b9%82%e0%b8%a1%e0%b8%a5%e0%b8%b5%e0%b9%82%e0%b8%a5%e0%b8%81%e0%b8%a2%e0%b8%b2%e0%b8%a3%e0%b8%b2%e0%b8%a1/
LOCATION:วัดโมลีโลกยาราม\, วัดโมลีโลกยาราม ราชวรวิหาร 2 ซอยวังเดิม 6 แขวงวัดอรุณ เขตบางกอกใหญ่ กรุงเทพมหานคร 10600
CATEGORIES:ปฏิทินตารางหน่วยเคลื่อนที่
END:VEVENT
END:VCALENDAR