BEGIN:VCALENDAR
VERSION:2.0
PRODID:-//เว็บไซต์ศูนย์บริการโลหิตแห่งชาติ - ECPv6.11.2.1//NONSGML v1.0//EN
CALSCALE:GREGORIAN
METHOD:PUBLISH
X-WR-CALNAME:เว็บไซต์ศูนย์บริการโลหิตแห่งชาติ
X-ORIGINAL-URL:https://boo.colorpack.net
X-WR-CALDESC:Events for เว็บไซต์ศูนย์บริการโลหิตแห่งชาติ
REFRESH-INTERVAL;VALUE=DURATION:PT1H
X-Robots-Tag:noindex
X-PUBLISHED-TTL:PT1H
BEGIN:VTIMEZONE
TZID:Asia/Krasnoyarsk
BEGIN:STANDARD
TZOFFSETFROM:+0700
TZOFFSETTO:+0700
TZNAME:+07
DTSTART:20250101T000000
END:STANDARD
END:VTIMEZONE
BEGIN:VTIMEZONE
TZID:Asia/Bangkok
BEGIN:STANDARD
TZOFFSETFROM:+0700
TZOFFSETTO:+0700
TZNAME:+07
DTSTART:20250101T000000
END:STANDARD
END:VTIMEZONE
BEGIN:VEVENT
DTSTART;TZID=Asia/Krasnoyarsk:20251228T083000
DTEND;TZID=Asia/Krasnoyarsk:20251228T140000
DTSTAMP:20260421T204234
CREATED:20251223T144916Z
LAST-MODIFIED:20251224T082423Z
UID:10004895-1766910600-1766930400@boo.colorpack.net
SUMMARY:วัดหนามแดง []
DESCRIPTION:สถานที่เจาะ : หอประชุม \nที่อยู่ : 21 ม. 3 ซ.วัดหนามแดง ถ.เทพารักษ์ ต.บางแก้ว อ.บางพลี จ.สมุทรปราการ 0 2385 2738
URL:https://boo.colorpack.net/event/%e0%b8%a7%e0%b8%b1%e0%b8%94%e0%b8%ab%e0%b8%99%e0%b8%b2%e0%b8%a1%e0%b9%81%e0%b8%94%e0%b8%87-2/
LOCATION:วัดหนามแดง\, วัดหนามแดง 21 ม.3 ซ.วัดหนามแดง ถ.เทพารักษ์ ต.บางแก้ว อ.บางพลี จ.สมุทรปราการ 10540
CATEGORIES:ปฏิทินตารางหน่วยเคลื่อนที่
END:VEVENT
BEGIN:VEVENT
DTSTART;TZID=Asia/Bangkok:20250928T083000
DTEND;TZID=Asia/Bangkok:20250928T140000
DTSTAMP:20260421T204234
CREATED:20250924T112822Z
LAST-MODIFIED:20250924T112822Z
UID:10003438-1759048200-1759068000@boo.colorpack.net
SUMMARY:วัดหนามแดง [0H0007]
DESCRIPTION:สถานที่เจาะ : หอประชุม \nที่อยู่ : 21 ม. 3 ซ.วัดหนามแดง ถ.เทพารักษ์ ต.บางแก้ว อ.บางพลี จ.สมุทรปราการ 0 2385 2738
URL:https://boo.colorpack.net/event/%e0%b8%a7%e0%b8%b1%e0%b8%94%e0%b8%ab%e0%b8%99%e0%b8%b2%e0%b8%a1%e0%b9%81%e0%b8%94%e0%b8%87-0h0007-2/
LOCATION:วัดหนามแดง\, วัดหนามแดง 21 ม.3 ซ.วัดหนามแดง ถ.เทพารักษ์ ต.บางแก้ว อ.บางพลี จ.สมุทรปราการ 10540
CATEGORIES:ปฏิทินตารางหน่วยเคลื่อนที่
END:VEVENT
BEGIN:VEVENT
DTSTART;TZID=Asia/Bangkok:20250629T083000
DTEND;TZID=Asia/Bangkok:20250629T140000
DTSTAMP:20260421T204234
CREATED:20250626T022800Z
LAST-MODIFIED:20250626T022800Z
UID:10002427-1751185800-1751205600@boo.colorpack.net
SUMMARY:วัดหนามแดง []
DESCRIPTION:สถานที่เจาะ : หอประชุม \nที่อยู่ : 21 ม. 3 ซ.วัดหนามแดง ถ.เทพารักษ์ ต.บางแก้ว อ.บางพลี จ.สมุทรปราการ 0 2385 2738
URL:https://boo.colorpack.net/event/%e0%b8%a7%e0%b8%b1%e0%b8%94%e0%b8%ab%e0%b8%99%e0%b8%b2%e0%b8%a1%e0%b9%81%e0%b8%94%e0%b8%87/
LOCATION:วัดหนามแดง\, วัดหนามแดง 21 ม.3 ซ.วัดหนามแดง ถ.เทพารักษ์ ต.บางแก้ว อ.บางพลี จ.สมุทรปราการ 10540
CATEGORIES:ปฏิทินตารางหน่วยเคลื่อนที่
END:VEVENT
BEGIN:VEVENT
DTSTART;TZID=Asia/Bangkok:20250330T083000
DTEND;TZID=Asia/Bangkok:20250330T140000
DTSTAMP:20260421T204234
CREATED:20250321T104752Z
LAST-MODIFIED:20250321T104752Z
UID:10001088-1743323400-1743343200@boo.colorpack.net
SUMMARY:วัดหนามแดง [0H0007]
DESCRIPTION:สถานที่เจาะ : หอประชุม \nที่อยู่ : 21 ม. 3 ซ.วัดหนามแดง ถ.เทพารักษ์ ต.บางแก้ว อ.บางพลี จ.สมุทรปราการ 0 2385 2738
URL:https://boo.colorpack.net/event/%e0%b8%a7%e0%b8%b1%e0%b8%94%e0%b8%ab%e0%b8%99%e0%b8%b2%e0%b8%a1%e0%b9%81%e0%b8%94%e0%b8%87-0h0007/
LOCATION:วัดหนามแดง\, วัดหนามแดง 21 ม.3 ซ.วัดหนามแดง ถ.เทพารักษ์ ต.บางแก้ว อ.บางพลี จ.สมุทรปราการ 10540
CATEGORIES:ปฏิทินตารางหน่วยเคลื่อนที่
END:VEVENT
END:VCALENDAR