BEGIN:VCALENDAR
VERSION:2.0
PRODID:-//เว็บไซต์ศูนย์บริการโลหิตแห่งชาติ - ECPv6.11.2.1//NONSGML v1.0//EN
CALSCALE:GREGORIAN
METHOD:PUBLISH
X-ORIGINAL-URL:https://boo.colorpack.net
X-WR-CALDESC:Events for เว็บไซต์ศูนย์บริการโลหิตแห่งชาติ
REFRESH-INTERVAL;VALUE=DURATION:PT1H
X-Robots-Tag:noindex
X-PUBLISHED-TTL:PT1H
BEGIN:VTIMEZONE
TZID:Asia/Krasnoyarsk
BEGIN:STANDARD
TZOFFSETFROM:+0700
TZOFFSETTO:+0700
TZNAME:+07
DTSTART:20260101T000000
END:STANDARD
END:VTIMEZONE
BEGIN:VTIMEZONE
TZID:Asia/Bangkok
BEGIN:STANDARD
TZOFFSETFROM:+0700
TZOFFSETTO:+0700
TZNAME:+07
DTSTART:20250101T000000
END:STANDARD
END:VTIMEZONE
BEGIN:VEVENT
DTSTART;TZID=Asia/Krasnoyarsk:20260104T110000
DTEND;TZID=Asia/Krasnoyarsk:20260104T150000
DTSTAMP:20260422T054224
CREATED:20251224T091837Z
LAST-MODIFIED:20251224T091837Z
UID:10004949-1767524400-1767538800@boo.colorpack.net
SUMMARY:ลุมพินี เพลส รัชโยธิน []
DESCRIPTION:สถานที่เจาะ : ห้องสมุด \nที่อยู่ : 1484 ถนนพหลโยธิน แขวงจันทรเกษม เขตจตุจักร กรุงเทพฯ
URL:https://boo.colorpack.net/event/%e0%b8%a5%e0%b8%b8%e0%b8%a1%e0%b8%9e%e0%b8%b4%e0%b8%99%e0%b8%b5-%e0%b9%80%e0%b8%9e%e0%b8%a5%e0%b8%aa-%e0%b8%a3%e0%b8%b1%e0%b8%8a%e0%b9%82%e0%b8%a2%e0%b8%98%e0%b8%b4%e0%b8%99-2/
LOCATION:ลุมพินี เพลส รัชโยธิน\, ลุมพินี เพลส รัชโยธิน 1484 ถ.พหลโยธิน แขวงจันทรเกษม เขตจตุจักร กรุงเทพมหานคร 10900
CATEGORIES:ปฏิทินตารางหน่วยเคลื่อนที่
END:VEVENT
BEGIN:VEVENT
DTSTART;TZID=Asia/Bangkok:20251005T110000
DTEND;TZID=Asia/Bangkok:20251005T150000
DTSTAMP:20260422T054224
CREATED:20250924T111002Z
LAST-MODIFIED:20250924T111002Z
UID:10003408-1759662000-1759676400@boo.colorpack.net
SUMMARY:ลุมพินี เพลส รัชโยธิน [0J0453]
DESCRIPTION:สถานที่เจาะ : ห้องสมุด \nที่อยู่ : 1484 ถนนพหลโยธิน แขวงจันทรเกษม เขตจตุจักร กรุงเทพฯ
URL:https://boo.colorpack.net/event/%e0%b8%a5%e0%b8%b8%e0%b8%a1%e0%b8%9e%e0%b8%b4%e0%b8%99%e0%b8%b5-%e0%b9%80%e0%b8%9e%e0%b8%a5%e0%b8%aa-%e0%b8%a3%e0%b8%b1%e0%b8%8a%e0%b9%82%e0%b8%a2%e0%b8%98%e0%b8%b4%e0%b8%99-0j0453-3/
LOCATION:ลุมพินี เพลส รัชโยธิน\, ลุมพินี เพลส รัชโยธิน 1484 ถ.พหลโยธิน แขวงจันทรเกษม เขตจตุจักร กรุงเทพมหานคร 10900
CATEGORIES:ปฏิทินตารางหน่วยเคลื่อนที่
END:VEVENT
BEGIN:VEVENT
DTSTART;TZID=Asia/Bangkok:20250706T110000
DTEND;TZID=Asia/Bangkok:20250706T150000
DTSTAMP:20260422T054224
CREATED:20250623T035242Z
LAST-MODIFIED:20250623T035242Z
UID:10002303-1751799600-1751814000@boo.colorpack.net
SUMMARY:ลุมพินี เพลส รัชโยธิน []
DESCRIPTION:สถานที่เจาะ : ห้องสมุด \nที่อยู่ : 1484 ถนนพหลโยธิน แขวงจันทรเกษม เขตจตุจักร กรุงเทพฯ
URL:https://boo.colorpack.net/event/%e0%b8%a5%e0%b8%b8%e0%b8%a1%e0%b8%9e%e0%b8%b4%e0%b8%99%e0%b8%b5-%e0%b9%80%e0%b8%9e%e0%b8%a5%e0%b8%aa-%e0%b8%a3%e0%b8%b1%e0%b8%8a%e0%b9%82%e0%b8%a2%e0%b8%98%e0%b8%b4%e0%b8%99/
LOCATION:ลุมพินี เพลส รัชโยธิน\, ลุมพินี เพลส รัชโยธิน 1484 ถ.พหลโยธิน แขวงจันทรเกษม เขตจตุจักร กรุงเทพมหานคร 10900
CATEGORIES:ปฏิทินตารางหน่วยเคลื่อนที่
END:VEVENT
BEGIN:VEVENT
DTSTART;TZID=Asia/Bangkok:20250406T110000
DTEND;TZID=Asia/Bangkok:20250406T150000
DTSTAMP:20260422T054224
CREATED:20250328T033020Z
LAST-MODIFIED:20250328T033020Z
UID:10001199-1743937200-1743951600@boo.colorpack.net
SUMMARY:ลุมพินี เพลส รัชโยธิน [0J0453]
DESCRIPTION:สถานที่เจาะ : ห้องสมุด \nที่อยู่ : 1484 ถนนพหลโยธิน แขวงจันทรเกษม เขตจตุจักร กรุงเทพฯ
URL:https://boo.colorpack.net/event/%e0%b8%a5%e0%b8%b8%e0%b8%a1%e0%b8%9e%e0%b8%b4%e0%b8%99%e0%b8%b5-%e0%b9%80%e0%b8%9e%e0%b8%a5%e0%b8%aa-%e0%b8%a3%e0%b8%b1%e0%b8%8a%e0%b9%82%e0%b8%a2%e0%b8%98%e0%b8%b4%e0%b8%99-0j0453-2/
LOCATION:ลุมพินี เพลส รัชโยธิน\, ลุมพินี เพลส รัชโยธิน 1484 ถ.พหลโยธิน แขวงจันทรเกษม เขตจตุจักร กรุงเทพมหานคร 10900
CATEGORIES:ปฏิทินตารางหน่วยเคลื่อนที่
END:VEVENT
BEGIN:VEVENT
DTSTART;TZID=Asia/Bangkok:20250105T110000
DTEND;TZID=Asia/Bangkok:20250105T150000
DTSTAMP:20260422T054224
CREATED:20250103T070656Z
LAST-MODIFIED:20250103T070656Z
UID:10000158-1736074800-1736089200@boo.colorpack.net
SUMMARY:ลุมพินี เพลส รัชโยธิน [0J0453]
DESCRIPTION:สถานที่เจาะ : ห้องสมุด \nที่อยู่ : 1484 ถนนพหลโยธิน แขวงจันทรเกษม เขตจตุจักร กรุงเทพฯ
URL:https://boo.colorpack.net/event/%e0%b8%a5%e0%b8%b8%e0%b8%a1%e0%b8%9e%e0%b8%b4%e0%b8%99%e0%b8%b5-%e0%b9%80%e0%b8%9e%e0%b8%a5%e0%b8%aa-%e0%b8%a3%e0%b8%b1%e0%b8%8a%e0%b9%82%e0%b8%a2%e0%b8%98%e0%b8%b4%e0%b8%99-0j0453/
LOCATION:ลุมพินี เพลส รัชโยธิน\, ลุมพินี เพลส รัชโยธิน 1484 ถ.พหลโยธิน แขวงจันทรเกษม เขตจตุจักร กรุงเทพมหานคร 10900
CATEGORIES:ปฏิทินตารางหน่วยเคลื่อนที่
END:VEVENT
END:VCALENDAR