BEGIN:VCALENDAR
VERSION:2.0
PRODID:-//เว็บไซต์ศูนย์บริการโลหิตแห่งชาติ - ECPv6.11.2.1//NONSGML v1.0//EN
CALSCALE:GREGORIAN
METHOD:PUBLISH
X-WR-CALNAME:เว็บไซต์ศูนย์บริการโลหิตแห่งชาติ
X-ORIGINAL-URL:https://boo.colorpack.net
X-WR-CALDESC:Events for เว็บไซต์ศูนย์บริการโลหิตแห่งชาติ
REFRESH-INTERVAL;VALUE=DURATION:PT1H
X-Robots-Tag:noindex
X-PUBLISHED-TTL:PT1H
BEGIN:VTIMEZONE
TZID:Asia/Krasnoyarsk
BEGIN:STANDARD
TZOFFSETFROM:+0700
TZOFFSETTO:+0700
TZNAME:+07
DTSTART:20260101T000000
END:STANDARD
END:VTIMEZONE
BEGIN:VTIMEZONE
TZID:Asia/Bangkok
BEGIN:STANDARD
TZOFFSETFROM:+0700
TZOFFSETTO:+0700
TZNAME:+07
DTSTART:20250101T000000
END:STANDARD
END:VTIMEZONE
BEGIN:VEVENT
DTSTART;TZID=Asia/Krasnoyarsk:20260118T083000
DTEND;TZID=Asia/Krasnoyarsk:20260118T120000
DTSTAMP:20260422T071408
CREATED:20260113T120054Z
LAST-MODIFIED:20260113T120054Z
UID:10005151-1768725000-1768737600@boo.colorpack.net
SUMMARY:มูลนิธิโพธิภาวนาสงเคราะห์ []
DESCRIPTION:สถานที่เจาะ : หน้าศาลเจ้า \nที่อยู่ : 299 ถนนพหลโยธิน (สะพานใหม่) แขวงอนุสาวรีย์ เขตบางเขน กรุงเทพฯ 0 2521 0003
URL:https://boo.colorpack.net/event/%e0%b8%a1%e0%b8%b9%e0%b8%a5%e0%b8%99%e0%b8%b4%e0%b8%98%e0%b8%b4%e0%b9%82%e0%b8%9e%e0%b8%98%e0%b8%b4%e0%b8%a0%e0%b8%b2%e0%b8%a7%e0%b8%99%e0%b8%b2%e0%b8%aa%e0%b8%87%e0%b9%80%e0%b8%84%e0%b8%a3%e0%b8%b2-7/
LOCATION:มูลนิธิโพธิภาวนาสงเคราะห์\, มูลนิธิโพธิภาวนาสงเคราะห์ (จิบเสียงเซี่ยงตึ๊ง) 299 หมู่ที่ 7 ถ.พหลโยธิน สะพานใหม่ แขวงอนุสาวรีย์ฯ เขตบางเขน กรุงเทพมหานคร 10220
CATEGORIES:ปฏิทินตารางหน่วยเคลื่อนที่
END:VEVENT
BEGIN:VEVENT
DTSTART;TZID=Asia/Bangkok:20251012T083000
DTEND;TZID=Asia/Bangkok:20251012T120000
DTSTAMP:20260422T071408
CREATED:20251003T090548Z
LAST-MODIFIED:20251003T090548Z
UID:10003609-1760257800-1760270400@boo.colorpack.net
SUMMARY:มูลนิธิโพธิภาวนาสงเคราะห์ [0J0360]
DESCRIPTION:สถานที่เจาะ : หน้าศาลเจ้า \nที่อยู่ : 299 ถนนพหลโยธิน (สะพานใหม่) แขวงอนุสาวรีย์ เขตบางเขน กรุงเทพฯ 0 2521 0003
URL:https://boo.colorpack.net/event/%e0%b8%a1%e0%b8%b9%e0%b8%a5%e0%b8%99%e0%b8%b4%e0%b8%98%e0%b8%b4%e0%b9%82%e0%b8%9e%e0%b8%98%e0%b8%b4%e0%b8%a0%e0%b8%b2%e0%b8%a7%e0%b8%99%e0%b8%b2%e0%b8%aa%e0%b8%87%e0%b9%80%e0%b8%84%e0%b8%a3%e0%b8%b2-6/
LOCATION:มูลนิธิโพธิภาวนาสงเคราะห์\, มูลนิธิโพธิภาวนาสงเคราะห์ (จิบเสียงเซี่ยงตึ๊ง) 299 หมู่ที่ 7 ถ.พหลโยธิน สะพานใหม่ แขวงอนุสาวรีย์ฯ เขตบางเขน กรุงเทพมหานคร 10220
CATEGORIES:ปฏิทินตารางหน่วยเคลื่อนที่
END:VEVENT
BEGIN:VEVENT
DTSTART;TZID=Asia/Bangkok:20250720T083000
DTEND;TZID=Asia/Bangkok:20250720T120000
DTSTAMP:20260422T071408
CREATED:20250716T115822Z
LAST-MODIFIED:20250716T120006Z
UID:10002617-1753000200-1753012800@boo.colorpack.net
SUMMARY:มูลนิธิโพธิภาวนาสงเคราะห์ []
DESCRIPTION:สถานที่เจาะ : หน้าศาลเจ้า \nที่อยู่ : 299 ถนนพหลโยธิน (สะพานใหม่) แขวงอนุสาวรีย์ เขตบางเขน กรุงเทพฯ 0 2521 0003
URL:https://boo.colorpack.net/event/%e0%b8%a1%e0%b8%b9%e0%b8%a5%e0%b8%99%e0%b8%b4%e0%b8%98%e0%b8%b4%e0%b9%82%e0%b8%9e%e0%b8%98%e0%b8%b4%e0%b8%a0%e0%b8%b2%e0%b8%a7%e0%b8%99%e0%b8%b2%e0%b8%aa%e0%b8%87%e0%b9%80%e0%b8%84%e0%b8%a3%e0%b8%b2-5/
LOCATION:มูลนิธิโพธิภาวนาสงเคราะห์\, มูลนิธิโพธิภาวนาสงเคราะห์ (จิบเสียงเซี่ยงตึ๊ง) 299 หมู่ที่ 7 ถ.พหลโยธิน สะพานใหม่ แขวงอนุสาวรีย์ฯ เขตบางเขน กรุงเทพมหานคร 10220
CATEGORIES:ปฏิทินตารางหน่วยเคลื่อนที่
END:VEVENT
BEGIN:VEVENT
DTSTART;TZID=Asia/Bangkok:20250427T083000
DTEND;TZID=Asia/Bangkok:20250427T120000
DTSTAMP:20260422T071408
CREATED:20250424T063049Z
LAST-MODIFIED:20250424T063049Z
UID:10001488-1745742600-1745755200@boo.colorpack.net
SUMMARY:มูลนิธิโพธิภาวนาสงเคราะห์ []
DESCRIPTION:สถานที่เจาะ : หน้าศาลเจ้า \nที่อยู่ : 299 ถนนพหลโยธิน (สะพานใหม่) แขวงอนุสาวรีย์ เขตบางเขน กรุงเทพฯ 0 2521 0003
URL:https://boo.colorpack.net/event/%e0%b8%a1%e0%b8%b9%e0%b8%a5%e0%b8%99%e0%b8%b4%e0%b8%98%e0%b8%b4%e0%b9%82%e0%b8%9e%e0%b8%98%e0%b8%b4%e0%b8%a0%e0%b8%b2%e0%b8%a7%e0%b8%99%e0%b8%b2%e0%b8%aa%e0%b8%87%e0%b9%80%e0%b8%84%e0%b8%a3%e0%b8%b2-4/
LOCATION:มูลนิธิโพธิภาวนาสงเคราะห์\, มูลนิธิโพธิภาวนาสงเคราะห์ (จิบเสียงเซี่ยงตึ๊ง) 299 หมู่ที่ 7 ถ.พหลโยธิน สะพานใหม่ แขวงอนุสาวรีย์ฯ เขตบางเขน กรุงเทพมหานคร 10220
CATEGORIES:ปฏิทินตารางหน่วยเคลื่อนที่
END:VEVENT
BEGIN:VEVENT
DTSTART;TZID=Asia/Bangkok:20250427T083000
DTEND;TZID=Asia/Bangkok:20250427T120000
DTSTAMP:20260422T071408
CREATED:20250424T063046Z
LAST-MODIFIED:20250424T063046Z
UID:10001487-1745742600-1745755200@boo.colorpack.net
SUMMARY:มูลนิธิโพธิภาวนาสงเคราะห์ []
DESCRIPTION:สถานที่เจาะ : หน้าศาลเจ้า \nที่อยู่ : 299 ถนนพหลโยธิน (สะพานใหม่) แขวงอนุสาวรีย์ เขตบางเขน กรุงเทพฯ 0 2521 0003
URL:https://boo.colorpack.net/event/%e0%b8%a1%e0%b8%b9%e0%b8%a5%e0%b8%99%e0%b8%b4%e0%b8%98%e0%b8%b4%e0%b9%82%e0%b8%9e%e0%b8%98%e0%b8%b4%e0%b8%a0%e0%b8%b2%e0%b8%a7%e0%b8%99%e0%b8%b2%e0%b8%aa%e0%b8%87%e0%b9%80%e0%b8%84%e0%b8%a3%e0%b8%b2-3/
LOCATION:มูลนิธิโพธิภาวนาสงเคราะห์\, มูลนิธิโพธิภาวนาสงเคราะห์ (จิบเสียงเซี่ยงตึ๊ง) 299 หมู่ที่ 7 ถ.พหลโยธิน สะพานใหม่ แขวงอนุสาวรีย์ฯ เขตบางเขน กรุงเทพมหานคร 10220
CATEGORIES:ปฏิทินตารางหน่วยเคลื่อนที่
END:VEVENT
BEGIN:VEVENT
DTSTART;TZID=Asia/Bangkok:20250119T083000
DTEND;TZID=Asia/Bangkok:20250119T120000
DTSTAMP:20260422T071408
CREATED:20250114T105646Z
LAST-MODIFIED:20250114T105646Z
UID:10000286-1737275400-1737288000@boo.colorpack.net
SUMMARY:มูลนิธิโพธิภาวนาสงเคราะห์ [0J0360]
DESCRIPTION:สถานที่เจาะ : หน้าศาลเจ้า \nที่อยู่ : 299 ถนนพหลโยธิน (สะพานใหม่) แขวงอนุสาวรีย์ เขตบางเขน กรุงเทพฯ  \nโทร : 0 2521 0003
URL:https://boo.colorpack.net/event/%e0%b8%a1%e0%b8%b9%e0%b8%a5%e0%b8%99%e0%b8%b4%e0%b8%98%e0%b8%b4%e0%b9%82%e0%b8%9e%e0%b8%98%e0%b8%b4%e0%b8%a0%e0%b8%b2%e0%b8%a7%e0%b8%99%e0%b8%b2%e0%b8%aa%e0%b8%87%e0%b9%80%e0%b8%84%e0%b8%a3%e0%b8%b2-2/
LOCATION:มูลนิธิโพธิภาวนาสงเคราะห์\, มูลนิธิโพธิภาวนาสงเคราะห์ (จิบเสียงเซี่ยงตึ๊ง) 299 หมู่ที่ 7 ถ.พหลโยธิน สะพานใหม่ แขวงอนุสาวรีย์ฯ เขตบางเขน กรุงเทพมหานคร 10220
CATEGORIES:ปฏิทินตารางหน่วยเคลื่อนที่
END:VEVENT
BEGIN:VEVENT
DTSTART;TZID=Asia/Bangkok:20250119T083000
DTEND;TZID=Asia/Bangkok:20250119T120000
DTSTAMP:20260422T071408
CREATED:20250114T105643Z
LAST-MODIFIED:20250114T105643Z
UID:10000285-1737275400-1737288000@boo.colorpack.net
SUMMARY:มูลนิธิโพธิภาวนาสงเคราะห์ [0J0360]
DESCRIPTION:สถานที่เจาะ : หน้าศาลเจ้า \nที่อยู่ : 299 ถนนพหลโยธิน (สะพานใหม่) แขวงอนุสาวรีย์ เขตบางเขน กรุงเทพฯ  \nโทร : 0 2521 0003
URL:https://boo.colorpack.net/event/%e0%b8%a1%e0%b8%b9%e0%b8%a5%e0%b8%99%e0%b8%b4%e0%b8%98%e0%b8%b4%e0%b9%82%e0%b8%9e%e0%b8%98%e0%b8%b4%e0%b8%a0%e0%b8%b2%e0%b8%a7%e0%b8%99%e0%b8%b2%e0%b8%aa%e0%b8%87%e0%b9%80%e0%b8%84%e0%b8%a3%e0%b8%b2/
LOCATION:มูลนิธิโพธิภาวนาสงเคราะห์\, มูลนิธิโพธิภาวนาสงเคราะห์ (จิบเสียงเซี่ยงตึ๊ง) 299 หมู่ที่ 7 ถ.พหลโยธิน สะพานใหม่ แขวงอนุสาวรีย์ฯ เขตบางเขน กรุงเทพมหานคร 10220
CATEGORIES:ปฏิทินตารางหน่วยเคลื่อนที่
END:VEVENT
END:VCALENDAR