BEGIN:VCALENDAR
VERSION:2.0
PRODID:-//เว็บไซต์ศูนย์บริการโลหิตแห่งชาติ - ECPv6.11.2.1//NONSGML v1.0//EN
CALSCALE:GREGORIAN
METHOD:PUBLISH
X-ORIGINAL-URL:https://boo.colorpack.net
X-WR-CALDESC:Events for เว็บไซต์ศูนย์บริการโลหิตแห่งชาติ
REFRESH-INTERVAL;VALUE=DURATION:PT1H
X-Robots-Tag:noindex
X-PUBLISHED-TTL:PT1H
BEGIN:VTIMEZONE
TZID:Asia/Bangkok
BEGIN:STANDARD
TZOFFSETFROM:+0700
TZOFFSETTO:+0700
TZNAME:+07
DTSTART:20250101T000000
END:STANDARD
END:VTIMEZONE
BEGIN:VEVENT
DTSTART;TZID=Asia/Bangkok:20250827T110000
DTEND;TZID=Asia/Bangkok:20250827T150000
DTSTAMP:20260425T205508
CREATED:20250817T105752Z
LAST-MODIFIED:20250817T105752Z
UID:10002892-1756292400-1756306800@boo.colorpack.net
SUMMARY:มหาวิทยาลัยเวสเทิร์น [0B0571]
DESCRIPTION:สถานที่เจาะ : ห้องประชุม ชั้น 6 \nที่อยู่ : เลขที่ 4 ม.11 ถ.หทัยราษฎร์ ต.ลาดสวาย อ.ลำลูกกา ปทุมธานี 0 2563 5252
URL:https://boo.colorpack.net/event/%e0%b8%a1%e0%b8%ab%e0%b8%b2%e0%b8%a7%e0%b8%b4%e0%b8%97%e0%b8%a2%e0%b8%b2%e0%b8%a5%e0%b8%b1%e0%b8%a2%e0%b9%80%e0%b8%a7%e0%b8%aa%e0%b9%80%e0%b8%97%e0%b8%b4%e0%b8%a3%e0%b9%8c%e0%b8%99-0b0571/
LOCATION:มหาวิทยาลัยเวสเทิร์น\, มหาวิทยาลัยเวสเทิร์น 4 ม.11 ถ.หทัยราษฎร์ ต.ลาดสวาย อ.ลำลูกกา ปทุมธานี 12150
CATEGORIES:ปฏิทินตารางหน่วยเคลื่อนที่
END:VEVENT
END:VCALENDAR