BEGIN:VCALENDAR
VERSION:2.0
PRODID:-//เว็บไซต์ศูนย์บริการโลหิตแห่งชาติ - ECPv6.11.2.1//NONSGML v1.0//EN
CALSCALE:GREGORIAN
METHOD:PUBLISH
X-ORIGINAL-URL:https://boo.colorpack.net
X-WR-CALDESC:Events for เว็บไซต์ศูนย์บริการโลหิตแห่งชาติ
REFRESH-INTERVAL;VALUE=DURATION:PT1H
X-Robots-Tag:noindex
X-PUBLISHED-TTL:PT1H
BEGIN:VTIMEZONE
TZID:Asia/Bangkok
BEGIN:STANDARD
TZOFFSETFROM:+0700
TZOFFSETTO:+0700
TZNAME:+07
DTSTART:20250101T000000
END:STANDARD
END:VTIMEZONE
BEGIN:VEVENT
DTSTART;TZID=Asia/Bangkok:20250829T090000
DTEND;TZID=Asia/Bangkok:20250829T150000
DTSTAMP:20260421T000142
CREATED:20250825T084012Z
LAST-MODIFIED:20250825T084012Z
UID:10002977-1756458000-1756479600@boo.colorpack.net
SUMMARY:มหาวิทยาลัยอัสสัมชัญ วิทยาเขตสุวรรณภูมิ [0B0410]
DESCRIPTION:สถานที่เจาะ : อาคาร MSM \nที่อยู่ : 88 ม.8 ถ.บางนา-ตราด ต.บางเสาธง อ.บางเสาธง จ.สมุทรปราการ
URL:https://boo.colorpack.net/event/%e0%b8%a1%e0%b8%ab%e0%b8%b2%e0%b8%a7%e0%b8%b4%e0%b8%97%e0%b8%a2%e0%b8%b2%e0%b8%a5%e0%b8%b1%e0%b8%a2%e0%b8%ad%e0%b8%b1%e0%b8%aa%e0%b8%aa%e0%b8%b1%e0%b8%a1%e0%b8%8a%e0%b8%b1%e0%b8%8d-%e0%b8%a7%e0%b8%b4/
LOCATION:มหาวิทยาลัยอัสสัมชัญ วิทยาเขตสุวรรณภูมิ\, มหาวิทยาลัยอัสสัมชัญ วิทยาเขตสุวรรณภูมิ 88 ม.8 ถ.บางนา-ตราด ต.บางเสาธง อ.บางเสาธง สมุทรปราการ 10540
CATEGORIES:ปฏิทินตารางหน่วยเคลื่อนที่
END:VEVENT
END:VCALENDAR