BEGIN:VCALENDAR
VERSION:2.0
PRODID:-//เว็บไซต์ศูนย์บริการโลหิตแห่งชาติ - ECPv6.11.2.1//NONSGML v1.0//EN
CALSCALE:GREGORIAN
METHOD:PUBLISH
X-WR-CALNAME:เว็บไซต์ศูนย์บริการโลหิตแห่งชาติ
X-ORIGINAL-URL:https://boo.colorpack.net
X-WR-CALDESC:Events for เว็บไซต์ศูนย์บริการโลหิตแห่งชาติ
REFRESH-INTERVAL;VALUE=DURATION:PT1H
X-Robots-Tag:noindex
X-PUBLISHED-TTL:PT1H
BEGIN:VTIMEZONE
TZID:Asia/Krasnoyarsk
BEGIN:STANDARD
TZOFFSETFROM:+0700
TZOFFSETTO:+0700
TZNAME:+07
DTSTART:20260101T000000
END:STANDARD
END:VTIMEZONE
BEGIN:VTIMEZONE
TZID:Asia/Bangkok
BEGIN:STANDARD
TZOFFSETFROM:+0700
TZOFFSETTO:+0700
TZNAME:+07
DTSTART:20250101T000000
END:STANDARD
END:VTIMEZONE
BEGIN:VEVENT
DTSTART;TZID=Asia/Krasnoyarsk:20260129T090000
DTEND;TZID=Asia/Krasnoyarsk:20260129T150000
DTSTAMP:20260422T011149
CREATED:20260127T114635Z
LAST-MODIFIED:20260127T114635Z
UID:10005303-1769677200-1769698800@boo.colorpack.net
SUMMARY:มหาวิทยาลัยหอการค้าไทย []
DESCRIPTION:สถานที่เจาะ : ห้อง Blissful อาคาร 10 ชั้น 1 (พัก 11.30-12.30 น.) \nที่อยู่ : 126/1 วิภาวดีรังสิต 2 แขวงดินแดง เขตดินแดง กรุงเทพฯ 0 2697 6911
URL:https://boo.colorpack.net/event/%e0%b8%a1%e0%b8%ab%e0%b8%b2%e0%b8%a7%e0%b8%b4%e0%b8%97%e0%b8%a2%e0%b8%b2%e0%b8%a5%e0%b8%b1%e0%b8%a2%e0%b8%ab%e0%b8%ad%e0%b8%81%e0%b8%b2%e0%b8%a3%e0%b8%84%e0%b9%89%e0%b8%b2%e0%b9%84%e0%b8%97%e0%b8%a2-8/
LOCATION:มหาวิทยาลัยหอการค้าไทย\, มหาวิทยาลัยหอการค้าไทย 126/1 ซ.วิภาวดิรังสิต2 แยก 6 แขวง รัชดาภิเษก เขตดินแดง กรุงเทพมหานคร 10400
CATEGORIES:ปฏิทินตารางหน่วยเคลื่อนที่
END:VEVENT
BEGIN:VEVENT
DTSTART;TZID=Asia/Krasnoyarsk:20260128T090000
DTEND;TZID=Asia/Krasnoyarsk:20260128T150000
DTSTAMP:20260422T011149
CREATED:20260120T105139Z
LAST-MODIFIED:20260120T105139Z
UID:10005290-1769590800-1769612400@boo.colorpack.net
SUMMARY:มหาวิทยาลัยหอการค้าไทย []
DESCRIPTION:สถานที่เจาะ : ห้อง IDE อาคาร 1 (พัก 11.30-12.30 น.) \nที่อยู่ : 126/1 วิภาวดีรังสิต 2 แขวงดินแดง เขตดินแดง กรุงเทพฯ 0 2697 6911
URL:https://boo.colorpack.net/event/%e0%b8%a1%e0%b8%ab%e0%b8%b2%e0%b8%a7%e0%b8%b4%e0%b8%97%e0%b8%a2%e0%b8%b2%e0%b8%a5%e0%b8%b1%e0%b8%a2%e0%b8%ab%e0%b8%ad%e0%b8%81%e0%b8%b2%e0%b8%a3%e0%b8%84%e0%b9%89%e0%b8%b2%e0%b9%84%e0%b8%97%e0%b8%a2-7/
LOCATION:มหาวิทยาลัยหอการค้าไทย\, มหาวิทยาลัยหอการค้าไทย 126/1 ซ.วิภาวดิรังสิต2 แยก 6 แขวง รัชดาภิเษก เขตดินแดง กรุงเทพมหานคร 10400
CATEGORIES:ปฏิทินตารางหน่วยเคลื่อนที่
END:VEVENT
BEGIN:VEVENT
DTSTART;TZID=Asia/Bangkok:20250912T090000
DTEND;TZID=Asia/Bangkok:20250912T150000
DTSTAMP:20260422T011149
CREATED:20250908T060301Z
LAST-MODIFIED:20250908T060301Z
UID:10003214-1757667600-1757689200@boo.colorpack.net
SUMMARY:มหาวิทยาลัยหอการค้าไทย [0B0011]
DESCRIPTION:สถานที่เจาะ : ห้อง IDE อาคาร 1 (พัก 11.30-12.30 น.) \nที่อยู่ : 126/1 วิภาวดีรังสิต 2 แขวงดินแดง เขตดินแดง กรุงเทพฯ 0 2697 6911
URL:https://boo.colorpack.net/event/%e0%b8%a1%e0%b8%ab%e0%b8%b2%e0%b8%a7%e0%b8%b4%e0%b8%97%e0%b8%a2%e0%b8%b2%e0%b8%a5%e0%b8%b1%e0%b8%a2%e0%b8%ab%e0%b8%ad%e0%b8%81%e0%b8%b2%e0%b8%a3%e0%b8%84%e0%b9%89%e0%b8%b2%e0%b9%84%e0%b8%97%e0%b8%a2-6/
LOCATION:มหาวิทยาลัยหอการค้าไทย\, มหาวิทยาลัยหอการค้าไทย 126/1 ซ.วิภาวดิรังสิต2 แยก 6 แขวง รัชดาภิเษก เขตดินแดง กรุงเทพมหานคร 10400
CATEGORIES:ปฏิทินตารางหน่วยเคลื่อนที่
END:VEVENT
BEGIN:VEVENT
DTSTART;TZID=Asia/Bangkok:20250911T090000
DTEND;TZID=Asia/Bangkok:20250911T150000
DTSTAMP:20260422T011149
CREATED:20250903T072213Z
LAST-MODIFIED:20250903T072213Z
UID:10003166-1757581200-1757602800@boo.colorpack.net
SUMMARY:มหาวิทยาลัยหอการค้าไทย [0B0011]
DESCRIPTION:สถานที่เจาะ : ห้อง IDE อาคาร 1 (พัก 11.30-12.30 น.) \nที่อยู่ : 126/1 วิภาวดีรังสิต 2 แขวงดินแดง เขตดินแดง กรุงเทพฯ 0 2697 6911
URL:https://boo.colorpack.net/event/%e0%b8%a1%e0%b8%ab%e0%b8%b2%e0%b8%a7%e0%b8%b4%e0%b8%97%e0%b8%a2%e0%b8%b2%e0%b8%a5%e0%b8%b1%e0%b8%a2%e0%b8%ab%e0%b8%ad%e0%b8%81%e0%b8%b2%e0%b8%a3%e0%b8%84%e0%b9%89%e0%b8%b2%e0%b9%84%e0%b8%97%e0%b8%a2-5/
LOCATION:มหาวิทยาลัยหอการค้าไทย\, มหาวิทยาลัยหอการค้าไทย 126/1 ซ.วิภาวดิรังสิต2 แยก 6 แขวง รัชดาภิเษก เขตดินแดง กรุงเทพมหานคร 10400
CATEGORIES:ปฏิทินตารางหน่วยเคลื่อนที่
END:VEVENT
BEGIN:VEVENT
DTSTART;TZID=Asia/Bangkok:20250409T090000
DTEND;TZID=Asia/Bangkok:20250409T150000
DTSTAMP:20260422T011149
CREATED:20250404T145705Z
LAST-MODIFIED:20250404T145705Z
UID:10001251-1744189200-1744210800@boo.colorpack.net
SUMMARY:มหาวิทยาลัยหอการค้าไทย [0B0011]
DESCRIPTION:สถานที่เจาะ : ห้อง IDE อาคาร 1 (พัก 11.30-12.30 น.) \nที่อยู่ : 126/1 วิภาวดีรังสิต 2 แขวงดินแดง เขตดินแดง กรุงเทพฯ 0 2697 6911
URL:https://boo.colorpack.net/event/%e0%b8%a1%e0%b8%ab%e0%b8%b2%e0%b8%a7%e0%b8%b4%e0%b8%97%e0%b8%a2%e0%b8%b2%e0%b8%a5%e0%b8%b1%e0%b8%a2%e0%b8%ab%e0%b8%ad%e0%b8%81%e0%b8%b2%e0%b8%a3%e0%b8%84%e0%b9%89%e0%b8%b2%e0%b9%84%e0%b8%97%e0%b8%a2-4/
LOCATION:มหาวิทยาลัยหอการค้าไทย\, มหาวิทยาลัยหอการค้าไทย 126/1 ซ.วิภาวดิรังสิต2 แยก 6 แขวง รัชดาภิเษก เขตดินแดง กรุงเทพมหานคร 10400
CATEGORIES:ปฏิทินตารางหน่วยเคลื่อนที่
END:VEVENT
BEGIN:VEVENT
DTSTART;TZID=Asia/Bangkok:20250408T090000
DTEND;TZID=Asia/Bangkok:20250408T150000
DTSTAMP:20260422T011149
CREATED:20250404T145523Z
LAST-MODIFIED:20250404T145523Z
UID:10001225-1744102800-1744124400@boo.colorpack.net
SUMMARY:มหาวิทยาลัยหอการค้าไทย [0B0011]
DESCRIPTION:สถานที่เจาะ : ห้อง IDE อาคาร 1 (พัก 11.30-12.30 น.) \nที่อยู่ : 126/1 วิภาวดีรังสิต 2 แขวงดินแดง เขตดินแดง กรุงเทพฯ 0 2697 6911
URL:https://boo.colorpack.net/event/%e0%b8%a1%e0%b8%ab%e0%b8%b2%e0%b8%a7%e0%b8%b4%e0%b8%97%e0%b8%a2%e0%b8%b2%e0%b8%a5%e0%b8%b1%e0%b8%a2%e0%b8%ab%e0%b8%ad%e0%b8%81%e0%b8%b2%e0%b8%a3%e0%b8%84%e0%b9%89%e0%b8%b2%e0%b9%84%e0%b8%97%e0%b8%a2-3/
LOCATION:มหาวิทยาลัยหอการค้าไทย\, มหาวิทยาลัยหอการค้าไทย 126/1 ซ.วิภาวดิรังสิต2 แยก 6 แขวง รัชดาภิเษก เขตดินแดง กรุงเทพมหานคร 10400
CATEGORIES:ปฏิทินตารางหน่วยเคลื่อนที่
END:VEVENT
BEGIN:VEVENT
DTSTART;TZID=Asia/Bangkok:20250116T090000
DTEND;TZID=Asia/Bangkok:20250116T150000
DTSTAMP:20260422T011149
CREATED:20250114T104500Z
LAST-MODIFIED:20250114T104500Z
UID:10000233-1737018000-1737039600@boo.colorpack.net
SUMMARY:มหาวิทยาลัยหอการค้าไทย [0B0011]
DESCRIPTION:สถานที่เจาะ : ห้อง IDE อาคาร 1 (พัก 11.30-12.30 น.) \nที่อยู่ : 126/1 วิภาวดีรังสิต 2 แขวงดินแดง เขตดินแดง กรุงเทพฯ  \nโทร : 0 2697 6911
URL:https://boo.colorpack.net/event/%e0%b8%a1%e0%b8%ab%e0%b8%b2%e0%b8%a7%e0%b8%b4%e0%b8%97%e0%b8%a2%e0%b8%b2%e0%b8%a5%e0%b8%b1%e0%b8%a2%e0%b8%ab%e0%b8%ad%e0%b8%81%e0%b8%b2%e0%b8%a3%e0%b8%84%e0%b9%89%e0%b8%b2%e0%b9%84%e0%b8%97%e0%b8%a2-2/
LOCATION:มหาวิทยาลัยหอการค้าไทย\, มหาวิทยาลัยหอการค้าไทย 126/1 ซ.วิภาวดิรังสิต2 แยก 6 แขวง รัชดาภิเษก เขตดินแดง กรุงเทพมหานคร 10400
CATEGORIES:ปฏิทินตารางหน่วยเคลื่อนที่
END:VEVENT
BEGIN:VEVENT
DTSTART;TZID=Asia/Bangkok:20250115T090000
DTEND;TZID=Asia/Bangkok:20250115T150000
DTSTAMP:20260422T011149
CREATED:20250114T103751Z
LAST-MODIFIED:20250114T103751Z
UID:10000213-1736931600-1736953200@boo.colorpack.net
SUMMARY:มหาวิทยาลัยหอการค้าไทย [0B0011]
DESCRIPTION:สถานที่เจาะ : ห้อง IDE อาคาร 1 (พัก 11.30-12.30 น.) \nที่อยู่ : 126/1 วิภาวดีรังสิต 2 แขวงดินแดง เขตดินแดง กรุงเทพฯ  \nโทร : 0 2697 6911
URL:https://boo.colorpack.net/event/%e0%b8%a1%e0%b8%ab%e0%b8%b2%e0%b8%a7%e0%b8%b4%e0%b8%97%e0%b8%a2%e0%b8%b2%e0%b8%a5%e0%b8%b1%e0%b8%a2%e0%b8%ab%e0%b8%ad%e0%b8%81%e0%b8%b2%e0%b8%a3%e0%b8%84%e0%b9%89%e0%b8%b2%e0%b9%84%e0%b8%97%e0%b8%a2/
LOCATION:มหาวิทยาลัยหอการค้าไทย\, มหาวิทยาลัยหอการค้าไทย 126/1 ซ.วิภาวดิรังสิต2 แยก 6 แขวง รัชดาภิเษก เขตดินแดง กรุงเทพมหานคร 10400
CATEGORIES:ปฏิทินตารางหน่วยเคลื่อนที่
END:VEVENT
END:VCALENDAR