BEGIN:VCALENDAR
VERSION:2.0
PRODID:-//เว็บไซต์ศูนย์บริการโลหิตแห่งชาติ - ECPv6.11.2.1//NONSGML v1.0//EN
CALSCALE:GREGORIAN
METHOD:PUBLISH
X-ORIGINAL-URL:https://boo.colorpack.net
X-WR-CALDESC:Events for เว็บไซต์ศูนย์บริการโลหิตแห่งชาติ
REFRESH-INTERVAL;VALUE=DURATION:PT1H
X-Robots-Tag:noindex
X-PUBLISHED-TTL:PT1H
BEGIN:VTIMEZONE
TZID:Asia/Bangkok
BEGIN:STANDARD
TZOFFSETFROM:+0700
TZOFFSETTO:+0700
TZNAME:+07
DTSTART:20250101T000000
END:STANDARD
END:VTIMEZONE
BEGIN:VEVENT
DTSTART;TZID=Asia/Bangkok:20250510T110000
DTEND;TZID=Asia/Bangkok:20250510T150000
DTSTAMP:20260421T001018
CREATED:20250507T100721Z
LAST-MODIFIED:20250507T100721Z
UID:10001674-1746874800-1746889200@boo.colorpack.net
SUMMARY:บิ๊กซี ซูเปอร์เซ็นเตอร์ สาขาแจ้งวัฒนะ []
DESCRIPTION:สถานที่เจาะ : หน้าห้าง บริเวณลานจอดรถหน้า ธ.กรุงไทย \nที่อยู่ : 96 ถนนแจ้งวัฒนะ แขวงทุ่งสองห้อง เขตหลักสี่ กรุงเทพฯ  \nโทร : 0 2573 5800
URL:https://boo.colorpack.net/event/%e0%b8%9a%e0%b8%b4%e0%b9%8a%e0%b8%81%e0%b8%8b%e0%b8%b5-%e0%b8%8b%e0%b8%b9%e0%b9%80%e0%b8%9b%e0%b8%ad%e0%b8%a3%e0%b9%8c%e0%b9%80%e0%b8%8b%e0%b9%87%e0%b8%99%e0%b9%80%e0%b8%95%e0%b8%ad%e0%b8%a3-12/
LOCATION:บิ๊กซี ซูเปอร์เซ็นเตอร์ สาขาแจ้งวัฒนะ
CATEGORIES:ปฏิทินตารางหน่วยเคลื่อนที่
END:VEVENT
BEGIN:VEVENT
DTSTART;TZID=Asia/Bangkok:20250208T110000
DTEND;TZID=Asia/Bangkok:20250208T150000
DTSTAMP:20260421T001019
CREATED:20250201T014403Z
LAST-MODIFIED:20250201T014403Z
UID:10000424-1739012400-1739026800@boo.colorpack.net
SUMMARY:บิ๊กซี ซูเปอร์เซ็นเตอร์ สาขาแจ้งวัฒนะ [0E0632]
DESCRIPTION:สถานที่เจาะ : หน้าห้าง บริเวณลานจอดรถหน้า ธ.กรุงไทย \nที่อยู่ : 96 ถนนแจ้งวัฒนะ แขวงทุ่งสองห้อง เขตหลักสี่ กรุงเทพฯ  \nโทร : 0 2573 5800
URL:https://boo.colorpack.net/event/%e0%b8%9a%e0%b8%b4%e0%b9%8a%e0%b8%81%e0%b8%8b%e0%b8%b5-%e0%b8%8b%e0%b8%b9%e0%b9%80%e0%b8%9b%e0%b8%ad%e0%b8%a3%e0%b9%8c%e0%b9%80%e0%b8%8b%e0%b9%87%e0%b8%99%e0%b9%80%e0%b8%95%e0%b8%ad%e0%b8%a3%e0%b9%8c/
LOCATION:บิ๊กซี ซูเปอร์เซ็นเตอร์ สาขาแจ้งวัฒนะ
CATEGORIES:ปฏิทินตารางหน่วยเคลื่อนที่
END:VEVENT
END:VCALENDAR