BEGIN:VCALENDAR
VERSION:2.0
PRODID:-//เว็บไซต์ศูนย์บริการโลหิตแห่งชาติ - ECPv6.11.2.1//NONSGML v1.0//EN
CALSCALE:GREGORIAN
METHOD:PUBLISH
X-ORIGINAL-URL:https://boo.colorpack.net
X-WR-CALDESC:Events for เว็บไซต์ศูนย์บริการโลหิตแห่งชาติ
REFRESH-INTERVAL;VALUE=DURATION:PT1H
X-Robots-Tag:noindex
X-PUBLISHED-TTL:PT1H
BEGIN:VTIMEZONE
TZID:Asia/Bangkok
BEGIN:STANDARD
TZOFFSETFROM:+0700
TZOFFSETTO:+0700
TZNAME:+07
DTSTART:20250101T000000
END:STANDARD
END:VTIMEZONE
BEGIN:VEVENT
DTSTART;TZID=Asia/Bangkok:20250401T110000
DTEND;TZID=Asia/Bangkok:20250401T150000
DTSTAMP:20260422T111521
CREATED:20250331T042025Z
LAST-MODIFIED:20250331T042025Z
UID:10001216-1743505200-1743519600@boo.colorpack.net
SUMMARY:บิ๊กซี ซูเปอร์เซ็นเตอร์ สาขาราชดำริ [0M0227]
DESCRIPTION:สถานที่เจาะ : ลานโปรโมชั่นชั้น 5 \nที่อยู่ : 97/11 ชั้น 6 ถนนราชดำริ แขวงลุมพินี เขตปทุมวัน กรุงเทพฯ 0 2655 0666
URL:https://boo.colorpack.net/event/%e0%b8%9a%e0%b8%b4%e0%b9%8a%e0%b8%81%e0%b8%8b%e0%b8%b5-%e0%b8%8b%e0%b8%b9%e0%b9%80%e0%b8%9b%e0%b8%ad%e0%b8%a3%e0%b9%8c%e0%b9%80%e0%b8%8b%e0%b9%87%e0%b8%99%e0%b9%80%e0%b8%95%e0%b8%ad%e0%b8%a3-8/
LOCATION:บิ๊กซี ซูเปอร์เซ็นเตอร์ สาขาราชดำริ\, บิ๊กซี ซูเปอร์เซ็นเตอร์ ราชดำริ 97/11 ถนนราชดำริ แขวงลุมพินี เขตปทุมวัน กรุงเทพมหานคร 10330
CATEGORIES:ปฏิทินตารางหน่วยเคลื่อนที่
END:VEVENT
END:VCALENDAR