BEGIN:VCALENDAR
VERSION:2.0
PRODID:-//เว็บไซต์ศูนย์บริการโลหิตแห่งชาติ - ECPv6.11.2.1//NONSGML v1.0//EN
CALSCALE:GREGORIAN
METHOD:PUBLISH
X-ORIGINAL-URL:https://boo.colorpack.net
X-WR-CALDESC:Events for เว็บไซต์ศูนย์บริการโลหิตแห่งชาติ
REFRESH-INTERVAL;VALUE=DURATION:PT1H
X-Robots-Tag:noindex
X-PUBLISHED-TTL:PT1H
BEGIN:VTIMEZONE
TZID:Asia/Krasnoyarsk
BEGIN:STANDARD
TZOFFSETFROM:+0700
TZOFFSETTO:+0700
TZNAME:+07
DTSTART:20260101T000000
END:STANDARD
END:VTIMEZONE
BEGIN:VTIMEZONE
TZID:Asia/Bangkok
BEGIN:STANDARD
TZOFFSETFROM:+0700
TZOFFSETTO:+0700
TZNAME:+07
DTSTART:20250101T000000
END:STANDARD
END:VTIMEZONE
BEGIN:VEVENT
DTSTART;TZID=Asia/Krasnoyarsk:20260106T123000
DTEND;TZID=Asia/Krasnoyarsk:20260106T150000
DTSTAMP:20260422T092025
CREATED:20251224T092810Z
LAST-MODIFIED:20251224T092810Z
UID:10004975-1767702600-1767711600@boo.colorpack.net
SUMMARY:บิ๊กซี ซูเปอร์เซ็นเตอร์ สาขาเอกมัย []
DESCRIPTION:สถานที่เจาะ : หน้าห้าง \nที่อยู่ : 78 สุขุมวิท 63 แขวงพระโขนงเหนือ เขตวัฒนา กรุงเทพฯ 0 2714 8222
URL:https://boo.colorpack.net/event/%e0%b8%9a%e0%b8%b4%e0%b9%8a%e0%b8%81%e0%b8%8b%e0%b8%b5-%e0%b8%8b%e0%b8%b9%e0%b9%80%e0%b8%9b%e0%b8%ad%e0%b8%a3%e0%b9%8c%e0%b9%80%e0%b8%8b%e0%b9%87%e0%b8%99%e0%b9%80%e0%b8%95%e0%b8%ad%e0%b8%a3-33/
LOCATION:บิ๊กซี ซูเปอร์เซ็นเตอร์ สาขาเอกมัย\, บิ๊กซี ซูเปอร์เซ็นเตอร์ สาขาเอกมัย 78 ซอยสุขุมวิท 63 แขวงพระโขนงเหนือ เขตวัฒนา กรุงเทพมหานคร 10110
CATEGORIES:ปฏิทินตารางหน่วยเคลื่อนที่
END:VEVENT
BEGIN:VEVENT
DTSTART;TZID=Asia/Bangkok:20251006T123000
DTEND;TZID=Asia/Bangkok:20251006T150000
DTSTAMP:20260422T092025
CREATED:20250924T111307Z
LAST-MODIFIED:20250924T111307Z
UID:10003424-1759753800-1759762800@boo.colorpack.net
SUMMARY:บิ๊กซี ซูเปอร์เซ็นเตอร์ สาขาเอกมัย [0M0357]
DESCRIPTION:สถานที่เจาะ : หน้าห้าง \nที่อยู่ : 78 สุขุมวิท 63 แขวงพระโขนงเหนือ เขตวัฒนา กรุงเทพฯ 0 2714 8222
URL:https://boo.colorpack.net/event/%e0%b8%9a%e0%b8%b4%e0%b9%8a%e0%b8%81%e0%b8%8b%e0%b8%b5-%e0%b8%8b%e0%b8%b9%e0%b9%80%e0%b8%9b%e0%b8%ad%e0%b8%a3%e0%b9%8c%e0%b9%80%e0%b8%8b%e0%b9%87%e0%b8%99%e0%b9%80%e0%b8%95%e0%b8%ad%e0%b8%a3-24/
LOCATION:บิ๊กซี ซูเปอร์เซ็นเตอร์ สาขาเอกมัย\, บิ๊กซี ซูเปอร์เซ็นเตอร์ สาขาเอกมัย 78 ซอยสุขุมวิท 63 แขวงพระโขนงเหนือ เขตวัฒนา กรุงเทพมหานคร 10110
CATEGORIES:ปฏิทินตารางหน่วยเคลื่อนที่
END:VEVENT
BEGIN:VEVENT
DTSTART;TZID=Asia/Bangkok:20250707T123000
DTEND;TZID=Asia/Bangkok:20250707T150000
DTSTAMP:20260422T092025
CREATED:20250623T035845Z
LAST-MODIFIED:20250623T035845Z
UID:10002318-1751891400-1751900400@boo.colorpack.net
SUMMARY:บิ๊กซี ซูเปอร์เซ็นเตอร์ สาขาเอกมัย []
DESCRIPTION:สถานที่เจาะ : หน้าห้าง \nที่อยู่ : 78 สุขุมวิท 63 แขวงพระโขนงเหนือ เขตวัฒนา กรุงเทพฯ 0 2714 8222
URL:https://boo.colorpack.net/event/%e0%b8%9a%e0%b8%b4%e0%b9%8a%e0%b8%81%e0%b8%8b%e0%b8%b5-%e0%b8%8b%e0%b8%b9%e0%b9%80%e0%b8%9b%e0%b8%ad%e0%b8%a3%e0%b9%8c%e0%b9%80%e0%b8%8b%e0%b9%87%e0%b8%99%e0%b9%80%e0%b8%95%e0%b8%ad%e0%b8%a3-15/
LOCATION:บิ๊กซี ซูเปอร์เซ็นเตอร์ สาขาเอกมัย\, บิ๊กซี ซูเปอร์เซ็นเตอร์ สาขาเอกมัย 78 ซอยสุขุมวิท 63 แขวงพระโขนงเหนือ เขตวัฒนา กรุงเทพมหานคร 10110
CATEGORIES:ปฏิทินตารางหน่วยเคลื่อนที่
END:VEVENT
BEGIN:VEVENT
DTSTART;TZID=Asia/Bangkok:20250403T123000
DTEND;TZID=Asia/Bangkok:20250403T150000
DTSTAMP:20260422T092025
CREATED:20250328T032104Z
LAST-MODIFIED:20250328T032104Z
UID:10001155-1743683400-1743692400@boo.colorpack.net
SUMMARY:บิ๊กซี ซูเปอร์เซ็นเตอร์ สาขาเอกมัย [0M0357]
DESCRIPTION:สถานที่เจาะ : หน้าห้าง \nที่อยู่ : 78 สุขุมวิท 63 แขวงพระโขนงเหนือ เขตวัฒนา กรุงเทพฯ 0 2714 8222
URL:https://boo.colorpack.net/event/%e0%b8%9a%e0%b8%b4%e0%b9%8a%e0%b8%81%e0%b8%8b%e0%b8%b5-%e0%b8%8b%e0%b8%b9%e0%b9%80%e0%b8%9b%e0%b8%ad%e0%b8%a3%e0%b9%8c%e0%b9%80%e0%b8%8b%e0%b9%87%e0%b8%99%e0%b9%80%e0%b8%95%e0%b8%ad%e0%b8%a3-6/
LOCATION:บิ๊กซี ซูเปอร์เซ็นเตอร์ สาขาเอกมัย\, บิ๊กซี ซูเปอร์เซ็นเตอร์ สาขาเอกมัย 78 ซอยสุขุมวิท 63 แขวงพระโขนงเหนือ เขตวัฒนา กรุงเทพมหานคร 10110
CATEGORIES:ปฏิทินตารางหน่วยเคลื่อนที่
END:VEVENT
END:VCALENDAR