BEGIN:VCALENDAR
VERSION:2.0
PRODID:-//เว็บไซต์ศูนย์บริการโลหิตแห่งชาติ - ECPv6.11.2.1//NONSGML v1.0//EN
CALSCALE:GREGORIAN
METHOD:PUBLISH
X-WR-CALNAME:เว็บไซต์ศูนย์บริการโลหิตแห่งชาติ
X-ORIGINAL-URL:https://boo.colorpack.net
X-WR-CALDESC:Events for เว็บไซต์ศูนย์บริการโลหิตแห่งชาติ
REFRESH-INTERVAL;VALUE=DURATION:PT1H
X-Robots-Tag:noindex
X-PUBLISHED-TTL:PT1H
BEGIN:VTIMEZONE
TZID:Asia/Bangkok
BEGIN:STANDARD
TZOFFSETFROM:+0700
TZOFFSETTO:+0700
TZNAME:+07
DTSTART:20240101T000000
END:STANDARD
END:VTIMEZONE
BEGIN:VEVENT
DTSTART;TZID=Asia/Bangkok:20251015T090000
DTEND;TZID=Asia/Bangkok:20251015T150000
DTSTAMP:20260422T054250
CREATED:20251003T101925Z
LAST-MODIFIED:20251003T101925Z
UID:10003648-1760518800-1760540400@boo.colorpack.net
SUMMARY:บริษัท ไดกิ้นอินดัสทรีส์ (ประเทศไทย) จำกัด [0M0286]
DESCRIPTION:สถานที่เจาะ : VIP Canteen \nที่อยู่ : 700/11 ม.1 นิคมอุสาหกรรมอมตะ ซิตี้ ชลบุรี ถ.บางนา-ตราด กม. 57 ต.คลองตำหรุ อ.เมือง ชลบุรี 038 469 700
URL:https://boo.colorpack.net/event/%e0%b8%9a%e0%b8%a3%e0%b8%b4%e0%b8%a9%e0%b8%b1%e0%b8%97-%e0%b9%84%e0%b8%94%e0%b8%81%e0%b8%b4%e0%b9%89%e0%b8%99%e0%b8%ad%e0%b8%b4%e0%b8%99%e0%b8%94%e0%b8%b1%e0%b8%aa%e0%b8%97%e0%b8%a3%e0%b8%b5-4/
LOCATION:บริษัท ไดกิ้นอินดัสทรีส์ (ประเทศไทย) จำกัด\, บริษัท ไดกิ้นอินดัสทรีส์ (ประเทศไทย) จำกัด 700/11 นิคมอุตสาหกรรมอมตะซิตี้ ชลบุรี ถนนบางนา-ตราด ตำบล คลองตำหรุ อำเภอเมืองชลบุรี ชลบุรี 20000
CATEGORIES:ปฏิทินตารางหน่วยเคลื่อนที่
END:VEVENT
BEGIN:VEVENT
DTSTART;TZID=Asia/Bangkok:20250403T090000
DTEND;TZID=Asia/Bangkok:20250403T150000
DTSTAMP:20260422T054250
CREATED:20250328T032120Z
LAST-MODIFIED:20250328T032120Z
UID:10001159-1743670800-1743692400@boo.colorpack.net
SUMMARY:บริษัท ไดกิ้นอินดัสทรีส์ (ประเทศไทย) จำกัด [0M0286]
DESCRIPTION:สถานที่เจาะ : อาคารศูนย์ฝึกอบรม ห้อง TC7 ชั้น 2 (พัก 12.00-13.00 น.) \nที่อยู่ : 700/11 ม.1 นิคมอุสาหกรรมอมตะ ซิตี้ ชลบุรี ถ.บางนา-ตราด กม. 57 ต.คลองตำหรุ อ.เมือง ชลบุรี 038 469 700
URL:https://boo.colorpack.net/event/%e0%b8%9a%e0%b8%a3%e0%b8%b4%e0%b8%a9%e0%b8%b1%e0%b8%97-%e0%b9%84%e0%b8%94%e0%b8%81%e0%b8%b4%e0%b9%89%e0%b8%99%e0%b8%ad%e0%b8%b4%e0%b8%99%e0%b8%94%e0%b8%b1%e0%b8%aa%e0%b8%97%e0%b8%a3%e0%b8%b5-3/
LOCATION:บริษัท ไดกิ้นอินดัสทรีส์ (ประเทศไทย) จำกัด\, บริษัท ไดกิ้นอินดัสทรีส์ (ประเทศไทย) จำกัด 700/11 นิคมอุตสาหกรรมอมตะซิตี้ ชลบุรี ถนนบางนา-ตราด ตำบล คลองตำหรุ อำเภอเมืองชลบุรี ชลบุรี 20000
CATEGORIES:ปฏิทินตารางหน่วยเคลื่อนที่
END:VEVENT
BEGIN:VEVENT
DTSTART;TZID=Asia/Bangkok:20241002T000000
DTEND;TZID=Asia/Bangkok:20241002T150000
DTSTAMP:20260422T054250
CREATED:20241002T042016Z
LAST-MODIFIED:20241002T044041Z
UID:10000029-1727827200-1727881200@boo.colorpack.net
SUMMARY:บริษัท ไดกิ้นอินดัสทรีส์ (ประเทศไทย) จำกัด [0M0286]
DESCRIPTION:สถานที่เจาะ : อาคารศูนย์ฝึกอบรม ห้อง TC7 ชั้น 2 (พัก 12.00-13.00 น.)
URL:https://boo.colorpack.net/event/%e0%b8%9a%e0%b8%a3%e0%b8%b4%e0%b8%a9%e0%b8%b1%e0%b8%97-%e0%b9%84%e0%b8%94%e0%b8%81%e0%b8%b4%e0%b9%89%e0%b8%99%e0%b8%ad%e0%b8%b4%e0%b8%99%e0%b8%94%e0%b8%b1%e0%b8%aa%e0%b8%97%e0%b8%a3%e0%b8%b5-2/
LOCATION:บริษัท ไดกิ้นอินดัสทรีส์ (ประเทศไทย) จำกัด\, บริษัท ไดกิ้นอินดัสทรีส์ (ประเทศไทย) จำกัด 700/11 นิคมอุตสาหกรรมอมตะซิตี้ ชลบุรี ถนนบางนา-ตราด ตำบล คลองตำหรุ อำเภอเมืองชลบุรี ชลบุรี 20000
CATEGORIES:ปฏิทินตารางหน่วยเคลื่อนที่
END:VEVENT
END:VCALENDAR