BEGIN:VCALENDAR
VERSION:2.0
PRODID:-//เว็บไซต์ศูนย์บริการโลหิตแห่งชาติ - ECPv6.11.2.1//NONSGML v1.0//EN
CALSCALE:GREGORIAN
METHOD:PUBLISH
X-WR-CALNAME:เว็บไซต์ศูนย์บริการโลหิตแห่งชาติ
X-ORIGINAL-URL:https://boo.colorpack.net
X-WR-CALDESC:Events for เว็บไซต์ศูนย์บริการโลหิตแห่งชาติ
REFRESH-INTERVAL;VALUE=DURATION:PT1H
X-Robots-Tag:noindex
X-PUBLISHED-TTL:PT1H
BEGIN:VTIMEZONE
TZID:Asia/Krasnoyarsk
BEGIN:STANDARD
TZOFFSETFROM:+0700
TZOFFSETTO:+0700
TZNAME:+07
DTSTART:20250101T000000
END:STANDARD
END:VTIMEZONE
BEGIN:VTIMEZONE
TZID:Asia/Bangkok
BEGIN:STANDARD
TZOFFSETFROM:+0700
TZOFFSETTO:+0700
TZNAME:+07
DTSTART:20250101T000000
END:STANDARD
END:VTIMEZONE
BEGIN:VEVENT
DTSTART;TZID=Asia/Krasnoyarsk:20251217T090000
DTEND;TZID=Asia/Krasnoyarsk:20251217T150000
DTSTAMP:20260422T143025
CREATED:20251215T115315Z
LAST-MODIFIED:20251215T115315Z
UID:10004729-1765962000-1765983600@boo.colorpack.net
SUMMARY:บริษัท โมเดอร์นฟอร์มกรุ๊ป จำกัด (มหาชน) สาขาบางพลี [0E0553]
DESCRIPTION:สถานที่เจาะ : หน้าตึกอำนวยการ (พัก 11.30-12.30 น.) \nที่อยู่ : 33/2 ม.7 ต.บางโฉลง อ.บางพลี จ.สมุทรปราการ 0 2337 0222-5
URL:https://boo.colorpack.net/event/%e0%b8%9a%e0%b8%a3%e0%b8%b4%e0%b8%a9%e0%b8%b1%e0%b8%97-%e0%b9%82%e0%b8%a1%e0%b9%80%e0%b8%94%e0%b8%ad%e0%b8%a3%e0%b9%8c%e0%b8%99%e0%b8%9f%e0%b8%ad%e0%b8%a3%e0%b9%8c%e0%b8%a1%e0%b8%81%e0%b8%a3-5/
LOCATION:บริษัท โมเดอร์นฟอร์มกรุ๊ป จำกัด (มหาชน) สาขาบางพลี\, บริษัท โมเดอร์นฟอร์มกรุ๊ป จำกัด (มหาชน) สาขาบางพลี 33/2 ม.7 ซ.พูลเจริญ ต.บางโฉลง อ.บางพลี สมุทรปราการ 10540
CATEGORIES:ปฏิทินตารางหน่วยเคลื่อนที่
END:VEVENT
BEGIN:VEVENT
DTSTART;TZID=Asia/Bangkok:20250917T090000
DTEND;TZID=Asia/Bangkok:20250917T150000
DTSTAMP:20260422T143025
CREATED:20250908T064804Z
LAST-MODIFIED:20250908T064804Z
UID:10003266-1758099600-1758121200@boo.colorpack.net
SUMMARY:บริษัท โมเดอร์นฟอร์มกรุ๊ป จำกัด (มหาชน) สาขาบางพลี [0E0553]
DESCRIPTION:สถานที่เจาะ : หน้าตึกอำนวยการ (พัก 11.30-12.30 น.) \nที่อยู่ : 33/2 ม.7 ต.บางโฉลง อ.บางพลี จ.สมุทรปราการ 0 2337 0222-5
URL:https://boo.colorpack.net/event/%e0%b8%9a%e0%b8%a3%e0%b8%b4%e0%b8%a9%e0%b8%b1%e0%b8%97-%e0%b9%82%e0%b8%a1%e0%b9%80%e0%b8%94%e0%b8%ad%e0%b8%a3%e0%b9%8c%e0%b8%99%e0%b8%9f%e0%b8%ad%e0%b8%a3%e0%b9%8c%e0%b8%a1%e0%b8%81%e0%b8%a3-3/
LOCATION:บริษัท โมเดอร์นฟอร์มกรุ๊ป จำกัด (มหาชน) สาขาบางพลี\, บริษัท โมเดอร์นฟอร์มกรุ๊ป จำกัด (มหาชน) สาขาบางพลี 33/2 ม.7 ซ.พูลเจริญ ต.บางโฉลง อ.บางพลี สมุทรปราการ 10540
CATEGORIES:ปฏิทินตารางหน่วยเคลื่อนที่
END:VEVENT
BEGIN:VEVENT
DTSTART;TZID=Asia/Bangkok:20250625T090000
DTEND;TZID=Asia/Bangkok:20250625T150000
DTSTAMP:20260422T143025
CREATED:20250626T013752Z
LAST-MODIFIED:20250626T013752Z
UID:10002364-1750842000-1750863600@boo.colorpack.net
SUMMARY:บริษัท โมเดอร์นฟอร์มกรุ๊ป จำกัด (มหาชน) สาขาบางพลี []
DESCRIPTION:สถานที่เจาะ : หน้าตึกอำนวยการ (พัก 11.30-12.30 น.) \nที่อยู่ : 33/2 ม.7 ต.บางโฉลง อ.บางพลี จ.สมุทรปราการ 0 2337 0222-5
URL:https://boo.colorpack.net/event/%e0%b8%9a%e0%b8%a3%e0%b8%b4%e0%b8%a9%e0%b8%b1%e0%b8%97-%e0%b9%82%e0%b8%a1%e0%b9%80%e0%b8%94%e0%b8%ad%e0%b8%a3%e0%b9%8c%e0%b8%99%e0%b8%9f%e0%b8%ad%e0%b8%a3%e0%b9%8c%e0%b8%a1%e0%b8%81%e0%b8%a3%e0%b8%b8/
LOCATION:บริษัท โมเดอร์นฟอร์มกรุ๊ป จำกัด (มหาชน) สาขาบางพลี\, บริษัท โมเดอร์นฟอร์มกรุ๊ป จำกัด (มหาชน) สาขาบางพลี 33/2 ม.7 ซ.พูลเจริญ ต.บางโฉลง อ.บางพลี สมุทรปราการ 10540
CATEGORIES:ปฏิทินตารางหน่วยเคลื่อนที่
END:VEVENT
END:VCALENDAR