BEGIN:VCALENDAR
VERSION:2.0
PRODID:-//เว็บไซต์ศูนย์บริการโลหิตแห่งชาติ - ECPv6.11.2.1//NONSGML v1.0//EN
CALSCALE:GREGORIAN
METHOD:PUBLISH
X-WR-CALNAME:เว็บไซต์ศูนย์บริการโลหิตแห่งชาติ
X-ORIGINAL-URL:https://boo.colorpack.net
X-WR-CALDESC:Events for เว็บไซต์ศูนย์บริการโลหิตแห่งชาติ
REFRESH-INTERVAL;VALUE=DURATION:PT1H
X-Robots-Tag:noindex
X-PUBLISHED-TTL:PT1H
BEGIN:VTIMEZONE
TZID:Asia/Bangkok
BEGIN:STANDARD
TZOFFSETFROM:+0700
TZOFFSETTO:+0700
TZNAME:+07
DTSTART:20250101T000000
END:STANDARD
END:VTIMEZONE
BEGIN:VEVENT
DTSTART;TZID=Asia/Bangkok:20250425T090000
DTEND;TZID=Asia/Bangkok:20250425T150000
DTSTAMP:20260420T032156
CREATED:20250418T104048Z
LAST-MODIFIED:20250418T104048Z
UID:10001464-1745571600-1745593200@boo.colorpack.net
SUMMARY:บริษัท โนเบิล ดีเวลลอปเมนท์ จำกัด (มหาชน) []
DESCRIPTION:สถานที่เจาะ : หน้าอาคาร D (พัก 11.00-12.00 น.) \nที่อยู่ : 1035 อาคารโนเบิล ถนนเพลินจิต แขวงลุมพินี เขตปทุมวัน กรุงเทพฯ 0 2251 9955
URL:https://boo.colorpack.net/event/%e0%b8%9a%e0%b8%a3%e0%b8%b4%e0%b8%a9%e0%b8%b1%e0%b8%97-%e0%b9%82%e0%b8%99%e0%b9%80%e0%b8%9a%e0%b8%b4%e0%b8%a5-%e0%b8%94%e0%b8%b5%e0%b9%80%e0%b8%a7%e0%b8%a5%e0%b8%a5%e0%b8%ad%e0%b8%9b%e0%b9%80%e0%b8%a1/
LOCATION:บริษัท โนเบิล ดีเวลลอปเมนท์ จำกัด (มหาชน)\, อาคารโนเบิล 1035 ถนนเพลินจิต แขวงลุมพินี เขตปทุมวัน กรุงเทพฯ 10330
CATEGORIES:ปฏิทินตารางหน่วยเคลื่อนที่
END:VEVENT
END:VCALENDAR