BEGIN:VCALENDAR
VERSION:2.0
PRODID:-//เว็บไซต์ศูนย์บริการโลหิตแห่งชาติ - ECPv6.11.2.1//NONSGML v1.0//EN
CALSCALE:GREGORIAN
METHOD:PUBLISH
X-WR-CALNAME:เว็บไซต์ศูนย์บริการโลหิตแห่งชาติ
X-ORIGINAL-URL:https://boo.colorpack.net
X-WR-CALDESC:Events for เว็บไซต์ศูนย์บริการโลหิตแห่งชาติ
REFRESH-INTERVAL;VALUE=DURATION:PT1H
X-Robots-Tag:noindex
X-PUBLISHED-TTL:PT1H
BEGIN:VTIMEZONE
TZID:Asia/Krasnoyarsk
BEGIN:STANDARD
TZOFFSETFROM:+0700
TZOFFSETTO:+0700
TZNAME:+07
DTSTART:20250101T000000
END:STANDARD
END:VTIMEZONE
BEGIN:VTIMEZONE
TZID:Asia/Bangkok
BEGIN:STANDARD
TZOFFSETFROM:+0700
TZOFFSETTO:+0700
TZNAME:+07
DTSTART:20250101T000000
END:STANDARD
END:VTIMEZONE
BEGIN:VEVENT
DTSTART;TZID=Asia/Krasnoyarsk:20260205T090000
DTEND;TZID=Asia/Krasnoyarsk:20260205T150000
DTSTAMP:20260421T160505
CREATED:20260204T114637Z
LAST-MODIFIED:20260204T120740Z
UID:10005403-1770282000-1770303600@boo.colorpack.net
SUMMARY:บริษัท โทรคมนาคมแห่งชาติ จำกัด (มหาชน) (สำนักงานแจ้งวัฒนะ) []
DESCRIPTION:สถานที่เจาะ : อาคาร 9 ชั้น 1 \nที่อยู่ : 89/2 ถนนแจ้งวัฒนะ แขวงทุ่งสองห้อง เขตหลักสี่ กรุงเทพฯ 0 2575 7054
URL:https://boo.colorpack.net/event/%e0%b8%9a%e0%b8%a3%e0%b8%b4%e0%b8%a9%e0%b8%b1%e0%b8%97-%e0%b9%82%e0%b8%97%e0%b8%a3%e0%b8%84%e0%b8%a1%e0%b8%99%e0%b8%b2%e0%b8%84%e0%b8%a1%e0%b9%81%e0%b8%ab%e0%b9%88%e0%b8%87%e0%b8%8a%e0%b8%b2-13/
LOCATION:บริษัท โทรคมนาคมแห่งชาติ จำกัด (มหาชน) (สำนักงานแจ้งวัฒนะ)
CATEGORIES:ปฏิทินตารางหน่วยเคลื่อนที่
END:VEVENT
BEGIN:VEVENT
DTSTART;TZID=Asia/Krasnoyarsk:20260204T090000
DTEND;TZID=Asia/Krasnoyarsk:20260204T150000
DTSTAMP:20260421T160505
CREATED:20260127T121133Z
LAST-MODIFIED:20260127T121133Z
UID:10005390-1770195600-1770217200@boo.colorpack.net
SUMMARY:บริษัท โทรคมนาคมแห่งชาติ จำกัด (มหาชน) (สำนักงานแจ้งวัฒนะ) []
DESCRIPTION:สถานที่เจาะ : อาคาร 9 ชั้น 1 \nที่อยู่ : 89/2 ถนนแจ้งวัฒนะ แขวงทุ่งสองห้อง เขตหลักสี่ กรุงเทพฯ 0 2575 7054
URL:https://boo.colorpack.net/event/%e0%b8%9a%e0%b8%a3%e0%b8%b4%e0%b8%a9%e0%b8%b1%e0%b8%97-%e0%b9%82%e0%b8%97%e0%b8%a3%e0%b8%84%e0%b8%a1%e0%b8%99%e0%b8%b2%e0%b8%84%e0%b8%a1%e0%b9%81%e0%b8%ab%e0%b9%88%e0%b8%87%e0%b8%8a%e0%b8%b2-12/
LOCATION:บริษัท โทรคมนาคมแห่งชาติ จำกัด (มหาชน) (สำนักงานแจ้งวัฒนะ)
CATEGORIES:ปฏิทินตารางหน่วยเคลื่อนที่
END:VEVENT
BEGIN:VEVENT
DTSTART;TZID=Asia/Krasnoyarsk:20251106T090000
DTEND;TZID=Asia/Krasnoyarsk:20251106T150000
DTSTAMP:20260421T160506
CREATED:20251027T030902Z
LAST-MODIFIED:20251027T030902Z
UID:10003922-1762419600-1762441200@boo.colorpack.net
SUMMARY:บริษัท โทรคมนาคมแห่งชาติ จำกัด (มหาชน) (สำนักงานแจ้งวัฒนะ) [0D0177]
DESCRIPTION:สถานที่เจาะ : อาคาร 9 ชั้น 1 \nที่อยู่ : 89/2 ถนนแจ้งวัฒนะ แขวงทุ่งสองห้อง เขตหลักสี่ กรุงเทพฯ 0 2575 7054
URL:https://boo.colorpack.net/event/%e0%b8%9a%e0%b8%a3%e0%b8%b4%e0%b8%a9%e0%b8%b1%e0%b8%97-%e0%b9%82%e0%b8%97%e0%b8%a3%e0%b8%84%e0%b8%a1%e0%b8%99%e0%b8%b2%e0%b8%84%e0%b8%a1%e0%b9%81%e0%b8%ab%e0%b9%88%e0%b8%87%e0%b8%8a%e0%b8%b2-10/
LOCATION:บริษัท โทรคมนาคมแห่งชาติ จำกัด (มหาชน) (สำนักงานแจ้งวัฒนะ)
CATEGORIES:ปฏิทินตารางหน่วยเคลื่อนที่
END:VEVENT
BEGIN:VEVENT
DTSTART;TZID=Asia/Krasnoyarsk:20251105T090000
DTEND;TZID=Asia/Krasnoyarsk:20251105T150000
DTSTAMP:20260421T160506
CREATED:20251027T030437Z
LAST-MODIFIED:20251027T030437Z
UID:10003909-1762333200-1762354800@boo.colorpack.net
SUMMARY:บริษัท โทรคมนาคมแห่งชาติ จำกัด (มหาชน) (สำนักงานแจ้งวัฒนะ) [0D0177]
DESCRIPTION:สถานที่เจาะ : อาคาร 9 ชั้น 1 \nที่อยู่ : 89/2 ถนนแจ้งวัฒนะ แขวงทุ่งสองห้อง เขตหลักสี่ กรุงเทพฯ 0 2575 7054
URL:https://boo.colorpack.net/event/%e0%b8%9a%e0%b8%a3%e0%b8%b4%e0%b8%a9%e0%b8%b1%e0%b8%97-%e0%b9%82%e0%b8%97%e0%b8%a3%e0%b8%84%e0%b8%a1%e0%b8%99%e0%b8%b2%e0%b8%84%e0%b8%a1%e0%b9%81%e0%b8%ab%e0%b9%88%e0%b8%87%e0%b8%8a%e0%b8%b2-9/
LOCATION:บริษัท โทรคมนาคมแห่งชาติ จำกัด (มหาชน) (สำนักงานแจ้งวัฒนะ)
CATEGORIES:ปฏิทินตารางหน่วยเคลื่อนที่
END:VEVENT
BEGIN:VEVENT
DTSTART;TZID=Asia/Bangkok:20250807T090000
DTEND;TZID=Asia/Bangkok:20250807T150000
DTSTAMP:20260421T160506
CREATED:20250801T040804Z
LAST-MODIFIED:20250801T040804Z
UID:10002707-1754557200-1754578800@boo.colorpack.net
SUMMARY:บริษัท โทรคมนาคมแห่งชาติ จำกัด (มหาชน) (สำนักงานแจ้งวัฒนะ) [0D0177]
DESCRIPTION:สถานที่เจาะ : อาคาร 9 ชั้น 1 \nที่อยู่ : 89/2 ถนนแจ้งวัฒนะ แขวงทุ่งสองห้อง เขตหลักสี่ กรุงเทพฯ 0 2575 7054
URL:https://boo.colorpack.net/event/%e0%b8%9a%e0%b8%a3%e0%b8%b4%e0%b8%a9%e0%b8%b1%e0%b8%97-%e0%b9%82%e0%b8%97%e0%b8%a3%e0%b8%84%e0%b8%a1%e0%b8%99%e0%b8%b2%e0%b8%84%e0%b8%a1%e0%b9%81%e0%b8%ab%e0%b9%88%e0%b8%87%e0%b8%8a%e0%b8%b2-7/
LOCATION:บริษัท โทรคมนาคมแห่งชาติ จำกัด (มหาชน) (สำนักงานแจ้งวัฒนะ)
CATEGORIES:ปฏิทินตารางหน่วยเคลื่อนที่
END:VEVENT
BEGIN:VEVENT
DTSTART;TZID=Asia/Bangkok:20250515T090000
DTEND;TZID=Asia/Bangkok:20250515T150000
DTSTAMP:20260421T160506
CREATED:20250514T103354Z
LAST-MODIFIED:20250514T103354Z
UID:10001737-1747299600-1747321200@boo.colorpack.net
SUMMARY:บริษัท โทรคมนาคมแห่งชาติ จำกัด (มหาชน) (สำนักงานแจ้งวัฒนะ) []
DESCRIPTION:สถานที่เจาะ : อาคาร 9 ชั้น 1 \nที่อยู่ : 89/2 ถนนแจ้งวัฒนะ แขวงทุ่งสองห้อง เขตหลักสี่ กรุงเทพฯ 0 2575 7054
URL:https://boo.colorpack.net/event/%e0%b8%9a%e0%b8%a3%e0%b8%b4%e0%b8%a9%e0%b8%b1%e0%b8%97-%e0%b9%82%e0%b8%97%e0%b8%a3%e0%b8%84%e0%b8%a1%e0%b8%99%e0%b8%b2%e0%b8%84%e0%b8%a1%e0%b9%81%e0%b8%ab%e0%b9%88%e0%b8%87%e0%b8%8a%e0%b8%b2-5/
LOCATION:บริษัท โทรคมนาคมแห่งชาติ จำกัด (มหาชน) (สำนักงานแจ้งวัฒนะ)
CATEGORIES:ปฏิทินตารางหน่วยเคลื่อนที่
END:VEVENT
BEGIN:VEVENT
DTSTART;TZID=Asia/Bangkok:20250514T090000
DTEND;TZID=Asia/Bangkok:20250514T150000
DTSTAMP:20260421T160506
CREATED:20250508T112957Z
LAST-MODIFIED:20250508T112957Z
UID:10001721-1747213200-1747234800@boo.colorpack.net
SUMMARY:บริษัท โทรคมนาคมแห่งชาติ จำกัด (มหาชน) (สำนักงานแจ้งวัฒนะ) []
DESCRIPTION:สถานที่เจาะ : อาคาร 9 ชั้น 1 \nที่อยู่ : 89/2 ถนนแจ้งวัฒนะ แขวงทุ่งสองห้อง เขตหลักสี่ กรุงเทพฯ 0 2575 7054
URL:https://boo.colorpack.net/event/%e0%b8%9a%e0%b8%a3%e0%b8%b4%e0%b8%a9%e0%b8%b1%e0%b8%97-%e0%b9%82%e0%b8%97%e0%b8%a3%e0%b8%84%e0%b8%a1%e0%b8%99%e0%b8%b2%e0%b8%84%e0%b8%a1%e0%b9%81%e0%b8%ab%e0%b9%88%e0%b8%87%e0%b8%8a%e0%b8%b2-4/
LOCATION:บริษัท โทรคมนาคมแห่งชาติ จำกัด (มหาชน) (สำนักงานแจ้งวัฒนะ)
CATEGORIES:ปฏิทินตารางหน่วยเคลื่อนที่
END:VEVENT
BEGIN:VEVENT
DTSTART;TZID=Asia/Bangkok:20250206T090000
DTEND;TZID=Asia/Bangkok:20250206T150000
DTSTAMP:20260421T160506
CREATED:20250201T010759Z
LAST-MODIFIED:20250201T010759Z
UID:10000381-1738832400-1738854000@boo.colorpack.net
SUMMARY:บริษัท โทรคมนาคมแห่งชาติ จำกัด (มหาชน) (สำนักงานแจ้งวัฒนะ) [0D0177]
DESCRIPTION:สถานที่เจาะ : อาคาร 9 ชั้น 1 \nที่อยู่ : 89/2 ถนนแจ้งวัฒนะ แขวงทุ่งสองห้อง เขตหลักสี่ กรุงเทพฯ  \nโทร : 0 2575 7054
URL:https://boo.colorpack.net/event/%e0%b8%9a%e0%b8%a3%e0%b8%b4%e0%b8%a9%e0%b8%b1%e0%b8%97-%e0%b9%82%e0%b8%97%e0%b8%a3%e0%b8%84%e0%b8%a1%e0%b8%99%e0%b8%b2%e0%b8%84%e0%b8%a1%e0%b9%81%e0%b8%ab%e0%b9%88%e0%b8%87%e0%b8%8a%e0%b8%b2-2/
LOCATION:บริษัท โทรคมนาคมแห่งชาติ จำกัด (มหาชน) (สำนักงานแจ้งวัฒนะ)
CATEGORIES:ปฏิทินตารางหน่วยเคลื่อนที่
END:VEVENT
BEGIN:VEVENT
DTSTART;TZID=Asia/Bangkok:20250205T090000
DTEND;TZID=Asia/Bangkok:20250205T150000
DTSTAMP:20260421T160506
CREATED:20250201T010630Z
LAST-MODIFIED:20250201T010630Z
UID:10000365-1738746000-1738767600@boo.colorpack.net
SUMMARY:บริษัท โทรคมนาคมแห่งชาติ จำกัด (มหาชน) (สำนักงานแจ้งวัฒนะ) [0D0177]
DESCRIPTION:สถานที่เจาะ : อาคาร 9 ชั้น 1 \nที่อยู่ : 89/2 ถนนแจ้งวัฒนะ แขวงทุ่งสองห้อง เขตหลักสี่ กรุงเทพฯ  \nโทร : 0 2575 7054
URL:https://boo.colorpack.net/event/%e0%b8%9a%e0%b8%a3%e0%b8%b4%e0%b8%a9%e0%b8%b1%e0%b8%97-%e0%b9%82%e0%b8%97%e0%b8%a3%e0%b8%84%e0%b8%a1%e0%b8%99%e0%b8%b2%e0%b8%84%e0%b8%a1%e0%b9%81%e0%b8%ab%e0%b9%88%e0%b8%87%e0%b8%8a%e0%b8%b2%e0%b8%95/
LOCATION:บริษัท โทรคมนาคมแห่งชาติ จำกัด (มหาชน) (สำนักงานแจ้งวัฒนะ)
CATEGORIES:ปฏิทินตารางหน่วยเคลื่อนที่
END:VEVENT
END:VCALENDAR