BEGIN:VCALENDAR
VERSION:2.0
PRODID:-//เว็บไซต์ศูนย์บริการโลหิตแห่งชาติ - ECPv6.11.2.1//NONSGML v1.0//EN
CALSCALE:GREGORIAN
METHOD:PUBLISH
X-ORIGINAL-URL:https://boo.colorpack.net
X-WR-CALDESC:Events for เว็บไซต์ศูนย์บริการโลหิตแห่งชาติ
REFRESH-INTERVAL;VALUE=DURATION:PT1H
X-Robots-Tag:noindex
X-PUBLISHED-TTL:PT1H
BEGIN:VTIMEZONE
TZID:Asia/Bangkok
BEGIN:STANDARD
TZOFFSETFROM:+0700
TZOFFSETTO:+0700
TZNAME:+07
DTSTART:20250101T000000
END:STANDARD
END:VTIMEZONE
BEGIN:VEVENT
DTSTART;TZID=Asia/Bangkok:20250818T090000
DTEND;TZID=Asia/Bangkok:20250818T150000
DTSTAMP:20260422T034953
CREATED:20250805T053838Z
LAST-MODIFIED:20250805T053838Z
UID:10002822-1755507600-1755529200@boo.colorpack.net
SUMMARY:บริษัท โตโยต้าบัสส์ จำกัด สาขาวิภาวดี [0M0661]
DESCRIPTION:สถานที่เจาะ : ห้องประชุม ชั้น 5 \nที่อยู่ : 999 ถนนวิภาวดีรังสิต แขวงจตุจักร เขตจตุจักร กรุงเทพฯ
URL:https://boo.colorpack.net/event/%e0%b8%9a%e0%b8%a3%e0%b8%b4%e0%b8%a9%e0%b8%b1%e0%b8%97-%e0%b9%82%e0%b8%95%e0%b9%82%e0%b8%a2%e0%b8%95%e0%b9%89%e0%b8%b2%e0%b8%9a%e0%b8%b1%e0%b8%aa%e0%b8%aa%e0%b9%8c-%e0%b8%88%e0%b8%b3%e0%b8%81-2/
LOCATION:บริษัท โตโยต้าบัสส์ จำกัด สาขาวิภาวดี\, บริษัท โตโยต้าบัสส์ จำกัด สาขาวิภาวดี 999 ถนนวิภาวดีรังสิต แขวงจตุจักร เขตจตุจักร กรุงเทพมหานคร 10900
CATEGORIES:ปฏิทินตารางหน่วยเคลื่อนที่
END:VEVENT
BEGIN:VEVENT
DTSTART;TZID=Asia/Bangkok:20250410T090000
DTEND;TZID=Asia/Bangkok:20250410T150000
DTSTAMP:20260422T034953
CREATED:20250404T151012Z
LAST-MODIFIED:20250404T151012Z
UID:10001268-1744275600-1744297200@boo.colorpack.net
SUMMARY:บริษัท โตโยต้าบัสส์ จำกัด สาขาวิภาวดี [0M0661]
DESCRIPTION:สถานที่เจาะ : ห้องประชุม ชั้น 5 \nที่อยู่ : 999 ถนนวิภาวดีรังสิต แขวงจตุจักร เขตจตุจักร กรุงเทพฯ
URL:https://boo.colorpack.net/event/%e0%b8%9a%e0%b8%a3%e0%b8%b4%e0%b8%a9%e0%b8%b1%e0%b8%97-%e0%b9%82%e0%b8%95%e0%b9%82%e0%b8%a2%e0%b8%95%e0%b9%89%e0%b8%b2%e0%b8%9a%e0%b8%b1%e0%b8%aa%e0%b8%aa%e0%b9%8c-%e0%b8%88%e0%b8%b3%e0%b8%81%e0%b8%b1/
LOCATION:บริษัท โตโยต้าบัสส์ จำกัด สาขาวิภาวดี\, บริษัท โตโยต้าบัสส์ จำกัด สาขาวิภาวดี 999 ถนนวิภาวดีรังสิต แขวงจตุจักร เขตจตุจักร กรุงเทพมหานคร 10900
CATEGORIES:ปฏิทินตารางหน่วยเคลื่อนที่
END:VEVENT
END:VCALENDAR