BEGIN:VCALENDAR
VERSION:2.0
PRODID:-//เว็บไซต์ศูนย์บริการโลหิตแห่งชาติ - ECPv6.11.2.1//NONSGML v1.0//EN
CALSCALE:GREGORIAN
METHOD:PUBLISH
X-ORIGINAL-URL:https://boo.colorpack.net
X-WR-CALDESC:Events for เว็บไซต์ศูนย์บริการโลหิตแห่งชาติ
REFRESH-INTERVAL;VALUE=DURATION:PT1H
X-Robots-Tag:noindex
X-PUBLISHED-TTL:PT1H
BEGIN:VTIMEZONE
TZID:Asia/Krasnoyarsk
BEGIN:STANDARD
TZOFFSETFROM:+0700
TZOFFSETTO:+0700
TZNAME:+07
DTSTART:20250101T000000
END:STANDARD
END:VTIMEZONE
BEGIN:VTIMEZONE
TZID:Asia/Bangkok
BEGIN:STANDARD
TZOFFSETFROM:+0700
TZOFFSETTO:+0700
TZNAME:+07
DTSTART:20250101T000000
END:STANDARD
END:VTIMEZONE
BEGIN:VEVENT
DTSTART;TZID=Asia/Krasnoyarsk:20251226T090000
DTEND;TZID=Asia/Krasnoyarsk:20251226T150000
DTSTAMP:20260421T001128
CREATED:20251223T144217Z
LAST-MODIFIED:20251224T082104Z
UID:10004870-1766739600-1766761200@boo.colorpack.net
SUMMARY:บริษัท โตโยต้า ซัมมิท จำกัด (สำนักงานใหญ่) []
DESCRIPTION:สถานที่เจาะ : โชว์รูม (พัก 11.00-12.00 น.) \nที่อยู่ : 15/1 หมู่14 ถ.บางนา-ตราด กม.9.5 ต.บางพลีใหญ่ อ.บางพลี จ.สมุทรปราการ 0 2056 0222
URL:https://boo.colorpack.net/event/%e0%b8%9a%e0%b8%a3%e0%b8%b4%e0%b8%a9%e0%b8%b1%e0%b8%97-%e0%b9%82%e0%b8%95%e0%b9%82%e0%b8%a2%e0%b8%95%e0%b9%89%e0%b8%b2-%e0%b8%8b%e0%b8%b1%e0%b8%a1%e0%b8%a1%e0%b8%b4%e0%b8%97-%e0%b8%88%e0%b8%b3-3/
LOCATION:บริษัท โตโยต้า ซัมมิท จำกัด (สำนักงานใหญ่)\, บริษัท โตโยต้าซัมมิท จำกัด (สำนักงานใหญ่) สาขาบางนา 15/1 ม.14 ถ.บางนาตราด กม. 9.5 ต.บางพลีใหญ่ อ.บางพลี จ.สมุทรปราการ 10540
CATEGORIES:ปฏิทินตารางหน่วยเคลื่อนที่
END:VEVENT
BEGIN:VEVENT
DTSTART;TZID=Asia/Bangkok:20250926T090000
DTEND;TZID=Asia/Bangkok:20250926T150000
DTSTAMP:20260421T001128
CREATED:20250925T024855Z
LAST-MODIFIED:20250925T024855Z
UID:10003504-1758877200-1758898800@boo.colorpack.net
SUMMARY:บริษัท โตโยต้า ซัมมิท จำกัด (สำนักงานใหญ่) [0M0913]
DESCRIPTION:สถานที่เจาะ : โชว์รูม (พัก 11.30-12.30 น.) \nที่อยู่ : 15/1 หมู่14 ถ.บางนา-ตราด กม.9.5 ต.บางพลีใหญ่ อ.บางพลี จ.สมุทรปราการ 0 2056 0222
URL:https://boo.colorpack.net/event/%e0%b8%9a%e0%b8%a3%e0%b8%b4%e0%b8%a9%e0%b8%b1%e0%b8%97-%e0%b9%82%e0%b8%95%e0%b9%82%e0%b8%a2%e0%b8%95%e0%b9%89%e0%b8%b2-%e0%b8%8b%e0%b8%b1%e0%b8%a1%e0%b8%a1%e0%b8%b4%e0%b8%97-%e0%b8%88%e0%b8%b3-2/
LOCATION:บริษัท โตโยต้า ซัมมิท จำกัด (สำนักงานใหญ่)\, บริษัท โตโยต้าซัมมิท จำกัด (สำนักงานใหญ่) สาขาบางนา 15/1 ม.14 ถ.บางนาตราด กม. 9.5 ต.บางพลีใหญ่ อ.บางพลี จ.สมุทรปราการ 10540
CATEGORIES:ปฏิทินตารางหน่วยเคลื่อนที่
END:VEVENT
BEGIN:VEVENT
DTSTART;TZID=Asia/Bangkok:20250620T090000
DTEND;TZID=Asia/Bangkok:20250620T150000
DTSTAMP:20260421T001128
CREATED:20250612T093949Z
LAST-MODIFIED:20250619T033222Z
UID:10002177-1750410000-1750431600@boo.colorpack.net
SUMMARY:บริษัท โตโยต้า ซัมมิท จำกัด (สำนักงานใหญ่) []
DESCRIPTION:สถานที่เจาะ : โชว์รูม (พัก 11.30-12.30 น.) \nที่อยู่ : 15/1 หมู่14 ถ.บางนา-ตราด กม.9.5 ต.บางพลีใหญ่ อ.บางพลี จ.สมุทรปราการ 0 2056 0222
URL:https://boo.colorpack.net/event/%e0%b8%9a%e0%b8%a3%e0%b8%b4%e0%b8%a9%e0%b8%b1%e0%b8%97-%e0%b9%82%e0%b8%95%e0%b9%82%e0%b8%a2%e0%b8%95%e0%b9%89%e0%b8%b2-%e0%b8%8b%e0%b8%b1%e0%b8%a1%e0%b8%a1%e0%b8%b4%e0%b8%97-%e0%b8%88%e0%b8%b3/
LOCATION:บริษัท โตโยต้า ซัมมิท จำกัด (สำนักงานใหญ่)\, บริษัท โตโยต้าซัมมิท จำกัด (สำนักงานใหญ่) สาขาบางนา 15/1 ม.14 ถ.บางนาตราด กม. 9.5 ต.บางพลีใหญ่ อ.บางพลี จ.สมุทรปราการ 10540
CATEGORIES:ปฏิทินตารางหน่วยเคลื่อนที่
END:VEVENT
END:VCALENDAR