BEGIN:VCALENDAR
VERSION:2.0
PRODID:-//เว็บไซต์ศูนย์บริการโลหิตแห่งชาติ - ECPv6.11.2.1//NONSGML v1.0//EN
CALSCALE:GREGORIAN
METHOD:PUBLISH
X-ORIGINAL-URL:https://boo.colorpack.net
X-WR-CALDESC:Events for เว็บไซต์ศูนย์บริการโลหิตแห่งชาติ
REFRESH-INTERVAL;VALUE=DURATION:PT1H
X-Robots-Tag:noindex
X-PUBLISHED-TTL:PT1H
BEGIN:VTIMEZONE
TZID:Asia/Krasnoyarsk
BEGIN:STANDARD
TZOFFSETFROM:+0700
TZOFFSETTO:+0700
TZNAME:+07
DTSTART:20250101T000000
END:STANDARD
END:VTIMEZONE
BEGIN:VTIMEZONE
TZID:Asia/Bangkok
BEGIN:STANDARD
TZOFFSETFROM:+0700
TZOFFSETTO:+0700
TZNAME:+07
DTSTART:20250101T000000
END:STANDARD
END:VTIMEZONE
BEGIN:VEVENT
DTSTART;TZID=Asia/Krasnoyarsk:20251222T130000
DTEND;TZID=Asia/Krasnoyarsk:20251222T150000
DTSTAMP:20260422T001301
CREATED:20251215T120203Z
LAST-MODIFIED:20251215T120203Z
UID:10004803-1766408400-1766415600@boo.colorpack.net
SUMMARY:บริษัท แอล เอ็ม อี จำกัด [0M0587]
DESCRIPTION:สถานที่เจาะ : ลานจอดรถ หน้าอาคาร 1 \nที่อยู่ : 357\,359 สาธุประดิษฐ์ 58 ถนนรัชดาภิเษก แขวงบางโพงพาง เขตยานนาวา กรุงเทพฯ 0 2683 9300
URL:https://boo.colorpack.net/event/%e0%b8%9a%e0%b8%a3%e0%b8%b4%e0%b8%a9%e0%b8%b1%e0%b8%97-%e0%b9%81%e0%b8%ad%e0%b8%a5-%e0%b9%80%e0%b8%ad%e0%b9%87%e0%b8%a1-%e0%b8%ad%e0%b8%b5-%e0%b8%88%e0%b8%b3%e0%b8%81%e0%b8%b1%e0%b8%94-0m0587-3/
LOCATION:บริษัท แอล เอ็ม อี จำกัด\, บริษัท แอล เอ็ม อี จำกัด 357\,359 สาธุประดิษฐ์ 58 ถนนรัชดาภิเษก แขวงบางโพงพาง เขตยานนาวา กรุงเทพฯ 10120
CATEGORIES:ปฏิทินตารางหน่วยเคลื่อนที่
END:VEVENT
BEGIN:VEVENT
DTSTART;TZID=Asia/Bangkok:20250929T130000
DTEND;TZID=Asia/Bangkok:20250929T150000
DTSTAMP:20260422T001301
CREATED:20250924T112938Z
LAST-MODIFIED:20250924T112938Z
UID:10003451-1759150800-1759158000@boo.colorpack.net
SUMMARY:บริษัท แอล เอ็ม อี จำกัด [0M0587]
DESCRIPTION:สถานที่เจาะ : ลานจอดรถ หน้าอาคาร 1 \nที่อยู่ : 357\,359 สาธุประดิษฐ์ 58 ถนนรัชดาภิเษก แขวงบางโพงพาง เขตยานนาวา กรุงเทพฯ 0 2683 9300
URL:https://boo.colorpack.net/event/%e0%b8%9a%e0%b8%a3%e0%b8%b4%e0%b8%a9%e0%b8%b1%e0%b8%97-%e0%b9%81%e0%b8%ad%e0%b8%a5-%e0%b9%80%e0%b8%ad%e0%b9%87%e0%b8%a1-%e0%b8%ad%e0%b8%b5-%e0%b8%88%e0%b8%b3%e0%b8%81%e0%b8%b1%e0%b8%94-0m0587-2/
LOCATION:บริษัท แอล เอ็ม อี จำกัด\, บริษัท แอล เอ็ม อี จำกัด 357\,359 สาธุประดิษฐ์ 58 ถนนรัชดาภิเษก แขวงบางโพงพาง เขตยานนาวา กรุงเทพฯ 10120
CATEGORIES:ปฏิทินตารางหน่วยเคลื่อนที่
END:VEVENT
BEGIN:VEVENT
DTSTART;TZID=Asia/Bangkok:20250630T130000
DTEND;TZID=Asia/Bangkok:20250630T150000
DTSTAMP:20260422T001301
CREATED:20250626T024820Z
LAST-MODIFIED:20250626T024820Z
UID:10002443-1751288400-1751295600@boo.colorpack.net
SUMMARY:บริษัท แอล เอ็ม อี จำกัด []
DESCRIPTION:สถานที่เจาะ : ลานจอดรถ หน้าอาคาร 1 \nที่อยู่ : 357\,359 สาธุประดิษฐ์ 58 ถนนรัชดาภิเษก แขวงบางโพงพาง เขตยานนาวา กรุงเทพฯ 0 2683 9300
URL:https://boo.colorpack.net/event/%e0%b8%9a%e0%b8%a3%e0%b8%b4%e0%b8%a9%e0%b8%b1%e0%b8%97-%e0%b9%81%e0%b8%ad%e0%b8%a5-%e0%b9%80%e0%b8%ad%e0%b9%87%e0%b8%a1-%e0%b8%ad%e0%b8%b5-%e0%b8%88%e0%b8%b3%e0%b8%81%e0%b8%b1%e0%b8%94/
LOCATION:บริษัท แอล เอ็ม อี จำกัด\, บริษัท แอล เอ็ม อี จำกัด 357\,359 สาธุประดิษฐ์ 58 ถนนรัชดาภิเษก แขวงบางโพงพาง เขตยานนาวา กรุงเทพฯ 10120
CATEGORIES:ปฏิทินตารางหน่วยเคลื่อนที่
END:VEVENT
BEGIN:VEVENT
DTSTART;TZID=Asia/Bangkok:20250331T130000
DTEND;TZID=Asia/Bangkok:20250331T150000
DTSTAMP:20260422T001301
CREATED:20250328T030723Z
LAST-MODIFIED:20250328T030723Z
UID:10001103-1743426000-1743433200@boo.colorpack.net
SUMMARY:บริษัท แอล เอ็ม อี จำกัด [0M0587]
DESCRIPTION:สถานที่เจาะ : ลานจอดรถ หน้าอาคาร 1 \nที่อยู่ : 357\,359 สาธุประดิษฐ์ 58 ถนนรัชดาภิเษก แขวงบางโพงพาง เขตยานนาวา กรุงเทพฯ 0 2683 9300
URL:https://boo.colorpack.net/event/%e0%b8%9a%e0%b8%a3%e0%b8%b4%e0%b8%a9%e0%b8%b1%e0%b8%97-%e0%b9%81%e0%b8%ad%e0%b8%a5-%e0%b9%80%e0%b8%ad%e0%b9%87%e0%b8%a1-%e0%b8%ad%e0%b8%b5-%e0%b8%88%e0%b8%b3%e0%b8%81%e0%b8%b1%e0%b8%94-0m0587/
LOCATION:บริษัท แอล เอ็ม อี จำกัด\, บริษัท แอล เอ็ม อี จำกัด 357\,359 สาธุประดิษฐ์ 58 ถนนรัชดาภิเษก แขวงบางโพงพาง เขตยานนาวา กรุงเทพฯ 10120
CATEGORIES:ปฏิทินตารางหน่วยเคลื่อนที่
END:VEVENT
END:VCALENDAR