BEGIN:VCALENDAR
VERSION:2.0
PRODID:-//เว็บไซต์ศูนย์บริการโลหิตแห่งชาติ - ECPv6.11.2.1//NONSGML v1.0//EN
CALSCALE:GREGORIAN
METHOD:PUBLISH
X-WR-CALNAME:เว็บไซต์ศูนย์บริการโลหิตแห่งชาติ
X-ORIGINAL-URL:https://boo.colorpack.net
X-WR-CALDESC:Events for เว็บไซต์ศูนย์บริการโลหิตแห่งชาติ
REFRESH-INTERVAL;VALUE=DURATION:PT1H
X-Robots-Tag:noindex
X-PUBLISHED-TTL:PT1H
BEGIN:VTIMEZONE
TZID:Asia/Bangkok
BEGIN:STANDARD
TZOFFSETFROM:+0700
TZOFFSETTO:+0700
TZNAME:+07
DTSTART:20240101T000000
END:STANDARD
END:VTIMEZONE
BEGIN:VEVENT
DTSTART;TZID=Asia/Bangkok:20250612T090000
DTEND;TZID=Asia/Bangkok:20250612T150000
DTSTAMP:20260421T172330
CREATED:20250604T044844Z
LAST-MODIFIED:20250604T044844Z
UID:10002053-1749718800-1749740400@boo.colorpack.net
SUMMARY:บริษัท แมทเทล กรุงเทพ จำกัด []
DESCRIPTION:สถานที่เจาะ : หน้าสำนักงานบริษัท (พัก 12-13 น.) \nที่อยู่ : 683 ม. 4 ถ.สุขุมวิท ต.แพรกษา อ.เมือง จ.สมุทรปราการ 0 2324 0373-5
URL:https://boo.colorpack.net/event/%e0%b8%9a%e0%b8%a3%e0%b8%b4%e0%b8%a9%e0%b8%b1%e0%b8%97-%e0%b9%81%e0%b8%a1%e0%b8%97%e0%b9%80%e0%b8%97%e0%b8%a5-%e0%b8%81%e0%b8%a3%e0%b8%b8%e0%b8%87%e0%b9%80%e0%b8%97%e0%b8%9e-%e0%b8%88%e0%b8%b3-6/
LOCATION:บริษัท แมทเทล กรุงเทพ จำกัด\, บริษัท แมทเทล กรุงเทพ จำกัด GMW8+VX6 ตำบล แพรกษา อำเภอเมืองสมุทรปราการ สมุทรปราการ 10280
CATEGORIES:ปฏิทินตารางหน่วยเคลื่อนที่
END:VEVENT
BEGIN:VEVENT
DTSTART;TZID=Asia/Bangkok:20250312T090000
DTEND;TZID=Asia/Bangkok:20250312T150000
DTSTAMP:20260421T172330
CREATED:20250309T135544Z
LAST-MODIFIED:20250309T135544Z
UID:10000837-1741770000-1741791600@boo.colorpack.net
SUMMARY:บริษัท แมทเทล กรุงเทพ จำกัด [0E0916]
DESCRIPTION:สถานที่เจาะ : หน้าสำนักงานบริษัท (พัก 12.00-13.00 น.) \nที่อยู่ : 683 ม. 4 ถ.สุขุมวิท ต.แพรกษา อ.เมือง จ.สมุทรปราการ 0 2324 0373-5
URL:https://boo.colorpack.net/event/%e0%b8%9a%e0%b8%a3%e0%b8%b4%e0%b8%a9%e0%b8%b1%e0%b8%97-%e0%b9%81%e0%b8%a1%e0%b8%97%e0%b9%80%e0%b8%97%e0%b8%a5-%e0%b8%81%e0%b8%a3%e0%b8%b8%e0%b8%87%e0%b9%80%e0%b8%97%e0%b8%9e-%e0%b8%88%e0%b8%b3-5/
LOCATION:บริษัท แมทเทล กรุงเทพ จำกัด\, บริษัท แมทเทล กรุงเทพ จำกัด GMW8+VX6 ตำบล แพรกษา อำเภอเมืองสมุทรปราการ สมุทรปราการ 10280
CATEGORIES:ปฏิทินตารางหน่วยเคลื่อนที่
END:VEVENT
BEGIN:VEVENT
DTSTART;TZID=Asia/Bangkok:20250305T090000
DTEND;TZID=Asia/Bangkok:20250305T150000
DTSTAMP:20260421T172330
CREATED:20250303T100638Z
LAST-MODIFIED:20250303T100638Z
UID:10000719-1741165200-1741186800@boo.colorpack.net
SUMMARY:บริษัท แมทเทล กรุงเทพ จำกัด [0E0916]
DESCRIPTION:สถานที่เจาะ : หน้าสำนักงานบริษัท (พัก 12.00-13.00 น.) \nที่อยู่ : 683 ม. 4 ถ.สุขุมวิท ต.แพรกษา อ.เมือง จ.สมุทรปราการ 0 2324 0373-5
URL:https://boo.colorpack.net/event/%e0%b8%9a%e0%b8%a3%e0%b8%b4%e0%b8%a9%e0%b8%b1%e0%b8%97-%e0%b9%81%e0%b8%a1%e0%b8%97%e0%b9%80%e0%b8%97%e0%b8%a5-%e0%b8%81%e0%b8%a3%e0%b8%b8%e0%b8%87%e0%b9%80%e0%b8%97%e0%b8%9e-%e0%b8%88%e0%b8%b3-4/
LOCATION:บริษัท แมทเทล กรุงเทพ จำกัด\, บริษัท แมทเทล กรุงเทพ จำกัด GMW8+VX6 ตำบล แพรกษา อำเภอเมืองสมุทรปราการ สมุทรปราการ 10280
CATEGORIES:ปฏิทินตารางหน่วยเคลื่อนที่
END:VEVENT
BEGIN:VEVENT
DTSTART;TZID=Asia/Bangkok:20241009T090000
DTEND;TZID=Asia/Bangkok:20241009T150000
DTSTAMP:20260421T172331
CREATED:20241017T074315Z
LAST-MODIFIED:20241017T074315Z
UID:10000059-1728464400-1728486000@boo.colorpack.net
SUMMARY:บริษัท แมทเทล กรุงเทพ จำกัด [0E0916]
DESCRIPTION:สถานที่เจาะ : หน้าสำนักงานบริษัท (พัก 12.00-13.00 น.) \nที่อยู่ : 683 ม. 4 ถ.สุขุมวิท ต.แพรกษา อ.เมือง สมุทรปราการ 10270 \nโทร : 0 2324 0373-5
URL:https://boo.colorpack.net/event/%e0%b8%9a%e0%b8%a3%e0%b8%b4%e0%b8%a9%e0%b8%b1%e0%b8%97-%e0%b9%81%e0%b8%a1%e0%b8%97%e0%b9%80%e0%b8%97%e0%b8%a5-%e0%b8%81%e0%b8%a3%e0%b8%b8%e0%b8%87%e0%b9%80%e0%b8%97%e0%b8%9e-%e0%b8%88%e0%b8%b3-3/
LOCATION:บริษัท แมทเทล กรุงเทพ จำกัด\, บริษัท แมทเทล กรุงเทพ จำกัด GMW8+VX6 ตำบล แพรกษา อำเภอเมืองสมุทรปราการ สมุทรปราการ 10280
CATEGORIES:ปฏิทินตารางหน่วยเคลื่อนที่
END:VEVENT
BEGIN:VEVENT
DTSTART;TZID=Asia/Bangkok:20241002T073000
DTEND;TZID=Asia/Bangkok:20241002T150000
DTSTAMP:20260421T172331
CREATED:20241002T042016Z
LAST-MODIFIED:20241002T044041Z
UID:10000027-1727854200-1727881200@boo.colorpack.net
SUMMARY:บริษัท แมทเทล กรุงเทพ จำกัด [0E0916]
DESCRIPTION:สถานที่เจาะ : หน้าสำนักงานบริษัท (พัก 12.00-13.00 น.)
URL:https://boo.colorpack.net/event/%e0%b8%9a%e0%b8%a3%e0%b8%b4%e0%b8%a9%e0%b8%b1%e0%b8%97-%e0%b9%81%e0%b8%a1%e0%b8%97%e0%b9%80%e0%b8%97%e0%b8%a5-%e0%b8%81%e0%b8%a3%e0%b8%b8%e0%b8%87%e0%b9%80%e0%b8%97%e0%b8%9e-%e0%b8%88%e0%b8%b3-2/
LOCATION:บริษัท แมทเทล กรุงเทพ จำกัด\, บริษัท แมทเทล กรุงเทพ จำกัด GMW8+VX6 ตำบล แพรกษา อำเภอเมืองสมุทรปราการ สมุทรปราการ 10280
CATEGORIES:ปฏิทินตารางหน่วยเคลื่อนที่
END:VEVENT
END:VCALENDAR