BEGIN:VCALENDAR
VERSION:2.0
PRODID:-//เว็บไซต์ศูนย์บริการโลหิตแห่งชาติ - ECPv6.11.2.1//NONSGML v1.0//EN
CALSCALE:GREGORIAN
METHOD:PUBLISH
X-WR-CALNAME:เว็บไซต์ศูนย์บริการโลหิตแห่งชาติ
X-ORIGINAL-URL:https://boo.colorpack.net
X-WR-CALDESC:Events for เว็บไซต์ศูนย์บริการโลหิตแห่งชาติ
REFRESH-INTERVAL;VALUE=DURATION:PT1H
X-Robots-Tag:noindex
X-PUBLISHED-TTL:PT1H
BEGIN:VTIMEZONE
TZID:Asia/Bangkok
BEGIN:STANDARD
TZOFFSETFROM:+0700
TZOFFSETTO:+0700
TZNAME:+07
DTSTART:20250101T000000
END:STANDARD
END:VTIMEZONE
BEGIN:VEVENT
DTSTART;TZID=Asia/Bangkok:20251016T090000
DTEND;TZID=Asia/Bangkok:20251016T150000
DTSTAMP:20260422T092442
CREATED:20251003T102106Z
LAST-MODIFIED:20251003T102106Z
UID:10003665-1760605200-1760626800@boo.colorpack.net
SUMMARY:บริษัท แคเรียร์ แอร์ คอนดิชั่นนิ่ง (ประเทศไทย) จำกัด [0M0737]
DESCRIPTION:สถานที่เจาะ : ใต้อาคาร D หน้าตึก A (พัก 11.00-12.00 น.) \nที่อยู่ : 144/9 ม.5 สวนอุตสาหกรรมบางกะดี ต.บางกระดี อ.เมือง ปทุมธานี 0 2021 3100
URL:https://boo.colorpack.net/event/%e0%b8%9a%e0%b8%a3%e0%b8%b4%e0%b8%a9%e0%b8%b1%e0%b8%97-%e0%b9%81%e0%b8%84%e0%b9%80%e0%b8%a3%e0%b8%b5%e0%b8%a2%e0%b8%a3%e0%b9%8c-%e0%b9%81%e0%b8%ad%e0%b8%a3%e0%b9%8c-%e0%b8%84%e0%b8%ad%e0%b8%99/
LOCATION:บริษัท แคเรียร์ แอร์ คอนดิชั่นนิ่ง (ประเทศไทย) จำกัด\, บริษัท แคเรียร์ แอร์ คอนดิชั่นนิ่ง (ประเทศไทย) จำกัด 144/9 ม.5 สวนอุตสาหกรรมบางกะดี ถ.ติวานนท์ ต.บางกะดี อ.เมืองปทุมธานี จ.ปทุมธานี 12000
CATEGORIES:ปฏิทินตารางหน่วยเคลื่อนที่
END:VEVENT
END:VCALENDAR