BEGIN:VCALENDAR
VERSION:2.0
PRODID:-//เว็บไซต์ศูนย์บริการโลหิตแห่งชาติ - ECPv6.11.2.1//NONSGML v1.0//EN
CALSCALE:GREGORIAN
METHOD:PUBLISH
X-ORIGINAL-URL:https://boo.colorpack.net
X-WR-CALDESC:Events for เว็บไซต์ศูนย์บริการโลหิตแห่งชาติ
REFRESH-INTERVAL;VALUE=DURATION:PT1H
X-Robots-Tag:noindex
X-PUBLISHED-TTL:PT1H
BEGIN:VTIMEZONE
TZID:Asia/Bangkok
BEGIN:STANDARD
TZOFFSETFROM:+0700
TZOFFSETTO:+0700
TZNAME:+07
DTSTART:20250101T000000
END:STANDARD
END:VTIMEZONE
BEGIN:VEVENT
DTSTART;TZID=Asia/Bangkok:20250619T123000
DTEND;TZID=Asia/Bangkok:20250619T150000
DTSTAMP:20260421T173710
CREATED:20250612T093338Z
LAST-MODIFIED:20250619T032614Z
UID:10002159-1750336200-1750345200@boo.colorpack.net
SUMMARY:บริษัท เอ็มเค เรสโตรองต์ กรุ๊ป จำกัด (มหาชน) (ครัวกลางบางนา 5) []
DESCRIPTION:สถานที่เจาะ : หน้าสำนักงาน \nที่อยู่ : 60/9 \, 61/9 ม.1 ถ.บางนา-ตราด กม.21 ต.ศรีษะจรเข้ใหญ่ อ.บางเสาธง จ.สมุทรปราการ 0 2836 1055
URL:https://boo.colorpack.net/event/%e0%b8%9a%e0%b8%a3%e0%b8%b4%e0%b8%a9%e0%b8%b1%e0%b8%97-%e0%b9%80%e0%b8%ad%e0%b9%87%e0%b8%a1%e0%b9%80%e0%b8%84-%e0%b9%80%e0%b8%a3%e0%b8%aa%e0%b9%82%e0%b8%95%e0%b8%a3%e0%b8%ad%e0%b8%87%e0%b8%95%e0%b9%8c/
LOCATION:บริษัท เอ็มเค เรสโตรองต์ กรุ๊ป จำกัด (มหาชน) (ครัวกลางบางนา 5)\, บริษัท เอ็มเค เรสโตรองต์ กรุ๊ป จำกัด (มหาชน) (ครัวกลางบางนา 5) 60/9-61/9 ม.1 ถ.บางนา-ตราด กม.21 ต.ศีรษะจรเข้ใหญ่ อ.บางเสาธง จ.สมุทรปราการ 10540
CATEGORIES:ปฏิทินตารางหน่วยเคลื่อนที่
END:VEVENT
END:VCALENDAR