BEGIN:VCALENDAR
VERSION:2.0
PRODID:-//เว็บไซต์ศูนย์บริการโลหิตแห่งชาติ - ECPv6.11.2.1//NONSGML v1.0//EN
CALSCALE:GREGORIAN
METHOD:PUBLISH
X-ORIGINAL-URL:https://boo.colorpack.net
X-WR-CALDESC:Events for เว็บไซต์ศูนย์บริการโลหิตแห่งชาติ
REFRESH-INTERVAL;VALUE=DURATION:PT1H
X-Robots-Tag:noindex
X-PUBLISHED-TTL:PT1H
BEGIN:VTIMEZONE
TZID:Asia/Krasnoyarsk
BEGIN:STANDARD
TZOFFSETFROM:+0700
TZOFFSETTO:+0700
TZNAME:+07
DTSTART:20260101T000000
END:STANDARD
END:VTIMEZONE
BEGIN:VTIMEZONE
TZID:Asia/Bangkok
BEGIN:STANDARD
TZOFFSETFROM:+0700
TZOFFSETTO:+0700
TZNAME:+07
DTSTART:20250101T000000
END:STANDARD
END:VTIMEZONE
BEGIN:VEVENT
DTSTART;TZID=Asia/Krasnoyarsk:20260206T090000
DTEND;TZID=Asia/Krasnoyarsk:20260206T150000
DTSTAMP:20260422T075408
CREATED:20260204T115042Z
LAST-MODIFIED:20260204T120838Z
UID:10005420-1770368400-1770390000@boo.colorpack.net
SUMMARY:บริษัท เอ็นซิสกรุ๊ป จำกัด []
DESCRIPTION:สถานที่เจาะ : หน้าบริษัท (พัก 11.30-12.30 น.) \nที่อยู่ : 636/4-5 รามคำแหง 39 (เทพลีลา 1) ถนนประชาอุทิศ แขวงวังทองหลาง เขตวังทองหลาง กรุงเทพฯ 0 2935 6850
URL:https://boo.colorpack.net/event/%e0%b8%9a%e0%b8%a3%e0%b8%b4%e0%b8%a9%e0%b8%b1%e0%b8%97-%e0%b9%80%e0%b8%ad%e0%b9%87%e0%b8%99%e0%b8%8b%e0%b8%b4%e0%b8%aa%e0%b8%81%e0%b8%a3%e0%b8%b8%e0%b9%8a%e0%b8%9b-%e0%b8%88%e0%b8%b3%e0%b8%81-2/
LOCATION:บริษัท เอ็นซิสกรุ๊ป จำกัด\, บริษัท เอ็นซิสกรุ๊ป จำกัด 636/4-6 ถ.ประชาอุทิศ แขวงวังทองหลาง เขตวังทองหลาง กรุงเทพมหานคร 10310
CATEGORIES:ปฏิทินตารางหน่วยเคลื่อนที่
END:VEVENT
BEGIN:VEVENT
DTSTART;TZID=Asia/Bangkok:20250221T090000
DTEND;TZID=Asia/Bangkok:20250221T150000
DTSTAMP:20260422T075408
CREATED:20250216T083141Z
LAST-MODIFIED:20250216T083141Z
UID:10000641-1740128400-1740150000@boo.colorpack.net
SUMMARY:บริษัท เอ็นซิสกรุ๊ป จำกัด [0M0633]
DESCRIPTION:สถานที่เจาะ : หน้าบริษัท (พัก 11.30-12.30 น.) \nที่อยู่ : 636/4-5 รามคำแหง 39 (เทพลีลา 1) ถนนประชาอุทิศ แขวงวังทองหลาง เขตวังทองหลาง กรุงเทพฯ  \nโทร : 0 2935 6850
URL:https://boo.colorpack.net/event/%e0%b8%9a%e0%b8%a3%e0%b8%b4%e0%b8%a9%e0%b8%b1%e0%b8%97-%e0%b9%80%e0%b8%ad%e0%b9%87%e0%b8%99%e0%b8%8b%e0%b8%b4%e0%b8%aa%e0%b8%81%e0%b8%a3%e0%b8%b8%e0%b9%8a%e0%b8%9b-%e0%b8%88%e0%b8%b3%e0%b8%81%e0%b8%b1/
LOCATION:บริษัท เอ็นซิสกรุ๊ป จำกัด\, บริษัท เอ็นซิสกรุ๊ป จำกัด 636/4-6 ถ.ประชาอุทิศ แขวงวังทองหลาง เขตวังทองหลาง กรุงเทพมหานคร 10310
CATEGORIES:ปฏิทินตารางหน่วยเคลื่อนที่
END:VEVENT
END:VCALENDAR