BEGIN:VCALENDAR
VERSION:2.0
PRODID:-//เว็บไซต์ศูนย์บริการโลหิตแห่งชาติ - ECPv6.11.2.1//NONSGML v1.0//EN
CALSCALE:GREGORIAN
METHOD:PUBLISH
X-ORIGINAL-URL:https://boo.colorpack.net
X-WR-CALDESC:Events for เว็บไซต์ศูนย์บริการโลหิตแห่งชาติ
REFRESH-INTERVAL;VALUE=DURATION:PT1H
X-Robots-Tag:noindex
X-PUBLISHED-TTL:PT1H
BEGIN:VTIMEZONE
TZID:Asia/Bangkok
BEGIN:STANDARD
TZOFFSETFROM:+0700
TZOFFSETTO:+0700
TZNAME:+07
DTSTART:20250101T000000
END:STANDARD
END:VTIMEZONE
BEGIN:VEVENT
DTSTART;TZID=Asia/Bangkok:20250514T090000
DTEND;TZID=Asia/Bangkok:20250514T150000
DTSTAMP:20260424T185712
CREATED:20250508T113158Z
LAST-MODIFIED:20250508T113158Z
UID:10001726-1747213200-1747234800@boo.colorpack.net
SUMMARY:บริษัท ฮีโน่มอเตอร์ส แมนูแฟคเจอริ่ง (ประเทศไทย) จำกัด (โรงงานสำโรง) []
DESCRIPTION:สถานที่เจาะ : หน้าโรงอาหาร (พัก 11-12 น.) \nที่อยู่ : 99 ม.3 ถ.เทพารักษ์ ต.เทพารักษ์ อ.เมือง จ.สมุทรปราการ 0 2384 2900
URL:https://boo.colorpack.net/event/%e0%b8%9a%e0%b8%a3%e0%b8%b4%e0%b8%a9%e0%b8%b1%e0%b8%97-%e0%b8%ae%e0%b8%b5%e0%b9%82%e0%b8%99%e0%b9%88%e0%b8%a1%e0%b8%ad%e0%b9%80%e0%b8%95%e0%b8%ad%e0%b8%a3%e0%b9%8c%e0%b8%aa-%e0%b9%81%e0%b8%a1-2/
LOCATION:บริษัท ฮีโน่มอเตอร์ส แมนูแฟคเจอริ่ง (ประเทศไทย) จำกัด (โรงงานสำโรง)
CATEGORIES:ปฏิทินตารางหน่วยเคลื่อนที่
END:VEVENT
BEGIN:VEVENT
DTSTART;TZID=Asia/Bangkok:20250214T090000
DTEND;TZID=Asia/Bangkok:20250214T150000
DTSTAMP:20260424T185712
CREATED:20250209T124939Z
LAST-MODIFIED:20250209T124939Z
UID:10000518-1739523600-1739545200@boo.colorpack.net
SUMMARY:บริษัท ฮีโน่มอเตอร์ส แมนูแฟคเจอริ่ง (ประเทศไทย) จำกัด (โรงงานสำโรง) [0M0428]
DESCRIPTION:สถานที่เจาะ : หน้าโรงอาหาร (พัก 11.00-12.00 น.) \nที่อยู่ : 99 ม.3 ถ.เทพารักษ์ ต.เทพารักษ์ อ.เมือง สมุทรปราการ  \nโทร : 0 2384 2900
URL:https://boo.colorpack.net/event/%e0%b8%9a%e0%b8%a3%e0%b8%b4%e0%b8%a9%e0%b8%b1%e0%b8%97-%e0%b8%ae%e0%b8%b5%e0%b9%82%e0%b8%99%e0%b9%88%e0%b8%a1%e0%b8%ad%e0%b9%80%e0%b8%95%e0%b8%ad%e0%b8%a3%e0%b9%8c%e0%b8%aa-%e0%b9%81%e0%b8%a1%e0%b8%99/
LOCATION:บริษัท ฮีโน่มอเตอร์ส แมนูแฟคเจอริ่ง (ประเทศไทย) จำกัด (โรงงานสำโรง)
CATEGORIES:ปฏิทินตารางหน่วยเคลื่อนที่
END:VEVENT
END:VCALENDAR