BEGIN:VCALENDAR
VERSION:2.0
PRODID:-//เว็บไซต์ศูนย์บริการโลหิตแห่งชาติ - ECPv6.11.2.1//NONSGML v1.0//EN
CALSCALE:GREGORIAN
METHOD:PUBLISH
X-WR-CALNAME:เว็บไซต์ศูนย์บริการโลหิตแห่งชาติ
X-ORIGINAL-URL:https://boo.colorpack.net
X-WR-CALDESC:Events for เว็บไซต์ศูนย์บริการโลหิตแห่งชาติ
REFRESH-INTERVAL;VALUE=DURATION:PT1H
X-Robots-Tag:noindex
X-PUBLISHED-TTL:PT1H
BEGIN:VTIMEZONE
TZID:Asia/Krasnoyarsk
BEGIN:STANDARD
TZOFFSETFROM:+0700
TZOFFSETTO:+0700
TZNAME:+07
DTSTART:20250101T000000
END:STANDARD
END:VTIMEZONE
BEGIN:VTIMEZONE
TZID:Asia/Bangkok
BEGIN:STANDARD
TZOFFSETFROM:+0700
TZOFFSETTO:+0700
TZNAME:+07
DTSTART:20250101T000000
END:STANDARD
END:VTIMEZONE
BEGIN:VEVENT
DTSTART;TZID=Asia/Krasnoyarsk:20251208T090000
DTEND;TZID=Asia/Krasnoyarsk:20251208T110000
DTSTAMP:20260424T193238
CREATED:20251128T104524Z
LAST-MODIFIED:20251128T110539Z
UID:10004587-1765184400-1765191600@boo.colorpack.net
SUMMARY:บริษัท อุตสาหกรรมทำเครื่องแก้วไทย จำกัด (มหาชน) โรงงานบางพลี []
DESCRIPTION:สถานที่เจาะ : ด้านหน้าโรงงาน \nที่อยู่ : 78 ม. 3 ซ.วัดศรีวารีน้อย ถ.บางนา-ตราด กม.18 ต.หนองปรือ อ.บางพลี จ.สมุทรปราการ 0 2769 3500
URL:https://boo.colorpack.net/event/%e0%b8%9a%e0%b8%a3%e0%b8%b4%e0%b8%a9%e0%b8%b1%e0%b8%97-%e0%b8%ad%e0%b8%b8%e0%b8%95%e0%b8%aa%e0%b8%b2%e0%b8%ab%e0%b8%81%e0%b8%a3%e0%b8%a3%e0%b8%a1%e0%b8%97%e0%b8%b3%e0%b9%80%e0%b8%84%e0%b8%a3-3/
LOCATION:บริษัท อุตสาหกรรมทำเครื่องแก้วไทย จำกัด (มหาชน) โรงงานบางพลี\, บริษัท อุตสาหกรรมทำเครื่องแก้วไทย จำกัด (มหาชน) โรงงานบางพลี 78 ม.3 ซ.วัดศรีวารีน้อย ถ.บางนา-ตราด ต.หนองปรือ อ.บางพลี จ.สมุทรปราการ 10540
CATEGORIES:ปฏิทินตารางหน่วยเคลื่อนที่
END:VEVENT
BEGIN:VEVENT
DTSTART;TZID=Asia/Bangkok:20250918T090000
DTEND;TZID=Asia/Bangkok:20250918T110000
DTSTAMP:20260424T193238
CREATED:20250905T105116Z
LAST-MODIFIED:20250905T105230Z
UID:10003212-1758186000-1758193200@boo.colorpack.net
SUMMARY:บริษัท อุตสาหกรรมทำเครื่องแก้วไทย จำกัด (มหาชน) โรงงานบางพลี [0E0495]
DESCRIPTION:สถานที่เจาะ : ด้านหน้าโรงงาน \nที่อยู่ : 78 ม. 3 ซ.วัดศรีวารีน้อย ถ.บางนา-ตราด กม.18 ต.หนองปรือ อ.บางพลี จ.สมุทรปราการ 0 2769 3500
URL:https://boo.colorpack.net/event/%e0%b8%9a%e0%b8%a3%e0%b8%b4%e0%b8%a9%e0%b8%b1%e0%b8%97-%e0%b8%ad%e0%b8%b8%e0%b8%95%e0%b8%aa%e0%b8%b2%e0%b8%ab%e0%b8%81%e0%b8%a3%e0%b8%a3%e0%b8%a1%e0%b8%97%e0%b8%b3%e0%b9%80%e0%b8%84%e0%b8%a3-2/
LOCATION:บริษัท อุตสาหกรรมทำเครื่องแก้วไทย จำกัด (มหาชน) โรงงานบางพลี\, บริษัท อุตสาหกรรมทำเครื่องแก้วไทย จำกัด (มหาชน) โรงงานบางพลี 78 ม.3 ซ.วัดศรีวารีน้อย ถ.บางนา-ตราด ต.หนองปรือ อ.บางพลี จ.สมุทรปราการ 10540
CATEGORIES:ปฏิทินตารางหน่วยเคลื่อนที่
END:VEVENT
BEGIN:VEVENT
DTSTART;TZID=Asia/Bangkok:20250619T090000
DTEND;TZID=Asia/Bangkok:20250619T110000
DTSTAMP:20260424T193238
CREATED:20250612T093336Z
LAST-MODIFIED:20250619T032612Z
UID:10002158-1750323600-1750330800@boo.colorpack.net
SUMMARY:บริษัท อุตสาหกรรมทำเครื่องแก้วไทย จำกัด (มหาชน) โรงงานบางพลี []
DESCRIPTION:สถานที่เจาะ : ด้านหน้าโรงงาน \nที่อยู่ : 78 ม. 3 ซ.วัดศรีวารีน้อย ถ.บางนา-ตราด กม.18 ต.หนองปรือ อ.บางพลี จ.สมุทรปราการ 0 2769 3500
URL:https://boo.colorpack.net/event/%e0%b8%9a%e0%b8%a3%e0%b8%b4%e0%b8%a9%e0%b8%b1%e0%b8%97-%e0%b8%ad%e0%b8%b8%e0%b8%95%e0%b8%aa%e0%b8%b2%e0%b8%ab%e0%b8%81%e0%b8%a3%e0%b8%a3%e0%b8%a1%e0%b8%97%e0%b8%b3%e0%b9%80%e0%b8%84%e0%b8%a3%e0%b8%b7/
LOCATION:บริษัท อุตสาหกรรมทำเครื่องแก้วไทย จำกัด (มหาชน) โรงงานบางพลี\, บริษัท อุตสาหกรรมทำเครื่องแก้วไทย จำกัด (มหาชน) โรงงานบางพลี 78 ม.3 ซ.วัดศรีวารีน้อย ถ.บางนา-ตราด ต.หนองปรือ อ.บางพลี จ.สมุทรปราการ 10540
CATEGORIES:ปฏิทินตารางหน่วยเคลื่อนที่
END:VEVENT
END:VCALENDAR