BEGIN:VCALENDAR
VERSION:2.0
PRODID:-//เว็บไซต์ศูนย์บริการโลหิตแห่งชาติ - ECPv6.11.2.1//NONSGML v1.0//EN
CALSCALE:GREGORIAN
METHOD:PUBLISH
X-WR-CALNAME:เว็บไซต์ศูนย์บริการโลหิตแห่งชาติ
X-ORIGINAL-URL:https://boo.colorpack.net
X-WR-CALDESC:Events for เว็บไซต์ศูนย์บริการโลหิตแห่งชาติ
REFRESH-INTERVAL;VALUE=DURATION:PT1H
X-Robots-Tag:noindex
X-PUBLISHED-TTL:PT1H
BEGIN:VTIMEZONE
TZID:Asia/Krasnoyarsk
BEGIN:STANDARD
TZOFFSETFROM:+0700
TZOFFSETTO:+0700
TZNAME:+07
DTSTART:20250101T000000
END:STANDARD
END:VTIMEZONE
BEGIN:VTIMEZONE
TZID:Asia/Bangkok
BEGIN:STANDARD
TZOFFSETFROM:+0700
TZOFFSETTO:+0700
TZNAME:+07
DTSTART:20250101T000000
END:STANDARD
END:VTIMEZONE
BEGIN:VEVENT
DTSTART;TZID=Asia/Krasnoyarsk:20260128T090000
DTEND;TZID=Asia/Krasnoyarsk:20260128T120000
DTSTAMP:20260421T155332
CREATED:20260120T105159Z
LAST-MODIFIED:20260120T105159Z
UID:10005295-1769590800-1769601600@boo.colorpack.net
SUMMARY:บริษัท อินเตอร์ไทย ฟาร์ม่าซูติเคิ้ล แมนูเฟคเจอริ่ง จำกัด []
DESCRIPTION:สถานที่เจาะ : ลานจอดรถ \nที่อยู่ : 1899 ถนนพหลโยธิน (ซอย 39) แขวงลาดยาว เขตจตุจักร กรุงเทพฯ 0 2941 2992
URL:https://boo.colorpack.net/event/%e0%b8%9a%e0%b8%a3%e0%b8%b4%e0%b8%a9%e0%b8%b1%e0%b8%97-%e0%b8%ad%e0%b8%b4%e0%b8%99%e0%b9%80%e0%b8%95%e0%b8%ad%e0%b8%a3%e0%b9%8c%e0%b9%84%e0%b8%97%e0%b8%a2-%e0%b8%9f%e0%b8%b2%e0%b8%a3%e0%b9%8c-4/
LOCATION:บริษัท อินเตอร์ไทย ฟาร์ม่าซูติเคิ้ล แมนูเฟคเจอริ่ง จำกัด\, อินเตอร์ไทย ฟาร์มาซูติเคิ้ล แมนูแฟคเจอริ่ง 1899 ถนนพหลโยธิน แขวงลาดยาว เขตจตุจักร กรุงเทพมหานคร 10900
CATEGORIES:ปฏิทินตารางหน่วยเคลื่อนที่
END:VEVENT
BEGIN:VEVENT
DTSTART;TZID=Asia/Krasnoyarsk:20251104T090000
DTEND;TZID=Asia/Krasnoyarsk:20251104T120000
DTSTAMP:20260421T155332
CREATED:20251027T024455Z
LAST-MODIFIED:20251027T024455Z
UID:10003864-1762246800-1762257600@boo.colorpack.net
SUMMARY:บริษัท อินเตอร์ไทย ฟาร์ม่าซูติเคิ้ล แมนูเฟคเจอริ่ง จำกัด [0N0031]
DESCRIPTION:สถานที่เจาะ : ลานจอดรถ \nที่อยู่ : 1899 ถนนพหลโยธิน (ซอย 39) แขวงลาดยาว เขตจตุจักร กรุงเทพฯ 0 2941 2992
URL:https://boo.colorpack.net/event/%e0%b8%9a%e0%b8%a3%e0%b8%b4%e0%b8%a9%e0%b8%b1%e0%b8%97-%e0%b8%ad%e0%b8%b4%e0%b8%99%e0%b9%80%e0%b8%95%e0%b8%ad%e0%b8%a3%e0%b9%8c%e0%b9%84%e0%b8%97%e0%b8%a2-%e0%b8%9f%e0%b8%b2%e0%b8%a3%e0%b9%8c-3/
LOCATION:บริษัท อินเตอร์ไทย ฟาร์ม่าซูติเคิ้ล แมนูเฟคเจอริ่ง จำกัด\, อินเตอร์ไทย ฟาร์มาซูติเคิ้ล แมนูแฟคเจอริ่ง 1899 ถนนพหลโยธิน แขวงลาดยาว เขตจตุจักร กรุงเทพมหานคร 10900
CATEGORIES:ปฏิทินตารางหน่วยเคลื่อนที่
END:VEVENT
BEGIN:VEVENT
DTSTART;TZID=Asia/Bangkok:20250724T090000
DTEND;TZID=Asia/Bangkok:20250724T120000
DTSTAMP:20260421T155332
CREATED:20250716T110837Z
LAST-MODIFIED:20250716T110837Z
UID:10002454-1753347600-1753358400@boo.colorpack.net
SUMMARY:บริษัท อินเตอร์ไทย ฟาร์ม่าซูติเคิ้ล แมนูเฟคเจอริ่ง จำกัด []
DESCRIPTION:สถานที่เจาะ : ลานจอดรถ \nที่อยู่ : 1899 ถนนพหลโยธิน (ซอย 39) แขวงลาดยาว เขตจตุจักร กรุงเทพฯ 0 2941 2992
URL:https://boo.colorpack.net/event/%e0%b8%9a%e0%b8%a3%e0%b8%b4%e0%b8%a9%e0%b8%b1%e0%b8%97-%e0%b8%ad%e0%b8%b4%e0%b8%99%e0%b9%80%e0%b8%95%e0%b8%ad%e0%b8%a3%e0%b9%8c%e0%b9%84%e0%b8%97%e0%b8%a2-%e0%b8%9f%e0%b8%b2%e0%b8%a3%e0%b9%8c-2/
LOCATION:บริษัท อินเตอร์ไทย ฟาร์ม่าซูติเคิ้ล แมนูเฟคเจอริ่ง จำกัด\, อินเตอร์ไทย ฟาร์มาซูติเคิ้ล แมนูแฟคเจอริ่ง 1899 ถนนพหลโยธิน แขวงลาดยาว เขตจตุจักร กรุงเทพมหานคร 10900
CATEGORIES:ปฏิทินตารางหน่วยเคลื่อนที่
END:VEVENT
BEGIN:VEVENT
DTSTART;TZID=Asia/Bangkok:20250424T090000
DTEND;TZID=Asia/Bangkok:20250424T120000
DTSTAMP:20260421T155332
CREATED:20250418T103807Z
LAST-MODIFIED:20250418T103807Z
UID:10001444-1745485200-1745496000@boo.colorpack.net
SUMMARY:บริษัท อินเตอร์ไทย ฟาร์ม่าซูติเคิ้ล แมนูเฟคเจอริ่ง จำกัด []
DESCRIPTION:สถานที่เจาะ : ลานจอดรถ \nที่อยู่ : 1899 ถนนพหลโยธิน (ซอย 39) แขวงลาดยาว เขตจตุจักร กรุงเทพฯ 0 2941 2992
URL:https://boo.colorpack.net/event/%e0%b8%9a%e0%b8%a3%e0%b8%b4%e0%b8%a9%e0%b8%b1%e0%b8%97-%e0%b8%ad%e0%b8%b4%e0%b8%99%e0%b9%80%e0%b8%95%e0%b8%ad%e0%b8%a3%e0%b9%8c%e0%b9%84%e0%b8%97%e0%b8%a2-%e0%b8%9f%e0%b8%b2%e0%b8%a3%e0%b9%8c%e0%b8%a1/
LOCATION:บริษัท อินเตอร์ไทย ฟาร์ม่าซูติเคิ้ล แมนูเฟคเจอริ่ง จำกัด\, อินเตอร์ไทย ฟาร์มาซูติเคิ้ล แมนูแฟคเจอริ่ง 1899 ถนนพหลโยธิน แขวงลาดยาว เขตจตุจักร กรุงเทพมหานคร 10900
CATEGORIES:ปฏิทินตารางหน่วยเคลื่อนที่
END:VEVENT
END:VCALENDAR