BEGIN:VCALENDAR
VERSION:2.0
PRODID:-//เว็บไซต์ศูนย์บริการโลหิตแห่งชาติ - ECPv6.11.2.1//NONSGML v1.0//EN
CALSCALE:GREGORIAN
METHOD:PUBLISH
X-WR-CALNAME:เว็บไซต์ศูนย์บริการโลหิตแห่งชาติ
X-ORIGINAL-URL:https://boo.colorpack.net
X-WR-CALDESC:Events for เว็บไซต์ศูนย์บริการโลหิตแห่งชาติ
REFRESH-INTERVAL;VALUE=DURATION:PT1H
X-Robots-Tag:noindex
X-PUBLISHED-TTL:PT1H
BEGIN:VTIMEZONE
TZID:Asia/Krasnoyarsk
BEGIN:STANDARD
TZOFFSETFROM:+0700
TZOFFSETTO:+0700
TZNAME:+07
DTSTART:20250101T000000
END:STANDARD
END:VTIMEZONE
BEGIN:VTIMEZONE
TZID:Asia/Bangkok
BEGIN:STANDARD
TZOFFSETFROM:+0700
TZOFFSETTO:+0700
TZNAME:+07
DTSTART:20250101T000000
END:STANDARD
END:VTIMEZONE
BEGIN:VEVENT
DTSTART;TZID=Asia/Krasnoyarsk:20251215T090000
DTEND;TZID=Asia/Krasnoyarsk:20251215T110000
DTSTAMP:20260425T174503
CREATED:20251208T073609Z
LAST-MODIFIED:20251208T073609Z
UID:10004694-1765789200-1765796400@boo.colorpack.net
SUMMARY:บริษัท วิทยุการบินแห่งประเทศไทย จำกัด []
DESCRIPTION:สถานที่เจาะ : ข้างห้องปฐมพยาบาล \nที่อยู่ : 102 ซอยงามดูพลี ถนนนางลิ้นจี่ แขวงทุ่งมหาเมฆ เขตสาทร กรุงเทพฯ 0 2287 8567
URL:https://boo.colorpack.net/event/%e0%b8%9a%e0%b8%a3%e0%b8%b4%e0%b8%a9%e0%b8%b1%e0%b8%97-%e0%b8%a7%e0%b8%b4%e0%b8%97%e0%b8%a2%e0%b8%b8%e0%b8%81%e0%b8%b2%e0%b8%a3%e0%b8%9a%e0%b8%b4%e0%b8%99%e0%b9%81%e0%b8%ab%e0%b9%88%e0%b8%87-4/
LOCATION:บริษัท วิทยุการบินแห่งประเทศไทย จำกัด\, บริษัท วิทยุการบินแห่งประเทศไทย จำกัด 102 ซอยงามดูพลี ถนนนางลิ้นจี่ แขวงทุ่งมหาเมฆ เขตสาทร กรุงเทพฯ 10120
CATEGORIES:ปฏิทินตารางหน่วยเคลื่อนที่
END:VEVENT
BEGIN:VEVENT
DTSTART;TZID=Asia/Bangkok:20250917T090000
DTEND;TZID=Asia/Bangkok:20250917T110000
DTSTAMP:20260425T174503
CREATED:20250908T064757Z
LAST-MODIFIED:20250908T064757Z
UID:10003263-1758099600-1758106800@boo.colorpack.net
SUMMARY:บริษัท วิทยุการบินแห่งประเทศไทย จำกัด [0]
DESCRIPTION:สถานที่เจาะ : ข้างห้องปฐมพยาบาล \nที่อยู่ : 102 ซอยงามดูพลี ถนนนางลิ้นจี่ แขวงทุ่งมหาเมฆ เขตสาทร กรุงเทพฯ 0 2287 8567
URL:https://boo.colorpack.net/event/%e0%b8%9a%e0%b8%a3%e0%b8%b4%e0%b8%a9%e0%b8%b1%e0%b8%97-%e0%b8%a7%e0%b8%b4%e0%b8%97%e0%b8%a2%e0%b8%b8%e0%b8%81%e0%b8%b2%e0%b8%a3%e0%b8%9a%e0%b8%b4%e0%b8%99%e0%b9%81%e0%b8%ab%e0%b9%88%e0%b8%87-3/
LOCATION:บริษัท วิทยุการบินแห่งประเทศไทย จำกัด\, บริษัท วิทยุการบินแห่งประเทศไทย จำกัด 102 ซอยงามดูพลี ถนนนางลิ้นจี่ แขวงทุ่งมหาเมฆ เขตสาทร กรุงเทพฯ 10120
CATEGORIES:ปฏิทินตารางหน่วยเคลื่อนที่
END:VEVENT
BEGIN:VEVENT
DTSTART;TZID=Asia/Bangkok:20250618T090000
DTEND;TZID=Asia/Bangkok:20250618T110000
DTSTAMP:20260425T174503
CREATED:20250612T090825Z
LAST-MODIFIED:20250619T031808Z
UID:10002139-1750237200-1750244400@boo.colorpack.net
SUMMARY:บริษัท วิทยุการบินแห่งประเทศไทย จำกัด []
DESCRIPTION:สถานที่เจาะ : ข้างห้องปฐมพยาบาล \nที่อยู่ : 102 ซอยงามดูพลี ถนนนางลิ้นจี่ แขวงทุ่งมหาเมฆ เขตสาทร กรุงเทพฯ 0 2287 8567
URL:https://boo.colorpack.net/event/%e0%b8%9a%e0%b8%a3%e0%b8%b4%e0%b8%a9%e0%b8%b1%e0%b8%97-%e0%b8%a7%e0%b8%b4%e0%b8%97%e0%b8%a2%e0%b8%b8%e0%b8%81%e0%b8%b2%e0%b8%a3%e0%b8%9a%e0%b8%b4%e0%b8%99%e0%b9%81%e0%b8%ab%e0%b9%88%e0%b8%87-2/
LOCATION:บริษัท วิทยุการบินแห่งประเทศไทย จำกัด\, บริษัท วิทยุการบินแห่งประเทศไทย จำกัด 102 ซอยงามดูพลี ถนนนางลิ้นจี่ แขวงทุ่งมหาเมฆ เขตสาทร กรุงเทพฯ 10120
CATEGORIES:ปฏิทินตารางหน่วยเคลื่อนที่
END:VEVENT
BEGIN:VEVENT
DTSTART;TZID=Asia/Bangkok:20250319T090000
DTEND;TZID=Asia/Bangkok:20250319T110000
DTSTAMP:20260425T174503
CREATED:20250315T041144Z
LAST-MODIFIED:20250315T041144Z
UID:10000952-1742374800-1742382000@boo.colorpack.net
SUMMARY:บริษัท วิทยุการบินแห่งประเทศไทย จำกัด [0E0034]
DESCRIPTION:สถานที่เจาะ : ข้างห้องปฐมพยาบาล \nที่อยู่ : 102 ซอยงามดูพลี ถนนนางลิ้นจี่ แขวงทุ่งมหาเมฆ เขตสาทร กรุงเทพฯ 0 2287 8567
URL:https://boo.colorpack.net/event/%e0%b8%9a%e0%b8%a3%e0%b8%b4%e0%b8%a9%e0%b8%b1%e0%b8%97-%e0%b8%a7%e0%b8%b4%e0%b8%97%e0%b8%a2%e0%b8%b8%e0%b8%81%e0%b8%b2%e0%b8%a3%e0%b8%9a%e0%b8%b4%e0%b8%99%e0%b9%81%e0%b8%ab%e0%b9%88%e0%b8%87%e0%b8%9b/
LOCATION:บริษัท วิทยุการบินแห่งประเทศไทย จำกัด\, บริษัท วิทยุการบินแห่งประเทศไทย จำกัด 102 ซอยงามดูพลี ถนนนางลิ้นจี่ แขวงทุ่งมหาเมฆ เขตสาทร กรุงเทพฯ 10120
CATEGORIES:ปฏิทินตารางหน่วยเคลื่อนที่
END:VEVENT
END:VCALENDAR